Workbook

Sheet POSTER
A1: REKAPITULASI SERANGAN HAMA, PENYAKIT DAN GULMA TANAMAN PERKEBUNAN TRIWULAN IV
A2: UPTD - P2TP TAHUN ANGGARAN 2017
A3: DINAS PERKEBUNAN PROVINSI KALIMANTAN TIMUR
A6: No | B6: Kabupaten / Kota | C6: Jenis Komoditi / | D6: Luas Komoditi | F6: Jenis OPT | G6: Luas Serangan (Ha) | J6: Luas Pengendalian (Ha) | N6: Jumlah | O6: Cara Pengendalian | P6: Kerugian
C7: Kab, Kec, Desa | D7: ( Ha ) | G7: Ringan | H7: Berat | I7: Jumlah | J7: APBN | K7: APBD I | L7: APBD II | M7: Masyarakat | N7: ( Ha) | P7: Hasil (Rp)
A8: 1 | C8: 2 | D8: 3 | F8: 4 | G8: 5 | H8: 7 | I8: 8 | J8: 9 | K8: 10 | L8: 11 | M8: 12 | N8: 13 | O8: 14 | P8: 15
A10: 1 | B10: PASER | C10: Lada | D10: 6018 | E10: Ha | F10: Penghisap Buah | G10: 1.5 | H10: 0 | I10: =SUM(G10:H10) -> 1.5 | J10: 0 | K10: 0 | L10: 0 | M10: 2 | N10: =SUM(J10:M10) -> 2 | O10: Mekanis/Teknis | P10: 782388.5
C11: Kelapa | D11: 727 | E11: Ha | F11: Sexapa sp, | G11: 0.75 | H11: 0 | I11: =SUM(G11:H11) -> 0.75 | J11: 0 | K11: 0 | L11: 0 | M11: 1.5 | N11: =SUM(J11:M11) -> 1.5 | O11: Teknis/Mekanis | P11: 162936
F12: Orytes rhinoceros | G12: 1 | H12: 0 | I12: =SUM(G12:H12) -> 1 | J12: 0 | K12: 0 | L12: 0 | M12: 2 | N12: =SUM(J12:M12) -> 2 | O12: Teknis/Mekanis | P12: 141211.2
C13: Kelapa Sawit | D13: =PERKAB.P!C65 -> 36819 | E13: Ha | F13: Curvularia sp | G13: 1.5 | H13: 1.5 | I13: =G13+H13 -> 3 | J13: 0 | K13: 0 | L13: 0 | M13: 3 | N13: =SUM(J13:M13) -> 3 | O13: Mekanis/Kimia | P13: 1726358.3
F14: Ganoderma, sp | G14: 30.06 | H14: 15.05 | I14: =G14+H14 -> 45.11 | J14: 0 | K14: 0 | L14: 0 | M14: 60 | N14: =SUM(J14:M14) -> 60 | O14: Mekanis/Teknis/Biofungisida | P14: 36340533
C15: Karet | D15: =PERKAB.P!C69 -> - | E15: Ha | F15: JAP | G15: 21 | H15: 1.5 | I15: =G15+H15 -> 22.5 | J15: 0 | K15: 0 | L15: 0 | M15: 33 | N15: =SUM(J15:M15) -> 33 | O15: - | P15: 11197182
F16: KAS | G16: 1.5 | H16: 0 | I16: =G16+H16 -> 1.5 | J16: 0 | K16: 0 | L16: 0 | M16: 3 | N16: =M16 -> 3 | P16: 559883.52
C17: Kakao | D17: 797 | F17: PBK | G17: 1 | H17: 0.5 | I17: =SUM(G17:H17) -> 1.5 | J17: 0 | K17: 0 | L17: 0 | M17: 1 | N17: =SUM(J17:M17) -> 1 | O17: Teknis/Mekanis | P17: 310140
A19: 2 | B19: KUTAI TIMUR | C19: Lada | D19: 257 | E19: Ha | F19: Busuk Pangkal Batang | G19: 22.2 | H19: 0 | I19: =G19+H19 -> 22.2 | J19: 0 | K19: 0 | L19: 0 | M19: 22.2 | N19: =M19 -> 22.2 | O19: Kultur Teknis dan Kimia | P19: 0
C20: Kelapa | D20: - | F20: - | G20: 0 | H20: 0 | I20: - | J20: 0 | K20: 0 | L20: 0 | M20: 0 | N20: - | O20: - | P20: -
C21: Kelapa Sawit | D21: 3210.7 | E21: Ha | F21: Tikus | G21: 5.85 | H21: 0 | I21: =G21+H21 -> 5.85 | J21: 0 | K21: 0 | L21: 0 | M21: 2.15 | N21: =J21+K21+L21+M21 -> 2.15 | O21: Menggunakan potongan rambut | P21: -
F22: Landak | G22: 0.85 | H22: 0 | I22: =G22+H22 -> 0.85 | J22: 0 | K22: 0 | L22: 0 | N22: =J22+K22+L22+M22 -> 0 | O22: Menggunakan potongan rambut
F23: Orang hutan | G23: 1.5 | H23: 0 | I23: =G23+H23 -> 1.5 | J23: 0 | K23: 0 | L23: 0 | M23: 0.5 | N23: =J23+K23+L23+M23 -> 0.5 | O23: Jebakan
D24: 232 | E24: Ha | F24: Ulat Kantong | G24: 1 | H24: 0 | I24: =G24+H24 -> 1 | J24: 0 | K24: 0 | L24: 0 | M24: 1 | N24: =J24+K24+L24+M24 -> 1 | O24: Menggunakan Teknis Budidaya, Kimia
D25: 89 | E25: Ha | F25: Busuk Buah | G25: 14.8 | H25: 2.2 | I25: =G25+H25 -> 17 | M25: 3.9 | N25: =SUM(J25:M25) -> 3.9 | O25: Kultur Teknis
C26: Kakao | D26: 89 | E26: Ha | F26: PBK | G26: 28.45 | H26: 8.04 | I26: =G26+H26 -> 36.49 | J26: 0 | K26: 0 | L26: 0 | M26: 16.9 | N26: =SUM(J26:M26) -> 16.9 | O26: Kultur Teknis Biologis, Kimia | P26: -
F27: Helopeltis | G27: 19.3 | H27: 2.75 | I27: =G27+H27 -> 22.05 | M27: 6.7 | N27: =SUM(J27:M27) -> 6.7 | O27: Kultur Teknis
F28: Tupai | G28: 0.9 | H28: 0 | I28: =G28+H28 -> 0.9 | M28: 0.8 | N28: =SUM(J28:M28) -> 0.8 | O28: Mekanis
F29: Penggerek Batang | G29: 6.6 | H29: 0 | I29: =G29+H29 -> 6.6 | M29: 3.4 | N29: =SUM(J29:M29) -> 3.4 | O29: Biologis
C30: Karet | D30: 2272.1 | E30: Ha | F30: Rayap | G30: 24.8 | H30: 0 | I30: =G30+H30 -> 24.8 | J30: 0 | K30: 0 | L30: 0 | M30: 24.8 | N30: =SUM(J30:M30) -> 24.8 | P30: -
F31: Jamur Akar Putih | G31: 64.33 | H31: 0 | I31: =SUM(G31:H31) -> 64.33 | J31: 0 | K31: 0 | L31: 0 | M31: 6.73 | N31: =SUM(J31:M31) -> 6.73 | O31: Kultur Teknis, Mekanis, Hayati
F32: JAP | G32: 32.8 | H32: 0 | I32: =G32+H32 -> 32.8 | J32: 0 | K32: 0 | L32: 0 | M32: 18.1 | N32: =SUM(J32:M32) -> 18.1 | O32: Belum dikendalikan | P32: -
F33: KAS | G33: 3 | H33: 0 | I33: =G33+H33 -> 3 | J33: 0 | K33: 0 | L33: 0 | M33: 0 | N33: =SUM(J33:M33) -> 0
A35: 3 | B35: KUTAI KARTANEGARA | C35: Lada | D35: 1145 | E35: Ha | F35: Busuk Pangkal Batang | G35: 0.22 | H35: 0 | I35: =SUM(G35:H35) -> 0.22 | J35: 0 | K35: 0 | L35: 0 | M35: 0.22 | N35: =SUM(J35:M35) -> 0.22 | O35: Menjaga kebersihan kebun/Mekanik | P35: 0
F36: Penggerek Batang | G36: 8 | H36: 0 | I36: =SUM(G36:H36) -> 8 | J36: 0 | K36: 0 | L36: 1 | M36: 2 | N36: =SUM(J36:M36) -> 3 | O36: Mengunakan Pesnab dan ada yg belum dikendalikan | P36: 0
C37: Kelapa | D37: 5183 | E37: Ha | F37: Kera | G37: 10 | H37: 0 | I37: =SUM(G37:H37) -> 10 | J37: 0 | K37: 0 | L37: 0 | M37: 0 | N37: =SUM(J37:M37) -> 0 | O37: Menjaga kebersihan kebun | P37: -
F38: Artona, sp | G38: 0.5 | H38: 0 | I38: =SUM(G38:H38) -> 0.5 | J38: 0 | K38: 0 | L38: 0 | M38: 0 | N38: =SUM(J38:M38) -> 0 | O38: Menjaga kebersihan kebun
F39: Babi Hutan | G39: 2 | H39: 0 | I39: =SUM(G39:H39) -> 2 | J39: 0 | K39: 0 | L39: 0 | M39: 2 | N39: =SUM(J39:M39) -> 2 | O39: Secara Mekanik
C40: Kelapa Sawit | D40: 3846.5 | E40: Ha | F40: Tikus | G40: 0.65 | H40: 0 | I40: =SUM(G40:H40) -> 0.65 | J40: 0 | K40: 0 | L40: 0 | M40: 0.5 | N40: =SUM(J40:M40) -> 0.5 | O40: Secara Mekanik/menjaga kebersihan kebun
F41: Oryctes sp | G41: 24.5 | H41: 0 | I41: =SUM(G41:H41) -> 24.5 | J41: 0 | K41: 0 | L41: 0 | M41: 24.5 | N41: =SUM(J41:M41) -> 24.5 | O41: Secara Kimiawi (Dhitane)
F42: Kutu Daun | G42: 0.25 | H42: 0 | I42: =SUM(G42:H42) -> 0.25 | J42: 0 | K42: 0 | L42: 0 | M42: 0.25 | N42: =SUM(J42:M42) -> 0.25 | O42: Secara mekanik dan kimiawi
C43: Kakao | D43: - | F43: - | G43: 0 | H43: 0 | I43: - | J43: 0 | K43: 0 | L43: 0 | M43: 0 | N43: - | O43: - | P43: -
C44: Karet | D44: 20 | E44: Ha | F44: Rayap | G44: 15 | H44: 3 | I44: =SUM(G44:H44) -> 18 | J44: 0 | K44: 0 | L44: 0 | M44: 13 | N44: =SUM(J44:M44) -> 13 | O44: Pengendalian secara kimiawi | P44: 187425
D45: 11581.95 | E45: Ha | F45: Jamur Akar Putih | G45: 33.3 | H45: 8.5 | I45: =SUM(G45:H45) -> 41.8 | J45: 0 | K45: 0 | L45: 0 | M45: 18 | N45: =SUM(J45:M45) -> 18 | O45: Secara Kimia, Mekanik dan Biologi (APH) | P45: 0
...

Sheet LAPORAN TRIWULAN I
A2: REKAPITULASI SERANGAN HAMA PENYAKIT DAN GULMA TANAMAN PERKEBUNAN
A3: DI PROVINSI KALIMANTAN TIMUR TRIWULAN I
A4: TAHUN ANGGARAN 2018
A6: No | B6: Jenis Komoditi | C6: Kabupaten/Kota | D6: Luas Komoditi | F6: Jenis OPT | G6: Luas Serangan (Ha) | J6: Luas Pengendalian (Ha) | N6: Jumlah | O6: Cara Pengendalian | P6: Kerugian
D7: ( Ha ) | G7: Ringan | H7: Berat | I7: Jumlah | J7: APBN | K7: APBD I | L7: APBD II | M7: Masyarakat | N7: ( Ha) | P7: Hasil (Rp)
A8: 1 | B8: 2 | D8: 3 | F8: 4 | G8: 5 | H8: 7 | I8: 8 | J8: 9 | K8: 10 | L8: 11 | M8: 12 | N8: 13 | O8: 14 | P8: 15
A10: 1 | B10: Lada | C10: Paser | D10: 6018 | E10: Ha | F10: Penghisap Buah | G10: 1.5 | H10: 0 | I10: =SUM(G10:H10) -> 1.5 | J10: 0 | K10: 0 | L10: 0 | M10: 2 | N10: =SUM(J10:M10) -> 2 | O10: Mekanis/Teknis | P10: 782388.5
C12: Balikpapan | D12: 76 | E12: Ha | F12: Penggerek Batang | G12: 0.5 | H12: 0 | I12: =SUM(G12:H12) -> 0.5 | J12: 0 | K12: 0 | L12: 0 | M12: 0.5 | N12: =SUM(J12:M12) -> 0.5 | O12: Penyiangan terbatas, cara mekanis memotong | P12: Produksi Menurun
F13: (Lophobaris piperis) | O13: cabang-cabang yang terserang dan membunuh
O14: semua larva yang ditemukan dan menanam
O15: tanaman sela dan penutup tanah serta menanam
O16: dengan menggunakan varietas toleran terhadap
O17: hama tersebut.
F18: Penghisap Buah | G18: 0.5 | H18: 0 | I18: =SUM(G18:H18) -> 0.5 | J18: 0 | K18: 0 | L18: 0 | M18: 0.5 | N18: =SUM(J18:M18) -> 0.5 | O18: Musnahkan telur dipermukaan daun, cabang dan | P18: Produksi Menurun
F19: (Dasynus piperia) | O19: yang ada pada tandan buah kemuadian disemprot
O20: dengan pestisida nabati atau kimia.
F21: Kutu kebul/Kutu Putih | G21: 1 | H21: 0 | I21: =SUM(G21:H21) -> 1 | J21: 0 | K21: 0 | L21: 0 | M21: 1 | N21: =SUM(J21:M21) -> 1 | O21: Pengendalian secara kultur teknis, sanitasi kebun, | P21: Produksi Menurun
F22: (bermisia tabacci) | O22: pemupukan berimbang dan pengendalian secara
O23: mekanis dan kimia
F24: Penyakit Busuk Pangkal Batang | G24: 0.75 | H24: 0 | I24: =SUM(G24:H24) -> 0.75 | J24: 0 | K24: 0 | L24: 0 | M24: 0.75 | N24: =SUM(J24:M24) -> 0.75 | O24: Sanitasi Kebun, pemupukan berimbang, menanam | P24: Produksi Menurun
O25: tanaman penutup tanah, membuat parit, isolasi
F26: (jamur phytopthora | O26: dan penyiraman/penyemprotan larutan fungisida.
F27: palmivora var piperis)
F28: Penyakit Kuning | G28: 0.75 | H28: 0 | I28: =SUM(G28:H28) -> 0.75 | J28: 0 | K28: 0 | L28: 0 | M28: 0.75 | N28: =SUM(J28:M28) -> 0.75 | O28: Sanitasi kebun, pemupukan berimbang sesuai | P28: Produksi Menurun
F29: (cacing halus nematoda) | O29: dosis anjuran, pemangkasan pemeliharaan dan
F30: Radhophalus similis | O30: penaburan nematisida serta pemyemprotan dengan
O31: Pesnab
F32: Penyakit Kuning | G32: 0.1 | H32: 0 | I32: =G32+H32 -> 0.1 | J32: 0 | K32: 0 | L32: 0 | M32: 0.1 | N32: =SUM(J32:M32) -> 0.1 | O32: Pengaturan drainase kebun dengan parit isolasi dan | P32: Produksi Menurun
O33: Pemberian Pupuk sesuai anjuran
C35: Kutai Timur | D35: 257 | E35: Ha | F35: Busuk Pangkal Batang | G35: 22.2 | H35: 0 | I35: =G35+H35 -> 22.2 | J35: 0 | K35: 0 | L35: 0 | M35: 22.2 | N35: =M35 -> 22.2 | O35: Kultur Teknis dan Kimia | P35: 0
C37: Kutai Kartanegara | D37: 1145 | E37: Ha | F37: Penggerek Batang | G37: 8 | H37: 0 | I37: =SUM(G37:H37) -> 8 | J37: 0 | K37: 0 | L37: 1 | M37: 2 | N37: =SUM(J37:M37) -> 3 | O37: Mengunakan Pesnab dan ada yg belum dikendalikan | P37: 0
E38: Ha | F38: Busuk Pangkal Batang | G38: 0.22 | H38: 0 | I38: =SUM(G38:H38) -> 0.22 | J38: 0 | K38: 0 | L38: 0 | M38: 0.22 | N38: =SUM(J38:M38) -> 0.22 | O38: Menjaga kebersihan kebun/Mekanik | P38: 0
C40: Berau | D40: 1654.3 | E40: Ha | F40: Phytophtora (BPB) | G40: 17.5 | H40: 2.5 | I40: =SUM(G40:H40) -> 20 | J40: 0 | K40: 0 | L40: 0.5 | M40: 7 | N40: =SUM(J40:M40) -> 7.5 | O40: Kultur Teknis dan Kimia | P40: 0
F41: Pengisap Bunga | G41: 3.5 | H41: 0 | I41: =SUM(G41:H41) -> 3.5 | J41: 0 | K41: 0 | L41: 0 | M41: 1 | N41: =SUM(J41:M41) -> 1 | O41: -
F42: Penghisap Buah | G42: 15 | H42: 0 | I42: =SUM(G42:H42) -> 15 | J42: 0 | K42: 0 | L42: 0 | M42: 2.5 | N42: =SUM(J42:M42) -> 2.5 | O42: -
F43: Jamur Upas | G43: 1 | H43: 0 | I43: =SUM(G43:H43) -> 1 | J43: 0 | K43: 0 | L43: 0 | M43: 0 | N43: =SUM(J43:M43) -> 0 | O43: -
F44: Marasmius | G44: 3.6 | H44: 0 | I44: =SUM(G44:H44) -> 3.6 | J44: 0 | K44: 0 | L44: 0 | M44: 0 | N44: =SUM(J44:M44) -> 0 | O44: -
F45: Busuk Pangkal Batang | G45: 3.6 | H45: 0 | I45: =SUM(G45:H45) -> 3.6 | J45: 0 | K45: 0 | L45: 0 | M45: 0.5 | N45: =SUM(J45:M45) -> 0.5 | O45: -
C47: Samarinda | D47: - | F47: - | G47: - | H47: - | I47: - | J47: 0 | K47: 0 | L47: 0 | M47: - | N47: - | O47: - | P47: 0
C49: Kutai Barat | D49: - | F49: - | G49: - | H49: - | I49: - | J49: 0 | K49: 0 | L49: 0 | M49: - | N49: - | O49: - | P49: 0
...

Sheet Grafik2
B2: DATA TINGGKAT SERANGAN HAMA dan GULMA TANAMAN PERKEBUNAN PER KOMODITI PADA TRIWULAN IV
B3: TAHUN ANGGARAN 2017
B5: No. | C5: Uraian | D5: KOMODITI
D6: Lada | E6: Kelapa | F6: Kelapa Sawit | G6: Karet | H6: Kakao
B7: 1 | C7: Penghisap buah | D7: ='Rekap S.Hama'!A130 -> 26.08 | G7: ='Rekap S.Hama'!C130 -> 7
B8: =B7+1 -> 2 | C8: Sexapa sp | E8: ='Rekap S.Hama'!B131 -> 0.75
B9: =B8+1 -> 3 | C9: Orytes rhinoceros | E9: ='Rekap S.Hama'!B132 -> 20.17 | F9: ='Rekap S.Hama'!E132 -> 24.5
B10: =B9+1 -> 4 | C10: PBK | H10: ='Rekap S.Hama'!C133 -> 87.93
B11: =B10+1 -> 5 | C11: Tikus | F11: ='Rekap S.Hama'!E134 -> 64.45 | H11: ='Rekap S.Hama'!C134 -> 0.62
B12: =B11+1 -> 6 | C12: Landak | F12: ='Rekap S.Hama'!E135 -> 58.8
B13: =B12+1 -> 7 | C13: Orang hutan | F13: ='Rekap S.Hama'!E136 -> 1.5
B14: =B13+1 -> 8 | C14: Ulat Kantong | F14: ='Rekap S.Hama'!E137 -> 1
B15: =B14+1 -> 9 | C15: Helopeltis | H15: ='Rekap S.Hama'!C138 -> 29.6
B16: =B15+1 -> 10 | C16: Tupai | H16: ='Rekap S.Hama'!C139 -> 14.97
B17: =B16+1 -> 11 | C17: Penggerek batang | D17: ='Rekap S.Hama'!A140 -> 17.58 | H17: ='Rekap S.Hama'!C140 -> 6.6
B18: =B17+1 -> 12 | C18: Rayap | D18: ='Rekap S.Hama'!A141 -> 8 | G18: ='Rekap S.Hama'!D141 -> 48.01
B19: =B18+1 -> 13 | C19: Kera | E19: ='Rekap S.Hama'!B142 -> 12.34
B20: =B19+1 -> 14 | C20: Arthona | E20: ='Rekap S.Hama'!B143 -> 13.65
B21: =B20+1 -> 15 | C21: Babi hutan | E21: ='Rekap S.Hama'!B144 -> 9.83 | F21: ='Rekap S.Hama'!E144 -> 39.45 | G21: ='Rekap S.Hama'!D144 -> 17 | H21: ='Rekap S.Hama'!C144 -> 0.24
B22: =B21+1 -> 16 | C22: Kutu daun | F22: ='Rekap S.Hama'!E145 -> 0.25
B23: =B22+1 -> 17 | C23: Penghisap bunga | D23: ='Rekap S.Hama'!A146 -> 12.58
B24: 18 | C24: Brontispa | E24: ='Rekap S.Hama'!B147 -> 3.5
B25: 19 | C25: Beruang | E25: ='Rekap S.Hama'!B148 -> 25
B26: 20 | C26: Ulat api | F26: ='Rekap S.Hama'!E149 -> 0.7
B27: 21 | C27: Tungau | G27: ='Rekap S.Hama'!D150 -> 2 | H27: ='Rekap S.Hama'!E150 -> 2
B28: 22 | C28: Kijang | G28: ='Rekap S.Hama'!D151 -> 12.93
A31: Grafik | B31: Tinggkat serangan Hama dan Gulma Tanaman Perkebunan Per Komoditi pada Triwulan IV
A62: Ket. | B62: Dari hasil grafik diperoleh tingkat serangan hama yang paling tinggi adalah Hama PBK yang menyerang pada tanaman kakao dengan tingkat serangan mencapai 87.83. Hama Tikus yang menyerang pada tanaman Kelapa Sawit dengan tingkat serangan sebesar 64.45 Ha, Hama Landak yang menyerang pada tanaman Kelapa Sawit dengan tingkat serangan 58.80 Ha, Hama rayap yang menyerang tanaman karet dengan tingkat serangan 48.01 Ha dan Babi hutan yang menyerang tanaman kelapa sawit dengan tingkat serangan 39.45 Ha, untuk hama yang lain tingkat seranganya tidak terlalu dominan.
G68: Samarinda, Desember 2017
G69: Mengetahui,
G70: Kepala UPTD - P2TP
G74: Ir. Supriyadi, M.Si
G75: NIP. 196011081988031008
B92: DATA TINGGKAT SERANGAN PENYAKIT TANAMAN PERKEBUNAN PER KOMODITI PADA TRIWULAN IV
B93: TAHUN ANGGARAN 2017
B96: No. | C96: URAIAN | D96: KOMODITI
D97: Lada | E97: Kelapa | F97: Kakao | G97: Karet | H97: K Sawit
B98: 1 | C98: Ganoderma, sp | G98: 0 | H98: 23.68
B99: =B98+1 -> 2 | C99: Busuk Pangkal Batang | D99: 55.34
B100: =B99+1 -> 3 | C100: Busuk Buah Kaka0 | F100: 31.59 | R100: KOMODITI
...

Sheet Grafik1
B3: DATA LUAS SERANGAN DAN LUAS PENGENDALIAN OPT TANAMAN PERKEBUNAN
B4: TRI WULAN IV TAHUN ANGGARAN 2017
B6: No. | C6: Luas Serangan | D6: Luas Pengendalian
B7: Lada | C7: ='Rekap H.P'!I178 -> 152.4 | D7: ='Rekap H.P'!N178 -> 42.52
B8: Kelapa | C8: ='Rekap H.P'!I179 -> 104.53 | D8: ='Rekap H.P'!N179 -> 13.95
B9: Kelapa Sawit | C9: ='Rekap H.P'!I180 -> 405.05 | D9: ='Rekap H.P'!N180 -> 182.79
B10: Kakao | C10: ='Rekap H.P'!I181 -> 167.48 | D10: ='Rekap H.P'!N181 -> 51.8
B11: Karet | C11: ='Rekap H.P'!I182 -> 911.16 | D11: ='Rekap H.P'!N182 -> 168.81
B14: Grafik Luas Tingkat Serangan dan Pengendalian OPT Tanaman Perkebunan TRI WULAN IV
A35: Ket. | B35: Dari hasil grafik perkembangan luas serangan OPT dan Luas Pengendalian OPT Tanaman Perkebunan pada Tri wulan IV dari 5 Komoditi unggulan yang mengalami tingkat serangan OPT paling tinggi adalah komoditi Karet sebesar 911.16 Ha yang telah dilakukan pengendalian sebesar 168.81 Ha untuk komoditi Kelapa Sawit luas serangan mencapai 405.05 Ha dan luas pengendalikan seluas 182.79 Ha, untuk komoditi kakao tingkat serangan OPT seluas 167.48 Ha dengan luas pengendalian 51.80 Ha, sedangkan komoditi lada tingkat serangan OPT mencapai 152.40 Ha dan luas pengendaliannya 42.52 Ha untuk Komoditi Kelapa serangan OPT mencapai 104.53 Ha dan luas pengendalian seluas 13.95 Ha.
D42: Samarinda, Desember 2017
D43: Mengetahui,
D44: Kepala UPTD - P2TP
D48: Ir. Supriyadi, M.Si
D49: NIP. 196011081988031008
B76: DATA LUAS SERANGAN DAN LUAS PENGENDALIAN HAMA TANAMAN PERKEBUNAN
B77: TRI WULAN IV TAHUN ANGGARAN 2017
B79: Hama Yang Menyerang | C79: Luas Serangan | D79: Luas Pengendalian
B80: Penghisap buah | C80: ='Rekap S.Hama'!M130 -> 33.08 | D80: ='Rekap S.Hama'!N130 -> 5
B81: Sexapa sp | C81: ='Rekap S.Hama'!M131 -> 0.75 | D81: ='Rekap S.Hama'!N131 -> 1.5
B82: Orytes rhinoceros | C82: ='Rekap S.Hama'!M132 -> 44.67 | D82: ='Rekap S.Hama'!N132 -> 28.1
B83: PBK | C83: ='Rekap S.Hama'!M133 -> 87.93 | D83: ='Rekap S.Hama'!N133 -> 40.9
B84: Tikus | C84: ='Rekap S.Hama'!M134 -> 65.07 | D84: ='Rekap S.Hama'!N134 -> 10.32
B85: Landak | C85: ='Rekap S.Hama'!M135 -> 58.8 | D85: ='Rekap S.Hama'!N135 -> 26.17
B86: Orang hutan | C86: ='Rekap S.Hama'!M136 -> 1.5 | D86: ='Rekap S.Hama'!N136 -> 0.5
B87: Ulat Kantong | C87: ='Rekap S.Hama'!M137 -> 1 | D87: ='Rekap S.Hama'!N137 -> 4
B88: Helopeltis | C88: ='Rekap S.Hama'!M138 -> 29.6 | D88: ='Rekap S.Hama'!N138 -> 6.7
B89: Tupai | C89: ='Rekap S.Hama'!M139 -> 14.97 | D89: ='Rekap S.Hama'!N139 -> 2.4
B90: Penggerek batang | C90: 33.08 | D90: ='Rekap S.Hama'!N140 -> 6.9
B91: Rayap | C91: ='Rekap S.Hama'!M141 -> 56.01 | D91: ='Rekap S.Hama'!N141 -> 39.72
B92: Kera | C92: 33.08 | D92: ='Rekap S.Hama'!N142 -> 0.28
B93: Artona, sp | C93: ='Rekap S.Hama'!M143 -> 13.65 | D93: ='Rekap S.Hama'!N143 -> 3.1
B94: Babi hutan | C94: ='Rekap S.Hama'!M144 -> 66.52 | D94: ='Rekap S.Hama'!N144 -> 12.38
B95: Kutu daun | C95: ='Rekap S.Hama'!M145 -> 0.25 | D95: ='Rekap S.Hama'!N145 -> 1.75
B96: Pengisap bunga | C96: ='Rekap S.Hama'!M146 -> 12.58 | D96: ='Rekap S.Hama'!N146 -> 1
B97: Brontispa | C97: ='Rekap S.Hama'!M147 -> 3.5 | D97: 0
B98: Beruang | C98: ='Rekap S.Hama'!M148 -> 25 | D98: 0
B99: Ulat Api | C99: ='Rekap S.Hama'!M149 -> 0.7 | D99: 0
B100: Tungau | C100: ='Rekap S.Hama'!M150 -> 4 | D100: 0
B101: Kijang | C101: ='Rekap S.Hama'!M151 -> 12.93 | D101: ='Rekap S.Hama'!N151 -> 3.2
...

Sheet Rekap H.P
A1: REKAPITULASI SERANGAN HAMA, PENYAKIT DAN GULMA TANAMAN PERKEBUNAN TRIWULAN IV
A2: UPTD - P2TP TAHUN ANGGARAN 2017
A3: DINAS PERKEBUNAN PROVINSI KALIMANTAN TIMUR
A6: No | B6: Kabupaten / Kota | C6: Jenis Komoditi / | D6: Luas Komoditi | F6: Jenis OPT | G6: Luas Serangan (Ha) | J6: Luas Pengendalian (Ha) | N6: Jumlah | O6: Cara Pengendalian | P6: Kerugian
C7: Kab, Kec, Desa | D7: ( Ha ) | G7: Ringan | H7: Berat | I7: Jumlah | J7: APBN | K7: APBD I | L7: APBD II | M7: Masyarakat | N7: ( Ha) | P7: Hasil (Rp)
A8: 1 | C8: 2 | D8: 3 | F8: 4 | G8: 5 | H8: 7 | I8: 8 | J8: 9 | K8: 10 | L8: 11 | M8: 12 | N8: 13 | O8: 14 | P8: 15
A10: 1 | B10: PASER | C10: Lada | D10: 6018 | E10: Ha | F10: Penghisap Buah | G10: 1.5 | H10: 0 | I10: =SUM(G10:H10) -> 1.5 | J10: 0 | K10: 0 | L10: 0 | M10: 2 | N10: =SUM(J10:M10) -> 2 | O10: Mekanis/Teknis | P10: 782388.5
C11: Kelapa | D11: 727 | E11: Ha | F11: Sexapa sp, | G11: 0.75 | H11: 0 | I11: =SUM(G11:H11) -> 0.75 | J11: 0 | K11: 0 | L11: 0 | M11: 1.5 | N11: =SUM(J11:M11) -> 1.5 | O11: Teknis/Mekanis | P11: 162936
F12: Orytes rhinoceros | G12: 1 | H12: 0 | I12: =SUM(G12:H12) -> 1 | J12: 0 | K12: 0 | L12: 0 | M12: 2 | N12: =SUM(J12:M12) -> 2 | O12: Teknis/Mekanis | P12: 141211.2
C13: Kelapa Sawit | D13: =PERKAB.P!C65 -> 36819 | E13: Ha | F13: Curvularia sp | G13: 1.5 | H13: 1.5 | I13: =G13+H13 -> 3 | J13: 0 | K13: 0 | L13: 0 | M13: 3 | N13: =SUM(J13:M13) -> 3 | O13: Mekanis/Kimia | P13: 1726358.3
F14: Ganoderma, sp | G14: 30.06 | H14: 15.05 | I14: =G14+H14 -> 45.11 | J14: 0 | K14: 0 | L14: 0 | M14: 60 | N14: =SUM(J14:M14) -> 60 | O14: Mekanis/Teknis/Biofungisida | P14: 36340533
C15: Karet | D15: =PERKAB.P!C69 -> - | E15: Ha | F15: JAP | G15: 21 | H15: 1.5 | I15: =G15+H15 -> 22.5 | J15: 0 | K15: 0 | L15: 0 | M15: 33 | N15: =SUM(J15:M15) -> 33 | O15: - | P15: 11197182
F16: KAS | G16: 1.5 | H16: 0 | I16: =G16+H16 -> 1.5 | J16: 0 | K16: 0 | L16: 0 | M16: 3 | N16: =M16 -> 3 | P16: 559883.52
C17: Kakao | D17: 797 | F17: PBK | G17: 1 | H17: 0.5 | I17: =SUM(G17:H17) -> 1.5 | J17: 0 | K17: 0 | L17: 0 | M17: 1 | N17: =SUM(J17:M17) -> 1 | O17: Teknis/Mekanis | P17: 310140
A19: 2 | B19: KUTAI TIMUR | C19: Lada | D19: 257 | E19: Ha | F19: Busuk Pangkal Batang | G19: 22.2 | H19: 0 | I19: =G19+H19 -> 22.2 | J19: 0 | K19: 0 | L19: 0 | M19: 22.2 | N19: =M19 -> 22.2 | O19: Kultur Teknis dan Kimia | P19: 0
C20: Kelapa | D20: - | F20: - | G20: 0 | H20: 0 | I20: - | J20: 0 | K20: 0 | L20: 0 | M20: 0 | N20: - | O20: - | P20: -
C21: Kelapa Sawit | D21: 3210.7 | E21: Ha | F21: Tikus | G21: 5.85 | H21: 0 | I21: =G21+H21 -> 5.85 | J21: 0 | K21: 0 | L21: 0 | M21: 2.15 | N21: =J21+K21+L21+M21 -> 2.15 | O21: Menggunakan potongan rambut | P21: -
F22: Landak | G22: 0.85 | H22: 0 | I22: =G22+H22 -> 0.85 | J22: 0 | K22: 0 | L22: 0 | N22: =J22+K22+L22+M22 -> 0 | O22: Menggunakan potongan rambut
F23: Orang hutan | G23: 1.5 | H23: 0 | I23: =G23+H23 -> 1.5 | J23: 0 | K23: 0 | L23: 0 | M23: 0.5 | N23: =J23+K23+L23+M23 -> 0.5 | O23: Jebakan
D24: 232 | E24: Ha | F24: Ulat Kantong | G24: 1 | H24: 0 | I24: =G24+H24 -> 1 | J24: 0 | K24: 0 | L24: 0 | M24: 1 | N24: =J24+K24+L24+M24 -> 1 | O24: Menggunakan Teknis Budidaya, Kimia
D25: 89 | E25: Ha | F25: Busuk Buah | G25: 14.8 | H25: 2.2 | I25: =G25+H25 -> 17 | M25: 3.9 | N25: =SUM(J25:M25) -> 3.9 | O25: Kultur Teknis
C26: Kakao | D26: 89 | E26: Ha | F26: PBK | G26: 28.45 | H26: 8.04 | I26: =G26+H26 -> 36.49 | J26: 0 | K26: 0 | L26: 0 | M26: 16.9 | N26: =SUM(J26:M26) -> 16.9 | O26: Kultur Teknis Biologis, Kimia | P26: -
F27: Helopeltis | G27: 19.3 | H27: 2.75 | I27: =G27+H27 -> 22.05 | M27: 6.7 | N27: =SUM(J27:M27) -> 6.7 | O27: Kultur Teknis
F28: Tupai | G28: 0.9 | H28: 0 | I28: =G28+H28 -> 0.9 | M28: 0.8 | N28: =SUM(J28:M28) -> 0.8 | O28: Mekanis
F29: Penggerek Batang | G29: 6.6 | H29: 0 | I29: =G29+H29 -> 6.6 | M29: 3.4 | N29: =SUM(J29:M29) -> 3.4 | O29: Biologis
C30: Karet | D30: 2272.1 | E30: Ha | F30: Rayap | G30: 24.8 | H30: 0 | I30: =G30+H30 -> 24.8 | J30: 0 | K30: 0 | L30: 0 | M30: 24.8 | N30: =SUM(J30:M30) -> 24.8 | P30: -
F31: Jamur Akar Putih | G31: 64.33 | H31: 0 | I31: =SUM(G31:H31) -> 64.33 | J31: 0 | K31: 0 | L31: 0 | M31: 6.73 | N31: =SUM(J31:M31) -> 6.73 | O31: Kultur Teknis, Mekanis, Hayati
F32: JAP | G32: 32.8 | H32: 0 | I32: =G32+H32 -> 32.8 | J32: 0 | K32: 0 | L32: 0 | M32: 18.1 | N32: =SUM(J32:M32) -> 18.1 | O32: Belum dikendalikan | P32: -
F33: KAS | G33: 3 | H33: 0 | I33: =G33+H33 -> 3 | J33: 0 | K33: 0 | L33: 0 | M33: 0 | N33: =SUM(J33:M33) -> 0
A35: 3 | B35: KUTAI KARTANEGARA | C35: Lada | D35: 1145 | E35: Ha | F35: Busuk Pangkal Batang | G35: 0.22 | H35: 0 | I35: =SUM(G35:H35) -> 0.22 | J35: 0 | K35: 0 | L35: 0 | M35: 0.22 | N35: =SUM(J35:M35) -> 0.22 | O35: Menjaga kebersihan kebun/Mekanik | P35: 0
F36: Penggerek Batang | G36: 8 | H36: 0 | I36: =SUM(G36:H36) -> 8 | J36: 0 | K36: 0 | L36: 1 | M36: 2 | N36: =SUM(J36:M36) -> 3 | O36: Mengunakan Pesnab dan ada yg belum dikendalikan | P36: 0
C37: Kelapa | D37: 5183 | E37: Ha | F37: Kera | G37: 10 | H37: 0 | I37: =SUM(G37:H37) -> 10 | J37: 0 | K37: 0 | L37: 0 | M37: 0 | N37: =SUM(J37:M37) -> 0 | O37: Menjaga kebersihan kebun | P37: -
F38: Artona, sp | G38: 0.5 | H38: 0 | I38: =SUM(G38:H38) -> 0.5 | J38: 0 | K38: 0 | L38: 0 | M38: 0 | N38: =SUM(J38:M38) -> 0 | O38: Menjaga kebersihan kebun
F39: Babi Hutan | G39: 2 | H39: 0 | I39: =SUM(G39:H39) -> 2 | J39: 0 | K39: 0 | L39: 0 | M39: 2 | N39: =SUM(J39:M39) -> 2 | O39: Secara Mekanik
C40: Kelapa Sawit | D40: 3846.5 | E40: Ha | F40: Tikus | G40: 0.65 | H40: 0 | I40: =SUM(G40:H40) -> 0.65 | J40: 0 | K40: 0 | L40: 0 | M40: 0.5 | N40: =SUM(J40:M40) -> 0.5 | O40: Secara Mekanik/menjaga kebersihan kebun
F41: Oryctes sp | G41: 24.5 | H41: 0 | I41: =SUM(G41:H41) -> 24.5 | J41: 0 | K41: 0 | L41: 0 | M41: 24.5 | N41: =SUM(J41:M41) -> 24.5 | O41: Secara Kimiawi (Dhitane)
F42: Kutu Daun | G42: 0.25 | H42: 0 | I42: =SUM(G42:H42) -> 0.25 | J42: 0 | K42: 0 | L42: 0 | M42: 0.25 | N42: =SUM(J42:M42) -> 0.25 | O42: Secara mekanik dan kimiawi
C43: Kakao | D43: - | F43: - | G43: 0 | H43: 0 | I43: - | J43: 0 | K43: 0 | L43: 0 | M43: 0 | N43: - | O43: - | P43: -
C44: Karet | D44: 20 | E44: Ha | F44: Rayap | G44: 15 | H44: 3 | I44: =SUM(G44:H44) -> 18 | J44: 0 | K44: 0 | L44: 0 | M44: 13 | N44: =SUM(J44:M44) -> 13 | O44: Pengendalian secara kimiawi | P44: 187425
D45: 11581.95 | E45: Ha | F45: Jamur Akar Putih | G45: 33.3 | H45: 8.5 | I45: =SUM(G45:H45) -> 41.8 | J45: 0 | K45: 0 | L45: 0 | M45: 18 | N45: =SUM(J45:M45) -> 18 | O45: Secara Kimia, Mekanik dan Biologi (APH) | P45: 0
...

Sheet Rekap S.Penyakit
A1: REKAPITULASI SERANGAN PENYAKIT TANAMAN PERKEBUNAN TRIWULAN IV
A2: UPTD - P2TP TAHUN ANGGARAN 2017
A3: DINAS PERKEBUNAN PROVINSI KALIMANTAN TIMUR
A6: No | B6: Kabupaten / Kota | C6: Jenis Komoditi / | D6: Luas Komoditi | F6: Jenis OPT | G6: Luas Serangan (Ha) | J6: Luas Pengendalian (Ha) | N6: Jumlah | O6: Cara Pengendalian | P6: Kerugian
C7: Kab, Kec, Desa | D7: ( Ha ) | G7: Ringan | H7: Berat | I7: Jumlah | J7: APBN | K7: APBD I | L7: APBD II | M7: Masyarakat | N7: ( Ha) | P7: Hasil (Rp)
A8: 1 | C8: 2 | D8: 3 | F8: 4 | G8: 5 | H8: 7 | I8: 8 | J8: 9 | K8: 10 | L8: 11 | M8: 12 | N8: 13 | O8: 14 | P8: 15
A10: 1 | B10: PASER | C10: Lada | D10: - | F10: - | G10: 0 | H10: 0 | I10: - | J10: 0 | K10: 0 | L10: 0 | M10: 0 | N10: - | O10: - | P10: -
C11: Kelapa | D11: - | F11: - | G11: 0 | H11: 0 | I11: - | J11: 0 | K11: 0 | L11: 0 | M11: 0 | N11: - | O11: - | P11: -
C12: Kelapa Sawit | D12: 36819 | E12: Ha | F12: Ganoderma, sp | G12: 4 | H12: 1 | I12: =SUM(G12:H12) -> 5 | J12: 0 | K12: 0 | L12: 0 | M12: 9 | N12: =SUM(J12:M12) -> 9 | O12: Mekanis/Tricoderma, sp | P12: 3737989.9
C13: Karet | D13: - | F13: - | G13: 0 | H13: 0 | I13: - | J13: 0 | K13: 0 | L13: 0 | M13: 0 | N13: - | O13: - | P13: -
C14: Kakao | D14: - | F14: - | G14: 0 | H14: 0 | I14: - | J14: 0 | K14: 0 | L14: 0 | M14: 0 | N14: - | O14: - | P14: -
A16: 2 | B16: KUTAI TIMUR | C16: Lada | D16: 257 | E16: Ha | F16: Busuk Pangkal Batang | G16: 22.2 | H16: 0 | I16: =G16+H16 -> 22.2 | J16: 0 | K16: 0 | L16: 0 | M16: 22.2 | N16: =M16 -> 22.2 | O16: Kultur Teknis dan Kimia | P16: 0
C17: Kelapa | D17: - | F17: - | G17: 0 | H17: 0 | I17: - | J17: 0 | K17: 0 | L17: 0 | M17: 0 | N17: - | O17: - | P17: -
C18: Kelapa Sawit | D18: 89 | E18: Ha | F18: Busuk Buah(marasmius) | G18: 14.8 | H18: 2.2 | I18: =G18+H18 -> 17 | M18: 3.9 | N18: =SUM(J18:M18) -> 3.9 | O18: Kultur Teknis
C19: Kakao | D19: - | F19: - | G19: 0 | H19: 0 | I19: - | J19: 0 | K19: 0 | L19: 0 | M19: 0 | N19: - | O19: - | P19: -
C20: Karet | D20: 2272.1 | E20: Ha | F20: JAP | G20: 32.8 | H20: 0 | I20: =G20+H20 -> 32.8 | J20: 0 | K20: 0 | L20: 0 | M20: 18.1 | N20: =SUM(J20:M20) -> 18.1 | O20: Belum dikendalikan | P20: -
F21: KAS | G21: 3 | H21: 0 | I21: =G21+H21 -> 3 | J21: 0 | K21: 0 | L21: 0 | M21: 0 | N21: =SUM(J21:M21) -> 0
A23: 3 | B23: KUTAI KARTANEGARA | C23: Lada | D23: 1145 | E23: Ha | F23: Busuk Pangkal Batang | G23: 0.22 | H23: 0 | I23: =SUM(G23:H23) -> 0.22 | J23: 0 | K23: 0 | L23: 0 | M23: 0.22 | N23: =SUM(J23:M23) -> 0.22 | O23: Menjaga kebersihan kebun/Mekanik | P23: 0
C24: Kelapa | D24: - | F24: - | G24: 0 | H24: 0 | I24: - | J24: 0 | K24: 0 | L24: 0 | M24: 0 | N24: - | O24: - | P24: 0
C25: Kelapa Sawit | D25: - | F25: - | G25: 0 | H25: 0 | I25: - | J25: 0 | K25: 0 | L25: 0 | M25: 0 | N25: - | O25: - | P25: 0
C26: Kakao | D26: - | F26: - | G26: 0 | H26: 0 | I26: - | J26: 0 | K26: 0 | L26: 0 | M26: 0 | N26: - | O26: - | P26: -
C27: Karet | D27: 11581.95 | E27: Ha | F27: Jamur Akar Putih | G27: 33.3 | H27: 8.5 | I27: =SUM(G27:H27) -> 41.8 | J27: 0 | K27: 0 | L27: 0 | M27: 18 | N27: =SUM(J27:M27) -> 18 | O27: Secara Kimia, Mekanik dan Biologi (APH) | P27: 0
A29: 4 | B29: BERAU | C29: Lada | D29: 1654.3 | E29: Ha | F29: Phytophtora (BPB) | G29: 21.1 | H29: 2.5 | I29: =SUM(G29:H29) -> 23.6 | J29: 0 | K29: 0 | L29: 0.5 | M29: 7.5 | N29: =SUM(J29:M29) -> 8 | O29: Kultur Teknis dan Kimia | P29: 0
F30: Marasmius | G30: 3.6 | H30: 0 | I30: =SUM(G30:H30) -> 3.6 | J30: 0 | K30: 0 | L30: 0 | M30: 0 | N30: =SUM(J30:M30) -> 0 | O30: -
F31: Jamur Upas | G31: 1 | H31: 0 | I31: =SUM(G31:H31) -> 1 | J31: 0 | K31: 0 | L31: 0 | M31: 0 | N31: =SUM(J31:M31) -> 0 | O31: -
C32: Kelapa | D32: - | F32: - | G32: 0 | H32: 0 | I32: =SUM(G32:H32) -> 0 | J32: 0 | K32: 0 | L32: 0 | M32: 0 | N32: 0 | P32: -
C33: Kelapa Sawit | D33: 13949 | E33: Ha | F33: Crown Disease | G33: 2 | H33: 0 | I33: =SUM(G33:H33) -> 2 | J33: 0 | K33: 0 | L33: 0 | M33: 0 | N33: =SUM(J33:M33) -> 0 | O33: Kimiawi
F34: Marasmius | G34: 2 | H34: 0 | I34: =SUM(G34:H34) -> 2 | J34: 0 | K34: 0 | L34: 0 | M34: 0 | N34: =SUM(J34:M34) -> 0 | O34: Kimiawi
C35: Kakao | D35: 742.5 | E35: Ha | F35: Busuk Buah Kakao | G35: 31 | H35: 0 | I35: =SUM(G35:H35) -> 31 | J35: 0 | K35: 0 | L35: 0 | M35: 0 | N35: =SUM(J35:M35) -> 0 | O35: Sanitasi, Kultur Teknik | P35: -
F36: Jamur Upas | G36: 3 | H36: 0 | I36: =SUM(G36:H36) -> 3 | J36: 0 | K36: 0 | L36: 0 | M36: 0 | N36: =SUM(J36:M36) -> 0 | O36: Pemanfaatan semut angkrang
F37: VSD | G37: 4 | H37: 0 | I37: =SUM(G37:H37) -> 4 | J37: 0 | K37: 0 | L37: 0 | M37: 0 | N37: =SUM(J37:M37) -> 0 | O37: Pemangkasan dan pemupukan
C38: Karet | D38: 350 | E38: Ha | F38: JAP | G38: 0.5 | H38: 0 | I38: =SUM(G38:H38) -> 0.5 | J38: 0 | K38: 0 | L38: 0 | M38: 0 | N38: =SUM(J38:M38) -> 0 | O38: Membuka perakaran, dengan membuat lubang | P38: -
O39: tanam disekitar leher akar dengan kedalaman
O40: sesuai serangan jamur, lalu dimasukan kapur
O41: serta pupuk kandang.
F42: KAS | G42: 7 | H42: 0 | I42: =SUM(G42:H42) -> 7 | J42: 0 | K42: 0 | L42: 0 | M42: 0 | N42: =SUM(J42:M42) -> 0 | O42: Mengurangi pemakaian perangsang lateks
F43: Jamur Upas | G43: 1.5 | H43: 0 | I43: =SUM(G43:H43) -> 1.5 | J43: 0 | K43: 0 | L43: 0 | M43: 0 | N43: =SUM(J43:M43) -> 0 | O43: Pengaturan jarak tanam
A46: 5 | B46: BONTANG | C46: Lada | D46: - | F46: - | G46: 0 | H46: 0 | I46: =SUM(G46:H46) -> 0 | J46: 0 | K46: 0 | L46: 0 | M46: 0 | N46: 0 | O46: - | P46: 0
C47: Kelapa | D47: - | F47: - | G47: 0 | H47: 0 | I47: =SUM(G47:H47) -> 0 | J47: 0 | K47: 0 | L47: 0 | M47: 0 | N47: 0 | O47: - | P47: 0
C48: Kelapa Sawit | D48: - | F48: - | G48: 0 | H48: 0 | I48: =SUM(G48:H48) -> 0 | J48: 0 | K48: 0 | L48: 0 | M48: 0 | N48: 0 | P48: -
...

Sheet Rekap S.Hama
A2: REKAPITULASI SERANGAN HAMA dan GULMA TANAMAN PERKEBUNAN TRIWULAN II
A3: UPTD - P2TP TAHUN ANGGARAN 2017
A4: DINAS PERKEBUNAN PROVINSI KALIMANTAN TIMUR
A7: No | B7: Kabupaten / Kota | C7: Jenis Komoditi / | D7: Luas Komoditi | F7: Jenis OPT | G7: Luas Serangan (Ha) | J7: Luas Pengendalian (Ha) | N7: Jumlah | O7: Cara Pengendalian | P7: Kerugian
C8: Kab, Kec, Desa | D8: ( Ha ) | G8: Ringan | H8: Berat | I8: Jumlah | J8: APBN | K8: APBD I | L8: APBD II | M8: Masyarakat | N8: ( Ha) | P8: Hasil (Rp)
A9: 1 | C9: 2 | D9: 3 | F9: 4 | G9: 5 | H9: 7 | I9: 8 | J9: 9 | K9: 10 | L9: 11 | M9: 12 | N9: 13 | O9: 14 | P9: 15
A11: 1 | B11: PASER | C11: Lada | D11: 6018 | E11: Ha | F11: Penghisap Buah | G11: 1.5 | H11: 0 | I11: =SUM(G11:H11) -> 1.5 | J11: 0 | K11: 0 | L11: 0 | M11: 2 | N11: =SUM(J11:M11) -> 2 | O11: Mekanis/Teknis | P11: 782388.5
C12: Kelapa | D12: 727 | E12: Ha | F12: Sexapa sp, | G12: 0.75 | H12: 0 | I12: =SUM(G12:H12) -> 0.75 | J12: 0 | K12: 0 | L12: 0 | M12: 1.5 | N12: =SUM(J12:M12) -> 1.5 | O12: Teknis/Mekanis | P12: 162936
F13: Orytes rhinoceros | G13: 1 | H13: 0 | I13: =SUM(G13:H13) -> 1 | J13: 0 | K13: 0 | L13: 0 | M13: 2 | N13: =SUM(J13:M13) -> 2 | O13: Teknis/Mekanis | P13: 141211.2
C14: Kelapa Sawit | D14: 36819 | E14: Ha | F14: - | G14: 0 | H14: 0 | I14: - | J14: 0 | K14: 0 | L14: 0 | M14: 0 | N14: 0 | O14: - | P14: -
C15: Karet | D15: - | F15: - | G15: 0 | H15: 0 | I15: 0 | J15: 0 | K15: 0 | L15: 0 | M15: 0 | N15: 0 | O15: - | P15: -
C16: Kakao | D16: 797 | F16: PBK | G16: 1 | H16: 0.5 | I16: =SUM(G16:H16) -> 1.5 | J16: 0 | K16: 0 | L16: 0 | M16: 1 | N16: =SUM(J16:M16) -> 1 | O16: Teknis/Mekanis | P16: 310140
A18: 2 | B18: KUTAI TIMUR | C18: Lada | D18: - | F18: - | G18: 0 | H18: 0 | I18: - | J18: 0 | K18: 0 | L18: 0 | M18: 0 | N18: 0 | O18: - | P18: -
C19: Kelapa | D19: - | F19: - | G19: 0 | H19: 0 | I19: 0 | J19: 0 | K19: 0 | L19: 0 | M19: 0 | N19: 0 | O19: - | P19: -
C20: Kelapa Sawit | D20: 3210.7 | E20: Ha | F20: Tikus | G20: 5.85 | H20: 0 | I20: =G20+H20 -> 5.85 | J20: 0 | K20: 0 | L20: 0 | M20: 2.15 | N20: =J20+K20+L20+M20 -> 2.15 | O20: Menggunakan potongan rambut | P20: -
F21: Landak | G21: 0.85 | H21: 0 | I21: =G21+H21 -> 0.85 | J21: 0 | K21: 0 | L21: 0 | N21: 0 | O21: Menggunakan potongan rambut
F22: Orang hutan | G22: 1.5 | H22: 0 | I22: =G22+H22 -> 1.5 | J22: 0 | K22: 0 | L22: 0 | M22: 0.5 | N22: =J22+K22+L22+M22 -> 0.5 | O22: Jebakan
D23: 232 | E23: Ha | F23: Ulat Kantong | G23: 1 | H23: 0 | I23: =G23+H23 -> 1 | J23: 0 | K23: 0 | L23: 0 | M23: 1 | N23: =J23+K23+L23+M23 -> 1 | O23: Menggunakan Teknis Budidaya, Kimia
C24: Kakao | D24: 89 | E24: Ha | F24: PBK | G24: 28.45 | H24: 8.04 | I24: =G24+H24 -> 36.49 | J24: 0 | K24: 0 | L24: 0 | M24: 16.9 | N24: =SUM(J24:M24) -> 16.9 | O24: Kultur Teknis Biologis, Kimia | P24: -
F25: Helopeltis | G25: 19.3 | H25: 2.75 | I25: =G25+H25 -> 22.05 | M25: 6.7 | N25: =SUM(J25:M25) -> 6.7 | O25: Kultur Teknis
F26: Tupai | G26: 0.9 | H26: 0 | I26: =G26+H26 -> 0.9 | M26: 0.8 | N26: =SUM(J26:M26) -> 0.8 | O26: Mekanis
F27: Penggerek Batang | G27: 6.6 | H27: 0 | I27: =G27+H27 -> 6.6 | M27: 3.4 | N27: =SUM(J27:M27) -> 3.4 | O27: Biologis
C28: Karet | D28: 2272.1 | F28: Rayap | G28: 24.8 | H28: 0 | I28: =G28+H28 -> 24.8 | J28: 0 | K28: 0 | L28: 0 | M28: 24.8 | N28: =SUM(J28:M28) -> 24.8 | P28: -
A31: 3 | B31: KUTAI KARTANEGARA | C31: Lada | D31: 1145 | E31: Ha | F31: Penggerek Batang | G31: 8 | H31: 0 | I31: =SUM(G31:H31) -> 8 | J31: 0 | K31: 0 | L31: 1 | M31: 2 | N31: =SUM(J31:M31) -> 3 | O31: Mengunakan Pesnab dan ada yg belum dikendalikan | P31: 0
C32: Kelapa | D32: 5183 | E32: Ha | F32: Kera | G32: 10 | H32: - | I32: =SUM(G32:H32) -> 10 | J32: 0 | K32: 0 | L32: 0 | M32: 0 | N32: 0 | O32: Menjaga kebersihan kebun | P32: -
F33: Artona, sp | G33: 0.5 | H33: - | I33: =SUM(G33:H33) -> 0.5 | J33: 0 | K33: 0 | L33: 0 | M33: 0 | N33: 0 | O33: Menjaga kebersihan kebun
F34: Babi Hutan | G34: 2 | H34: - | I34: =SUM(G34:H34) -> 2 | J34: 0 | K34: 0 | L34: 0 | M34: 2 | N34: =SUM(J34:M34) -> 2 | O34: Secara Mekanik
C36: Kelapa Sawit | D36: 3846.5 | E36: Ha | F36: Tikus | G36: 0.65 | H36: 0 | I36: =SUM(G36:H36) -> 0.65 | J36: 0 | K36: 0 | L36: 0 | M36: 0.5 | N36: =SUM(J36:M36) -> 0.5 | O36: Secara Mekanik/menjaga kebersihan kebun
F37: Oryctes sp | G37: 24.5 | H37: 0 | I37: =SUM(G37:H37) -> 24.5 | J37: 0 | K37: 0 | L37: 0 | M37: 24.5 | N37: =SUM(J37:M37) -> 24.5 | O37: Secara Kimiawi (Dhitane)
F38: Kutu Daun | G38: 0.25 | H38: 0 | I38: =SUM(G38:H38) -> 0.25 | J38: 0 | K38: 0 | L38: 0 | M38: 0.25 | N38: =SUM(J38:M38) -> 0.25 | O38: Secara mekanik dan kimiawi
C39: Kakao | D39: - | E39: Ha | F39: - | G39: 0 | H39: 0 | I39: 0 | J39: 0 | K39: 0 | L39: 0 | M39: 0 | N39: 0 | O39: - | P39: -
C40: Karet | D40: 20 | E40: Ha | F40: Rayap | G40: 15 | H40: 3 | I40: =SUM(G40:H40) -> 18 | J40: 0 | K40: 0 | L40: 0 | M40: 13 | N40: =SUM(J40:M40) -> 13 | O40: Pengendalian secara kimiawi | P40: 187425
A43: 4 | B43: BERAU | C43: Lada | D43: 1654.3 | E43: Ha | F43: Pengisap Bunga | G43: 3.5 | H43: 0 | I43: =SUM(G43:H43) -> 3.5 | J43: 0 | K43: 0 | L43: 0 | M43: 1 | N43: =SUM(J43:M43) -> 1 | O43: -
F44: Penghisap Buah | G44: 15 | H44: 0 | I44: =SUM(G44:H44) -> 15 | J44: 0 | K44: 0 | L44: 0 | M44: 2.5 | N44: =SUM(J44:M44) -> 2.5 | O44: -
C45: Kelapa | D45: 463 | E45: Ha | F45: Orystes rhinoceros | G45: 7.5 | H45: 0 | I45: =SUM(G45:H45) -> 7.5 | J45: 0 | K45: 0 | L45: 0 | M45: 0 | N45: =SUM(J45:M45) -> 0 | O45: -
F46: Plesispa/Brontispa | G46: 3.5 | H46: 0 | I46: =SUM(G46:H46) -> 3.5 | J46: 0 | K46: 0 | L46: 0 | M46: 0 | N46: =SUM(J46:M46) -> 0 | O46: -
F47: Beruang | G47: 25 | H47: 0 | I47: =SUM(G47:H47) -> 25 | J47: 0 | K47: 0 | L47: 0 | M47: 0 | N47: =SUM(J47:M47) -> 0 | O47: -
C48: Kelapa Sawit | D48: 1279 | E48: Ha | F48: Ulat api | G48: 0.7 | H48: 0 | I48: =SUM(G48:H48) -> 0.7 | J48: 0 | K48: 0 | L48: 0 | M48: 0 | N48: =SUM(J48:M48) -> 0 | O48: Kimiawi
F49: Tungau | G49: 2 | H49: 0 | I49: =SUM(G49:H49) -> 2 | J49: 0 | K49: 0 | L49: 0 | M49: 0 | N49: =SUM(J49:M49) -> 0 | O49: Kimiawi
F50: Rayap (Macrotermes gilvus) | G50: 3 | H50: 0 | I50: =SUM(G50:H50) -> 3 | J50: 0 | K50: 0 | L50: 0 | M50: 0 | N50: =SUM(J50:M50) -> 0 | O50: Kimiawi
...

Sheet PERKAB.P
A1: PERKEMBANGAN SERANGAN PENYAKIT TANAMAN PERKEBUNAN
A2: DI KOTA BALIKPAPAN TRIWULAN IV
A4: No | B4: Jenis Komoditi / | C4: Luas Komoditi | E4: Jenis OPT | F4: Luas Serangan (Ha) | I4: Luas Pengendalian (Ha) | M4: Jumlah | N4: Cara Pengendalian | O4: Kerugian
B5: Kab, Kec, Desa | C5: ( Ha ) | F5: Ringan | G5: Berat | H5: Jumlah | I5: APBN | J5: APBD I | K5: APBD II | L5: Masyarakat | M5: ( Ha) | O5: Hasil (Rp)
A6: 1 | B6: 2 | C6: 3 | E6: 4 | F6: 5 | G6: 7 | H6: 8 | I6: 9 | J6: 10 | K6: 11 | L6: 12 | M6: 13 | N6: 14 | O6: 15
A8: 1 | B8: Lada | C8: 76 | D8: Ha | E8: Penyakit Busuk Pangkal Batang | F8: 0.75 | G8: 0 | H8: =SUM(F8:G8) -> 0.75 | I8: 0 | J8: 0 | K8: 0 | L8: 0.75 | M8: =SUM(I8:L8) -> 0.75 | N8: Sanitasi Kebun, pemupukan berimbang, menanam | O8: Produksi Menurun
N9: tanaman penutup tanah, membuat parit, isolasi
E10: (jamur phytopthora | N10: dan penyiraman/penyemprotan larutan fungisida.
E11: palmivora var piperis)
E12: Penyakit Kuning | F12: 0.85 | G12: 0 | H12: =SUM(F12:G12) -> 0.85 | I12: 0 | J12: 0 | K12: 0 | L12: 0.85 | M12: =SUM(I12:L12) -> 0.85 | N12: Sanitasi kebun, pemupukan berimbang sesuai | O12: Produksi Menurun
E13: (cacing halus nematoda) | N13: dosis anjuran, pemangkasan pemeliharaan dan
E14: Radhophalus similis | N14: penaburan nematisida serta pemyemprotan dengan
B17: Jumlah | C17: - | F17: =SUM(F7:F16) -> 1.6 | G17: =SUM(G7:G8) -> 0 | H17: =SUM(H7:H8) -> 0.75 | I17: 0 | J17: 0 | K17: 0 | L17: =SUM(L7:L8) -> 0.75 | M17: =SUM(M7:M8) -> 0.75 | O17: 0
A19: 2 | B19: Kelapa | C19: - | E19: - | F19: - | G19: - | H19: - | I19: 0 | J19: 0 | K19: 0 | L19: - | M19: - | N19: - | O19: -
B21: - | C21: - | E21: - | F21: =SUM(F19:F20) -> 0 | G21: =SUM(G19:G19) -> 0 | H21: =SUM(H19:H19) -> 0 | I21: 0 | J21: 0 | K21: 0 | L21: =SUM(L19:L19) -> 0 | M21: =SUM(M19:M19) -> 0 | O21: 0
A23: 3 | B23: Kelapa Sawit | C23: - | E23: - | F23: - | G23: - | H23: - | I23: 0 | J23: 0 | K23: 0 | L23: - | M23: - | N23: - | O23: -
B25: Jumlah | C25: - | E25: - | F25: =SUM(F23:F24) -> 0 | G25: =SUM(G23:G23) -> 0 | H25: =SUM(H23:H23) -> 0 | I25: 0 | J25: 0 | K25: 0 | L25: =SUM(L23:L23) -> 0 | M25: =SUM(M23:M23) -> 0
A27: 4 | B27: Kakao | C27: - | E27: - | F27: - | G27: - | H27: - | I27: 0 | J27: 0 | K27: 0 | L27: - | M27: - | N27: - | O27: -
B29: Jumlah | C29: - | E29: - | F29: =SUM(F27:F28) -> 0 | G29: =SUM(G27:G27) -> 0 | H29: =SUM(H27:H27) -> 0 | I29: 0 | J29: 0 | K29: 0 | L29: =SUM(L27:L27) -> 0 | M29: =SUM(M27:M27) -> 0 | O29: 0
A31: 5 | B31: Karet | C31: 4458 | D31: Ha | E31: Jamur akar putih (rigidoporous lignosus) | F31: 6.1 | G31: 0.4 | H31: =SUM(F31:G31) -> 6.5 | I31: 0 | J31: 0 | K31: 0 | L31: 5 | M31: =SUM(I31:L31) -> 5 | N31: Menggali permukaan tanah di sekitar daerah pangkal batang dan perakaran yang terserang kemudian disiram dengan larutan fungisida, kemudian ditutup kembali dengan tanah | O31: produksi menurun
E32: Kering Alur Sadap (KAS) | F32: 2 | G32: 0 | H32: =SUM(F32:G32) -> 2 | I32: 0 | J32: 0 | K32: 0 | L32: 2 | M32: =SUM(I32:L32) -> 2 | N32: Pembersihan bidang sadap dari jamur dan diolesan fungisida dan pemberian pupuk NPK. | O32: produksi menurun
B34: Jumlah | C34: =C31 -> 4458 | F34: =SUM(F31:F32) -> 8.1 | G34: =SUM(G31:G32) -> 0.4 | H34: =SUM(H31:H32) -> 8.5 | I34: =SUM(I31:I32) -> 0 | J34: =SUM(J31:J32) -> 0 | K34: =SUM(K31:K32) -> 0 | L34: =SUM(L31:L32) -> 7 | M34: =SUM(M31:M32) -> 7
N36: Samarinda, Desember 2017
A37: Mengetahui,
A38: Kepala UPTD - P2TP | M38: Pengolah Data OPT
A42: Ir. Supriyadi, M.Si | M42: Tri Susilowati, SP
A44: NIP. 196011081988031008 | M44: NIP.197530112008012018
M45: NIP. 19630425 199103 1 004
A49: PERKEMBANGAN SERANGAN PENYAKIT TANAMAN PERKEBUNAN
A50: DI KABUPATEN PASER TRIWULAN IV
A52: No | B52: Jenis Komoditi / | C52: Luas Komoditi | E52: Jenis OPT | F52: Luas Serangan (Ha) | I52: Luas Pengendalian (Ha) | M52: Jumlah | N52: Cara Pengendalian | O52: Kerugian
B53: Kab, Kec, Desa | C53: ( Ha ) | F53: Ringan | G53: Berat | H53: Jumlah | I53: APBN | J53: APBD I | K53: APBD II | L53: Masyarakat | M53: ( Ha) | O53: Hasil (Rp)
A54: 1 | B54: 2 | C54: 3 | E54: 4 | F54: 5 | G54: 7 | H54: 8 | I54: 9 | J54: 10 | K54: 11 | L54: 12 | M54: 13 | N54: 14 | O54: 15
A56: 1 | B56: Lada | C56: - | E56: - | F56: - | G56: - | H56: - | I56: 0 | J56: 0 | K56: 0 | L56: - | M56: - | N56: - | O56: -
B58: Jumlah | C58: 0 | F58: =SUM(F55:F57) -> 0 | G58: =SUM(G55:G56) -> 0 | H58: =SUM(H55:H56) -> 0 | I58: 0 | J58: 0 | K58: 0 | L58: =SUM(L55:L56) -> 0 | M58: =SUM(M55:M56) -> 0 | O58: 0
A60: 2 | B60: Kelapa | C60: - | E60: - | F60: - | G60: - | H60: - | I60: 0 | J60: 0 | K60: 0 | L60: - | M60: - | N60: - | O60: -
B63: - | C63: =C60 -> - | D63: Ha | F63: =SUM(F60) -> 0 | G63: =SUM(G60) -> 0 | H63: =SUM(H60) -> 0 | I63: =SUM(I60) -> 0 | J63: =SUM(J60) -> 0 | K63: =SUM(K60) -> 0 | L63: =SUM(L60) -> 0 | M63: =SUM(M60) -> 0 | O63: =SUM(O60) -> 0
A65: 3 | B65: Kelapa Sawit | C65: 36819 | D65: Ha | E65: Ganoderma, sp | F65: 4 | G65: 1 | H65: =SUM(F65:G65) -> 5 | I65: 0 | J65: 0 | K65: 0 | L65: 9 | M65: =SUM(I65:L65) -> 9 | N65: Mekanis/Tricoderma, sp | O65: 3737989.9
B67: Jumlah | C67: =C65 -> 36819 | D67: Ha | F67: =SUM(F65:F66) -> 4 | G67: =SUM(G65:G66) -> 1 | H67: =SUM(H65:H66) -> 5 | I67: =SUM(I65:I66) -> 0 | J67: =SUM(J65:J66) -> 0 | K67: =SUM(K65:K66) -> 0 | L67: =SUM(L65:L66) -> 9 | M67: =SUM(M65:M66) -> 9 | ... O67: =SUM(O65:O66) -> 3737989.9
A69: 4 | B69: Karet | C69: - | E69: - | F69: - | G69: - | H69: - | I69: 0 | J69: 0 | K69: 0 | L69: - | M69: - | N69: - | O69: -
...

Sheet PERKAB.H
A2: PERKEMBANGAN SERANGAN HAMA TANAMAN PERKEBUNAN
A3: DI KOTA BALIKPAPAN TRIWULAN I
A5: No | B5: Jenis Komoditi / | C5: Luas Komoditi | E5: Jenis OPT | F5: Luas Serangan (Ha) | I5: Luas Pengendalian (Ha) | M5: Jumlah | N5: Cara Pengendalian | O5: Kerugian
B6: Kab, Kec, Desa | C6: ( Ha ) | F6: Ringan | G6: Berat | H6: Jumlah | I6: APBN | J6: APBD I | K6: APBD II | L6: Masyarakat | M6: ( Ha) | O6: Hasil (Rp)
A7: 1 | B7: 2 | C7: 3 | E7: 4 | F7: 5 | G7: 7 | H7: 8 | I7: 9 | J7: 10 | K7: 11 | L7: 12 | M7: 13 | N7: 14 | O7: 15
A9: 1 | B9: Lada | C9: 72 | D9: Ha | E9: Penggerek Batang | F9: 0.5 | G9: 0 | H9: =SUM(F9:G9) -> 0.5 | I9: 0 | J9: 0 | K9: 0 | L9: 0.5 | M9: =SUM(I9:L9) -> 0.5 | N9: Penyiangan terbatas, cara mekanis memotong | O9: Produksi Menurun
E10: (Lophobaris piperis) | N10: cabang-cabang yang terserang dan membunuh
N11: semua larva yang ditemukan dan menanam
N12: tanaman sela dan penutup tanah serta menanam
N13: dengan menggunakan varietas toleran terhadap
N14: hama tersebut.
E15: Penghisap Buah | F15: 0.5 | G15: 0 | H15: =SUM(F15:G15) -> 0.5 | I15: 0 | J15: 0 | K15: 0 | L15: 0.5 | M15: =SUM(I15:L15) -> 0.5 | N15: Musnahkan telur dipermukaan daun, cabang dan | O15: Produksi Menurun
E16: (Dasynus piperia) | N16: yang ada pada tandan buah kemuadian disemprot
N17: dengan pestisida nabati atau kimia.
E18: Kutu kebul/Kutu Putih | F18: 1 | G18: 0 | H18: =SUM(F18:G18) -> 1 | I18: 0 | J18: 0 | K18: 0 | L18: 1 | M18: =SUM(I18:L18) -> 1 | N18: Pengendalian secara kultur teknis, sanitasi kebun, | O18: Produksi Menurun
E19: (bermisia tabacci) | N19: pemupukan berimbang dan pengendalian secara
N20: mekanis dan kimia
B22: Jumlah | C22: - | F22: =SUM(F9:F18) -> 2 | G22: =SUM(G9:G11) -> 0 | H22: =SUM(H9:H18) -> 2 | I22: =SUM(I9:I11) -> 0 | J22: =SUM(J9:J11) -> 0 | K22: =SUM(K9:K11) -> 0 | L22: =SUM(L9:L18) -> 2 | M22: =SUM(M9:M18) -> 2 | O22: 0
A24: 2 | B24: Kelapa | C24: 834 | D24: Ha | E24: Arthona | F24: 0.5 | G24: 1 | H24: =SUM(F24:G24) -> 1.5 | I24: 0 | J24: 0 | K24: 0 | L24: 1.5 | M24: =SUM(I24:L24) -> 1.5 | N24: Batang dibor lalu diberikan insektisida cair 10 ml/ | O24: Produksi Menurun
N25: lubang.
B27: - | C27: - | E27: - | F27: =SUM(F24:F26) -> 0.5 | G27: =SUM(G24:G24) -> 1 | H27: =SUM(H24:H24) -> 1.5 | I27: 0 | J27: 0 | K27: 0 | L27: =SUM(L24:L24) -> 1.5 | M27: =SUM(M24:M24) -> 1.5 | O27: 0
A29: 3 | B29: Kelapa Sawit | C29: 0 | D29: - | E29: - | F29: - | G29: - | H29: - | I29: - | J29: - | K29: - | L29: - | M29: - | N29: - | O29: -
B31: Jumlah | C31: - | E31: - | F31: =SUM(F29:F30) -> 0 | G31: =SUM(G29:G29) -> 0 | H31: =SUM(H29:H29) -> 0 | I31: 0 | J31: 0 | K31: 0 | L31: =SUM(L29:L29) -> 0 | M31: =SUM(M29:M29) -> 0
A33: 4 | B33: Kakao | C33: - | E33: - | F33: - | G33: - | H33: - | I33: 0 | J33: 0 | K33: 0 | L33: - | M33: - | N33: - | O33: -
B35: Jumlah | C35: - | E35: - | F35: =SUM(F33:F34) -> 0 | G35: =SUM(G33:G33) -> 0 | H35: =SUM(H33:H33) -> 0 | I35: 0 | J35: 0 | K35: 0 | L35: =SUM(L33:L33) -> 0 | M35: =SUM(M33:M33) -> 0 | O35: 0
A37: 5 | B37: Karet | C37: - | E37: - | F37: - | G37: - | H37: - | I37: 0 | J37: 0 | K37: 0 | L37: - | M37: - | N37: - | O37: -
B40: Jumlah | C40: =C37 -> - | F40: =SUM(F37:F37) -> 0 | G40: =SUM(G37:G37) -> 0 | H40: =F40+G40 -> 0 | I40: =SUM(I37:I37) -> 0 | J40: =SUM(J37:J37) -> 0 | K40: =SUM(K37:K37) -> 0 | L40: =SUM(L37:L37) -> 0 | M40: =SUM(M37:M37) -> 0
N42: Samarinda, Desember 2017
A43: Mengetahui,
A44: Kepala UPTD - P2TP | M44: Pengolah Data OPT
A48: Ir. Supriyadi, M.Si | M48: Tri Susilowati, SP
A49: NIP. 196011081988031008 | M49: NIP.197530112008012018
M50: NIP. 19630425 199103 1 004
A85: PERKEMBANGAN SERANGAN HAMA TANAMAN PERKEBUNAN
A86: DI KABUPATEN PASER TRIWULAN I
A88: No | B88: Jenis Komoditi / | C88: Luas Komoditi | E88: Jenis OPT | F88: Luas Serangan (Ha) | I88: Luas Pengendalian (Ha) | M88: Jumlah | N88: Cara Pengendalian | O88: Kerugian
B89: Kab, Kec, Desa | C89: ( Ha ) | F89: Ringan | G89: Berat | H89: Jumlah | I89: APBN | J89: APBD I | K89: APBD II | L89: Masyarakat | M89: ( Ha) | O89: Hasil (Rp)
A90: 1 | B90: 2 | C90: 3 | E90: 4 | F90: 5 | G90: 7 | H90: 8 | I90: 9 | J90: 10 | K90: 11 | L90: 12 | M90: 13 | N90: 14 | O90: 15
A92: 1 | B92: Lada | C92: 6018 | D92: Ha | E92: Penghisap Buah | F92: 1.5 | G92: 0 | H92: =SUM(F92:G92) -> 1.5 | I92: 0 | J92: 0 | K92: 0 | L92: 2 | M92: =SUM(I92:L92) -> 2 | N92: Mekanis/Teknis | O92: 782388.5
B94: Jumlah | C94: 0 | F94: =SUM(F91:F93) -> 1.5 | G94: =SUM(G91:G92) -> 0 | H94: =SUM(H91:H92) -> 1.5 | I94: 0 | J94: 0 | K94: 0 | L94: =SUM(L91:L92) -> 2 | M94: =SUM(M91:M92) -> 2 | O94: =O92 -> 782388.5
...

Sheet PERKAB.HP
A2: PERKEMBANGAN SERANGAN HAMA DAN PENYAKIT TANAMAN PERKEBUNAN
A3: DI KOTA BALIKPAPAN TRIWULAN IV
A5: No | B5: Jenis Komoditi / | C5: Luas Komoditi | E5: Jenis OPT | F5: Luas Serangan (Ha) | I5: Luas Pengendalian (Ha) | M5: Jumlah | N5: Cara Pengendalian | O5: Kerugian
B6: Kab, Kec, Desa | C6: ( Ha ) | F6: Ringan | G6: Berat | H6: Jumlah | I6: APBN | J6: APBD I | K6: APBD II | L6: Masyarakat | M6: ( Ha) | O6: Hasil (Rp)
A7: 1 | B7: 2 | C7: 3 | E7: 4 | F7: 5 | G7: 7 | H7: 8 | I7: 9 | J7: 10 | K7: 11 | L7: 12 | M7: 13 | N7: 14 | O7: 15
A9: 1 | B9: Lada | C9: 76 | D9: Ha | E9: Penggerek Batang | F9: 0.5 | G9: 0 | H9: =SUM(F9:G9) -> 0.5 | I9: 0 | J9: 0 | K9: 0 | L9: 0.5 | M9: =SUM(I9:L9) -> 0.5 | N9: Penyiangan terbatas, cara mekanis memotong | O9: Produksi Menurun
E10: (Lophobaris piperis) | N10: cabang-cabang yang terserang dan membunuh
N11: semua larva yang ditemukan dan menanam
N12: tanaman sela dan penutup tanah serta menanam
N13: dengan menggunakan varietas toleran terhadap
N14: hama tersebut.
E15: Penghisap Buah | F15: 0.5 | G15: 0 | H15: =SUM(F15:G15) -> 0.5 | I15: 0 | J15: 0 | K15: 0 | L15: 0.5 | M15: =SUM(I15:L15) -> 0.5 | N15: Musnahkan telur dipermukaan daun, cabang dan | O15: Produksi Menurun
E16: (Dasynus piperia) | N16: yang ada pada tandan buah kemuadian disemprot
N17: dengan pestisida nabati atau kimia.
E18: Kutu kebul/Kutu Putih | F18: 1 | G18: 0 | H18: =SUM(F18:G18) -> 1 | I18: 0 | J18: 0 | K18: 0 | L18: 1 | M18: =SUM(I18:L18) -> 1 | N18: Pengendalian secara kultur teknis, sanitasi kebun, | O18: Produksi Menurun
E19: (bermisia tabacci) | N19: pemupukan berimbang dan pengendalian secara
N20: mekanis dan kimia
E21: Penyakit Busuk Pangkal Batang | F21: 0.75 | G21: 0 | H21: =SUM(F21:G21) -> 0.75 | I21: 0 | J21: 0 | K21: 0 | L21: 0.75 | M21: =SUM(I21:L21) -> 0.75 | N21: Sanitasi Kebun, pemupukan berimbang, menanam | O21: Produksi Menurun
N22: tanaman penutup tanah, membuat parit, isolasi
E23: (jamur phytopthora | N23: dan penyiraman/penyemprotan larutan fungisida.
E24: palmivora var piperis)
E25: Penyakit Kuning | F25: 0.85 | G25: 0 | H25: =SUM(F25:G25) -> 0.85 | I25: 0 | J25: 0 | K25: 0 | L25: 0.85 | M25: =SUM(I25:L25) -> 0.85 | N25: Sanitasi kebun, pemupukan berimbang sesuai | O25: Produksi Menurun
E26: (cacing halus nematoda) | N26: dosis anjuran, pemangkasan pemeliharaan dan
E27: Radhophalus similis | N27: penaburan nematisida serta pemyemprotan dengan
N28: Pesnab
B30: Jumlah | C30: - | F30: =SUM(F9:F25) -> 3.6 | G30: =SUM(G9:G25) -> 0 | H30: =SUM(H9:H25) -> 3.6 | I30: =SUM(I9:I25) -> 0 | J30: =SUM(J9:J25) -> 0 | K30: =SUM(K9:K25) -> 0 | L30: =SUM(L9:L25) -> 3.6 | M30: =SUM(M9:M25) -> 3.6 | O30: 0
A32: 2 | B32: Kelapa | C32: 834 | D32: Ha | E32: Arthona | F32: 0.5 | G32: 1 | H32: =SUM(F32:G32) -> 1.5 | I32: 0 | J32: 0 | K32: 0 | L32: 1.5 | M32: =SUM(I32:L32) -> 1.5 | N32: Batang dibor lalu diberikan insektisida cair 10 ml/ | O32: Produksi Menurun
N33: lubang.
B35: - | C35: - | E35: - | F35: =SUM(F32:F33) -> 0.5 | G35: =SUM(G32:G33) -> 1 | H35: =SUM(H32:H33) -> 1.5 | I35: =SUM(I32:I33) -> 0 | J35: =SUM(J32:J33) -> 0 | K35: =SUM(K32:K33) -> 0 | L35: =SUM(L32:L33) -> 1.5 | M35: =SUM(M32:M33) -> 1.5 | O35: 0
A37: 3 | B37: Kelapa Sawit | C37: - | E37: - | F37: - | G37: - | H37: - | I37: 0 | J37: 0 | K37: 0 | L37: - | M37: - | N37: - | O37: -
B39: Jumlah | C39: - | E39: - | F39: =SUM(F37:F38) -> 0 | G39: =SUM(G37:G37) -> 0 | H39: =SUM(H37:H37) -> 0 | I39: 0 | J39: 0 | K39: 0 | L39: =SUM(L37:L37) -> 0 | M39: =SUM(M37:M37) -> 0
A41: 4 | B41: Kakao | C41: - | E41: - | F41: - | G41: - | H41: - | I41: 0 | J41: 0 | K41: 0 | L41: - | M41: - | N41: - | O41: -
B43: Jumlah | C43: - | E43: - | F43: =SUM(F41:F42) -> 0 | G43: =SUM(G41:G41) -> 0 | H43: =SUM(H41:H41) -> 0 | I43: 0 | J43: 0 | K43: 0 | L43: =SUM(L41:L41) -> 0 | M43: =SUM(M41:M41) -> 0 | O43: 0
A49: No | B49: Jenis Komoditi / | C49: Luas Komoditi | E49: Jenis OPT | F49: Luas Serangan (Ha) | I49: Luas Pengendalian (Ha) | M49: Jumlah | N49: Cara Pengendalian | O49: Kerugian
B50: Kab, Kec, Desa | C50: ( Ha ) | F50: Ringan | G50: Berat | H50: Jumlah | I50: APBN | J50: APBD I | K50: APBD II | L50: Masyarakat | M50: ( Ha) | O50: Hasil (Rp)
A51: 1 | B51: 2 | C51: 3 | E51: 4 | F51: 5 | G51: 7 | H51: 8 | I51: 9 | J51: 10 | K51: 11 | L51: 12 | M51: 13 | N51: 14 | O51: 15
A52: 5 | B52: Karet | C52: 4458 | D52: Ha | E52: Jamur akar putih (rigidoporous lignosus) | F52: 6.1 | G52: 0.4 | H52: =SUM(F52:G52) -> 6.5 | I52: 0 | J52: 0 | K52: 0 | L52: 5 | M52: =SUM(I52:L52) -> 5 | N52: Menggali permukaan tanah di sekitar daerah pangkal batang dan perakaran yang terserang kemudian disiram dengan larutan fungisida, kemudian ditutup kembali dengan tanah | O52: produksi menurun
E53: Kering Alur Sadap (KAS) | F53: 2 | G53: 0 | H53: =SUM(F53:G53) -> 2 | I53: 0 | J53: 0 | K53: 0 | L53: 2 | M53: =SUM(I53:L53) -> 2 | N53: Pembersihan bidang sadap dari jamur dan diolesan fungisida dan pemberian pupuk NPK. | O53: produksi menurun
E54: Gulma | F54: 2 | G54: 0 | H54: =SUM(F54:G54) -> 2 | I54: 0 | J54: 0 | K54: 0 | L54: 2 | M54: =SUM(I54:L54) -> 2 | N54: Penyemprotan herbisida dan perintisan | O54: produksi menurun
B59: Jumlah | C59: =C52+#REF! -> #REF! | F59: =SUM(F52:F53) -> 8.1 | G59: =SUM(G52:G53) -> 0.4 | H59: =F59+G59 -> 8.5 | I59: =SUM(I52:I53) -> 0 | J59: =SUM(J52:J53) -> 0 | K59: =SUM(K52:K53) -> 0 | L59: =SUM(L52:L53) -> 7 | M59: =I59+J59+K59+L59 -> 7
...
