Workbook

Sheet POSTER
A1: REKAPITULASI SERANGAN HAMA, PENYAKIT DAN GULMA TANAMAN PERKEBUNAN TRIWULAN IV
A2: UPTD - P2TP TAHUN ANGGARAN 2017
A3: DINAS PERKEBUNAN PROVINSI KALIMANTAN TIMUR
A6: No | B6: Kabupaten / Kota | C6: Jenis Komoditi / | D6: Luas Komoditi | F6: Jenis OPT | G6: Luas Serangan (Ha) | J6: Luas Pengendalian (Ha) | N6: Jumlah | O6: Cara Pengendalian | P6: Kerugian
C7: Kab, Kec, Desa | D7: ( Ha ) | G7: Ringan | H7: Berat | I7: Jumlah | J7: APBN | K7: APBD I | L7: APBD II | M7: Masyarakat | N7: ( Ha) | P7: Hasil (Rp)
A8: 1 | C8: 2 | D8: 3 | F8: 4 | G8: 5 | H8: 7 | I8: 8 | J8: 9 | K8: 10 | L8: 11 | M8: 12 | N8: 13 | O8: 14 | P8: 15
A10: 1 | B10: PASER | C10: Lada | D10: 6018 | E10: Ha | F10: Penghisap Buah | G10: 1.5 | H10: 0 | I10: =SUM(G10:H10) -> 1.5 | J10: 0 | K10: 0 | L10: 0 | M10: 2 | N10: =SUM(J10:M10) -> 2 | O10: Mekanis/Teknis | P10: 782388.5
C11: Kelapa | D11: 727 | E11: Ha | F11: Sexapa sp, | G11: 0.75 | H11: 0 | I11: =SUM(G11:H11) -> 0.75 | J11: 0 | K11: 0 | L11: 0 | M11: 1.5 | N11: =SUM(J11:M11) -> 1.5 | O11: Teknis/Mekanis | P11: 162936
F12: Orytes rhinoceros | G12: 1 | H12: 0 | I12: =SUM(G12:H12) -> 1 | J12: 0 | K12: 0 | L12: 0 | M12: 2 | N12: =SUM(J12:M12) -> 2 | O12: Teknis/Mekanis | P12: 141211.2
C13: Kelapa Sawit | D13: =PERKAB.P!C65 -> 36819 | E13: Ha | F13: Curvularia sp | G13: 1.5 | H13: 1.5 | I13: =G13+H13 -> 3 | J13: 0 | K13: 0 | L13: 0 | M13: 3 | N13: =SUM(J13:M13) -> 3 | O13: Mekanis/Kimia | P13: 1726358.3
F14: Ganoderma, sp | G14: 30.06 | H14: 15.05 | I14: =G14+H14 -> 45.11 | J14: 0 | K14: 0 | L14: 0 | M14: 60 | N14: =SUM(J14:M14) -> 60 | O14: Mekanis/Teknis/Biofungisida | P14: 36340533
C15: Karet | D15: =PERKAB.P!C69 -> - | E15: Ha | F15: JAP | G15: 21 | H15: 1.5 | I15: =G15+H15 -> 22.5 | J15: 0 | K15: 0 | L15: 0 | M15: 33 | N15: =SUM(J15:M15) -> 33 | O15: - | P15: 11197182
F16: KAS | G16: 1.5 | H16: 0 | I16: =G16+H16 -> 1.5 | J16: 0 | K16: 0 | L16: 0 | M16: 3 | N16: =M16 -> 3 | P16: 559883.52
C17: Kakao | D17: 797 | F17: PBK | G17: 1 | H17: 0.5 | I17: =SUM(G17:H17) -> 1.5 | J17: 0 | K17: 0 | L17: 0 | M17: 1 | N17: =SUM(J17:M17) -> 1 | O17: Teknis/Mekanis | P17: 310140
A19: 2 | B19: KUTAI TIMUR | C19: Lada | D19: 257 | E19: Ha | F19: Busuk Pangkal Batang | G19: 22.2 | H19: 0 | I19: =G19+H19 -> 22.2 | J19: 0 | K19: 0 | L19: 0 | M19: 22.2 | N19: =M19 -> 22.2 | O19: Kultur Teknis dan Kimia | P19: 0
C20: Kelapa | D20: - | F20: - | G20: 0 | H20: 0 | I20: - | J20: 0 | K20: 0 | L20: 0 | M20: 0 | N20: - | O20: - | P20: -
C21: Kelapa Sawit | D21: 3210.7 | E21: Ha | F21: Tikus | G21: 5.85 | H21: 0 | I21: =G21+H21 -> 5.85 | J21: 0 | K21: 0 | L21: 0 | M21: 2.15 | N21: =J21+K21+L21+M21 -> 2.15 | O21: Menggunakan potongan rambut | P21: -
F22: Landak | G22: 0.85 | H22: 0 | I22: =G22+H22 -> 0.85 | J22: 0 | K22: 0 | L22: 0 | N22: =J22+K22+L22+M22 -> 0 | O22: Menggunakan potongan rambut
F23: Orang hutan | G23: 1.5 | H23: 0 | I23: =G23+H23 -> 1.5 | J23: 0 | K23: 0 | L23: 0 | M23: 0.5 | N23: =J23+K23+L23+M23 -> 0.5 | O23: Jebakan
D24: 232 | E24: Ha | F24: Ulat Kantong | G24: 1 | H24: 0 | I24: =G24+H24 -> 1 | J24: 0 | K24: 0 | L24: 0 | M24: 1 | N24: =J24+K24+L24+M24 -> 1 | O24: Menggunakan Teknis Budidaya, Kimia
D25: 89 | E25: Ha | F25: Busuk Buah | G25: 14.8 | H25: 2.2 | I25: =G25+H25 -> 17 | M25: 3.9 | N25: =SUM(J25:M25) -> 3.9 | O25: Kultur Teknis
C26: Kakao | D26: 89 | E26: Ha | F26: PBK | G26: 28.45 | H26: 8.04 | I26: =G26+H26 -> 36.49 | J26: 0 | K26: 0 | L26: 0 | M26: 16.9 | N26: =SUM(J26:M26) -> 16.9 | O26: Kultur Teknis Biologis, Kimia | P26: -
F27: Helopeltis | G27: 19.3 | H27: 2.75 | I27: =G27+H27 -> 22.05 | M27: 6.7 | N27: =SUM(J27:M27) -> 6.7 | O27: Kultur Teknis
F28: Tupai | G28: 0.9 | H28: 0 | I28: =G28+H28 -> 0.9 | M28: 0.8 | N28: =SUM(J28:M28) -> 0.8 | O28: Mekanis
F29: Penggerek Batang | G29: 6.6 | H29: 0 | I29: =G29+H29 -> 6.6 | M29: 3.4 | N29: =SUM(J29:M29) -> 3.4 | O29: Biologis
C30: Karet | D30: 2272.1 | E30: Ha | F30: Rayap | G30: 24.8 | H30: 0 | I30: =G30+H30 -> 24.8 | J30: 0 | K30: 0 | L30: 0 | M30: 24.8 | N30: =SUM(J30:M30) -> 24.8 | P30: -
F31: Jamur Akar Putih | G31: 64.33 | H31: 0 | I31: =SUM(G31:H31) -> 64.33 | J31: 0 | K31: 0 | L31: 0 | M31: 6.73 | N31: =SUM(J31:M31) -> 6.73 | O31: Kultur Teknis, Mekanis, Hayati
F32: JAP | G32: 32.8 | H32: 0 | I32: =G32+H32 -> 32.8 | J32: 0 | K32: 0 | L32: 0 | M32: 18.1 | N32: =SUM(J32:M32) -> 18.1 | O32: Belum dikendalikan | P32: -
F33: KAS | G33: 3 | H33: 0 | I33: =G33+H33 -> 3 | J33: 0 | K33: 0 | L33: 0 | M33: 0 | N33: =SUM(J33:M33) -> 0
A35: 3 | B35: KUTAI KARTANEGARA | C35: Lada | D35: 1145 | E35: Ha | F35: Busuk Pangkal Batang | G35: 0.22 | H35: 0 | I35: =SUM(G35:H35) -> 0.22 | J35: 0 | K35: 0 | L35: 0 | M35: 0.22 | N35: =SUM(J35:M35) -> 0.22 | O35: Menjaga kebersihan kebun/Mekanik | P35: 0
F36: Penggerek Batang | G36: 8 | H36: 0 | I36: =SUM(G36:H36) -> 8 | J36: 0 | K36: 0 | L36: 1 | M36: 2 | N36: =SUM(J36:M36) -> 3 | O36: Mengunakan Pesnab dan ada yg belum dikendalikan | P36: 0
C37: Kelapa | D37: 5183 | E37: Ha | F37: Kera | G37: 10 | H37: 0 | I37: =SUM(G37:H37) -> 10 | J37: 0 | K37: 0 | L37: 0 | M37: 0 | N37: =SUM(J37:M37) -> 0 | O37: Menjaga kebersihan kebun | P37: -
F38: Artona, sp | G38: 0.5 | H38: 0 | I38: =SUM(G38:H38) -> 0.5 | J38: 0 | K38: 0 | L38: 0 | M38: 0 | N38: =SUM(J38:M38) -> 0 | O38: Menjaga kebersihan kebun
F39: Babi Hutan | G39: 2 | H39: 0 | I39: =SUM(G39:H39) -> 2 | J39: 0 | K39: 0 | L39: 0 | M39: 2 | N39: =SUM(J39:M39) -> 2 | O39: Secara Mekanik
C40: Kelapa Sawit | D40: 3846.5 | E40: Ha | F40: Tikus | G40: 0.65 | H40: 0 | I40: =SUM(G40:H40) -> 0.65 | J40: 0 | K40: 0 | L40: 0 | M40: 0.5 | N40: =SUM(J40:M40) -> 0.5 | O40: Secara Mekanik/menjaga kebersihan kebun
F41: Oryctes sp | G41: 24.5 | H41: 0 | I41: =SUM(G41:H41) -> 24.5 | J41: 0 | K41: 0 | L41: 0 | M41: 24.5 | N41: =SUM(J41:M41) -> 24.5 | O41: Secara Kimiawi (Dhitane)
F42: Kutu Daun | G42: 0.25 | H42: 0 | I42: =SUM(G42:H42) -> 0.25 | J42: 0 | K42: 0 | L42: 0 | M42: 0.25 | N42: =SUM(J42:M42) -> 0.25 | O42: Secara mekanik dan kimiawi
C43: Kakao | D43: - | F43: - | G43: 0 | H43: 0 | I43: - | J43: 0 | K43: 0 | L43: 0 | M43: 0 | N43: - | O43: - | P43: -
C44: Karet | D44: 20 | E44: Ha | F44: Rayap | G44: 15 | H44: 3 | I44: =SUM(G44:H44) -> 18 | J44: 0 | K44: 0 | L44: 0 | M44: 13 | N44: =SUM(J44:M44) -> 13 | O44: Pengendalian secara kimiawi | P44: 187425
D45: 11581.95 | E45: Ha | F45: Jamur Akar Putih | G45: 33.3 | H45: 8.5 | I45: =SUM(G45:H45) -> 41.8 | J45: 0 | K45: 0 | L45: 0 | M45: 18 | N45: =SUM(J45:M45) -> 18 | O45: Secara Kimia, Mekanik dan Biologi (APH) | P45: 0
A47: 4 | B47: BERAU | C47: Lada | D47: 1654.3 | E47: Ha | F47: Pengisap Bunga | G47: 3.5 | H47: 0 | I47: =SUM(G47:H47) -> 3.5 | J47: 0 | K47: 0 | L47: 0 | M47: 1 | N47: =SUM(J47:M47) -> 1 | O47: -
F48: Penghisap Buah | G48: 15 | H48: 0 | I48: =SUM(G48:H48) -> 15 | J48: 0 | K48: 0 | L48: 0 | M48: 2.5 | N48: =SUM(J48:M48) -> 2.5 | O48: -
F49: Phytophtora (BPB) | G49: 21.1 | H49: 2.5 | I49: =SUM(G49:H49) -> 23.6 | J49: 0 | K49: 0 | L49: 0.5 | M49: 7.5 | N49: =SUM(J49:M49) -> 8 | O49: Kultur Teknis dan Kimia | P49: 0
F50: Marasmius | G50: 3.6 | H50: 0 | I50: =SUM(G50:H50) -> 3.6 | J50: 0 | K50: 0 | L50: 0 | M50: 0 | N50: =SUM(J50:M50) -> 0 | O50: -
F51: Jamur Upas | G51: 1 | H51: 0 | I51: =SUM(G51:H51) -> 1 | J51: 0 | K51: 0 | L51: 0 | M51: 0 | N51: =SUM(J51:M51) -> 0 | O51: -
C52: Kelapa | D52: 463 | E52: Ha | F52: Orystes rhinoceros | G52: 7.5 | H52: 0 | I52: =SUM(G52:H52) -> 7.5 | J52: 0 | K52: 0 | L52: 0 | M52: 0 | N52: =SUM(J52:M52) -> 0 | O52: -
F53: Plesispa/Brontispa | G53: 3.5 | H53: 0 | I53: =SUM(G53:H53) -> 3.5 | J53: 0 | K53: 0 | L53: 0 | M53: 0 | N53: =SUM(J53:M53) -> 0 | O53: -
F54: Beruang | G54: 25 | H54: 0 | I54: =SUM(G54:H54) -> 25 | J54: 0 | K54: 0 | L54: 0 | M54: 0 | N54: =SUM(J54:M54) -> 0 | O54: -
C55: Kelapa Sawit | D55: 1279 | E55: Ha | F55: Ulat api | G55: 0.7 | H55: 0 | I55: =SUM(G55:H55) -> 0.7 | J55: 0 | K55: 0 | L55: 0 | M55: 0 | N55: =SUM(J55:M55) -> 0 | O55: Kimiawi
F56: Tungau | G56: 2 | H56: 0 | I56: =SUM(G56:H56) -> 2 | J56: 0 | K56: 0 | L56: 0 | M56: 0 | N56: =SUM(J56:M56) -> 0 | O56: Kimiawi
F57: Rayap (Macrotermes gilvus) | G57: 3 | H57: 0 | I57: =SUM(G57:H57) -> 3 | J57: 0 | K57: 0 | L57: 0 | M57: 0 | N57: =SUM(J57:M57) -> 0 | O57: Kimiawi
D58: 13949 | E58: Ha | F58: Crown Disease | G58: 2 | H58: 0 | I58: =SUM(G58:H58) -> 2 | J58: 0 | K58: 0 | L58: 0 | M58: 0 | N58: =SUM(J58:M58) -> 0 | O58: Kimiawi
F59: Marasmius | G59: 2 | H59: 0 | I59: =SUM(G59:H59) -> 2 | J59: 0 | K59: 0 | L59: 0 | M59: 0 | N59: =SUM(J59:M59) -> 0 | O59: Kimiawi
C60: Kakao | D60: 742.5 | E60: Ha | F60: Tupai | G60: 2 | H60: 0 | I60: =SUM(G60:H60) -> 2 | J60: 0 | K60: 0 | L60: 0 | M60: 0 | N60: =SUM(J60:M60) -> 0 | O60: - | P60: -
F61: PBK | G61: 49.5 | H61: 0 | I61: =SUM(G61:H61) -> 49.5 | J61: 0 | K61: 0 | L61: 0 | M61: 23 | N61: =SUM(J61:M61) -> 23 | O61: Sanitasi, Kultur Teknik
F62: Helopeltis | G62: 7.3 | H62: 0 | I62: =SUM(G62:H62) -> 7.3 | J62: 0 | K62: 0 | L62: 0 | M62: 0 | N62: =SUM(J62:M62) -> 0 | O62: Membiarkan semut hitam dan semut rang -
O63: rang berada pada kebun kakao
F64: Busuk Buah Kakao | G64: 31 | H64: 0 | I64: =SUM(G64:H64) -> 31 | J64: 0 | K64: 0 | L64: 0 | M64: 0 | N64: =SUM(J64:M64) -> 0 | O64: Sanitasi, Kultur Teknik | P64: -
F65: Jamur Upas | G65: 3 | H65: 0 | I65: =SUM(G65:H65) -> 3 | J65: 0 | K65: 0 | L65: 0 | M65: 0 | N65: =SUM(J65:M65) -> 0 | O65: Pemanfaatan semut angkrang
F66: VSD | G66: 4 | H66: 0 | I66: =SUM(G66:H66) -> 4 | J66: 0 | K66: 0 | L66: 0 | M66: 0 | N66: =SUM(J66:M66) -> 0 | O66: Pemangkasan dan pemupukan
C67: Karet | D67: 1031 | E67: Ha | F67: Babi Hutan | G67: 7.5 | H67: 0 | I67: =SUM(G67:H67) -> 7.5 | J67: 0 | K67: 0 | L67: 0 | M67: 0 | N67: =SUM(J67:M67) -> 0 | O67: Jerat dan tembak
F68: Tungau | G68: 2 | H68: 0 | I68: =SUM(G68:H68) -> 2 | J68: 0 | K68: 0 | L68: 0 | M68: 0 | N68: =SUM(J68:M68) -> 0 | O68: Kimiawi
D69: 350 | E69: Ha | F69: JAP | G69: 0.5 | H69: 0 | I69: =SUM(G69:H69) -> 0.5 | J69: 0 | K69: 0 | L69: 0 | M69: 0 | N69: =SUM(J69:M69) -> 0 | O69: Membuka perakaran, dengan membuat lubang | P69: -
O70: tanam disekitar leher akar dengan kedalaman
O71: sesuai serangan jamur, lalu dimasukan kapur
O72: serta pupuk kandang.
F73: KAS | G73: 7 | H73: 0 | I73: =SUM(G73:H73) -> 7 | J73: 0 | K73: 0 | L73: 0 | M73: 0 | N73: =SUM(J73:M73) -> 0 | O73: Mengurangi pemakaian perangsang lateks
F74: Jamur Upas | G74: 1.5 | H74: 0 | I74: =SUM(G74:H74) -> 1.5 | J74: 0 | K74: 0 | L74: 0 | M74: 0 | N74: =SUM(J74:M74) -> 0 | O74: Pengaturan jarak tanam
A77: 5 | B77: BONTANG | C77: Lada | D77: - | F77: - | G77: 0 | H77: 0 | I77: =SUM(G77:H77) -> 0 | J77: 0 | K77: 0 | L77: 0 | M77: 0 | N77: 0 | O77: - | P77: 0
C78: Kelapa | D78: - | F78: - | G78: 0 | H78: 0 | I78: =SUM(G78:H78) -> 0 | J78: 0 | K78: 0 | L78: 0 | M78: 0 | N78: 0 | O78: - | P78: 0
C79: Kelapa Sawit | D79: 13 | E79: Ha | F79: Orystes rhinoceros | G79: 0.01 | H79: 0 | I79: =SUM(G79:H79) -> 0.01 | J79: 0 | K79: 0 | L79: 0 | M79: 0 | N79: 0 | O79: - | P79: 0
C80: Kakao | D80: - | F80: - | G80: 0 | H80: 0 | I80: =SUM(G80:H80) -> 0 | J80: 0 | K80: 0 | L80: 0 | M80: 0 | N80: 0 | O80: - | P80: -
C81: Karet | D81: 0 | F81: - | G81: 0 | H81: 0 | I81: =SUM(G81:H81) -> 0 | J81: 0 | K81: 0 | L81: 0 | M81: 0 | N81: 0 | O81: 0 | P81: 0
A83: 6 | B83: KUTAI BARAT | C83: Lada | D83: - | F83: - | G83: 0 | H83: 0 | I83: 0 | J83: 0 | K83: 0 | L83: 0 | M83: 0 | N83: =SUM(J83:M83) -> 0 | O83: - | P83: 0
C84: Kelapa | D84: - | F84: - | G84: 0 | H84: 0 | I84: 0 | J84: 0 | K84: 0 | L84: 0 | M84: 0 | N84: =SUM(J84:M84) -> 0 | O84: - | P84: 0
C85: Kelapa Sawit | D85: - | F85: - | G85: 0 | H85: 0 | I85: 0 | J85: 0 | K85: 0 | L85: 0 | M85: 0 | N85: =SUM(J85:M85) -> 0 | O85: - | P85: 0
C86: Kakao | D86: - | F86: - | G86: 0 | H86: 0 | I86: 0 | J86: 0 | K86: 0 | L86: 0 | M86: 0 | N86: =SUM(J86:M86) -> 0 | O86: - | P86: 0
C87: Karet | D87: 11107 | E87: Ha | F87: JAP | G87: 245 | H87: 136 | I87: =SUM(G87:H87) -> 381 | J87: 0 | K87: 0 | L87: 0 | M87: 0 | N87: =SUM(J87:M87) -> 0 | O87: Belum ada pengendalian | P87: 296600000
F88: KAS | G88: 154 | H88: 62 | I88: =SUM(G88:H88) -> 216 | J88: 0 | K88: 0 | L88: 0 | M88: 19 | N88: =SUM(J88:M88) -> 19 | O88: Pengerokan kulit, desinpektan
A90: 7 | B90: BALIKPAPAN | C90: Lada | D90: 72 | E90: Ha | F90: Penggerek Batang | G90: 0.5 | H90: 0 | I90: =SUM(G90:H90) -> 0.5 | J90: 0 | K90: 0 | L90: 0 | M90: 0.5 | N90: =SUM(J90:M90) -> 0.5 | O90: Penyiangan terbatas, cara mekanis memotong | P90: Produksi Menurun
F91: (Lophobaris piperis) | O91: cabang-cabang yang terserang dan membunuh
O92: semua larva yang ditemukan dan menanam
O93: tanaman sela dan penutup tanah serta menanam
O94: dengan menggunakan varietas toleran terhadap
O95: hama tersebut.
F96: Penghisap Buah | G96: 0.5 | H96: 0 | I96: =SUM(G96:H96) -> 0.5 | J96: 0 | K96: 0 | L96: 0 | M96: 0.5 | N96: =SUM(J96:M96) -> 0.5 | O96: Musnahkan telur dipermukaan daun, cabang dan | P96: Produksi Menurun
F97: (Dasynus piperia) | O97: yang ada pada tandan buah kemuadian disemprot
O98: dengan pestisida nabati atau kimia.
F99: Kutu kebul/Kutu Putih | G99: 1 | H99: 0 | I99: =SUM(G99:H99) -> 1 | J99: 0 | K99: 0 | L99: 0 | M99: 1 | N99: =SUM(J99:M99) -> 1 | O99: Pengendalian secara kultur teknis, sanitasi kebun, | P99: Produksi Menurun
F100: (bermisia tabacci) | O100: pemupukan berimbang dan pengendalian secara
D101: 76 | E101: Ha | F101: Penyakit Busuk Pangkal Batang | G101: 0.75 | H101: 0 | I101: =SUM(G101:H101) -> 0.75 | J101: 0 | K101: 0 | L101: 0 | M101: 0.75 | N101: =SUM(J101:M101) -> 0.75 | O101: Sanitasi Kebun, pemupukan berimbang, menanam | P101: Produksi Menurun
O102: tanaman penutup tanah, membuat parit, isolasi
F103: (jamur phytopthora | O103: dan penyiraman/penyemprotan larutan fungisida.
F104: palmivora var piperis)
F105: Penyakit Kuning | G105: 0.85 | H105: 0 | I105: =SUM(G105:H105) -> 0.85 | J105: 0 | K105: 0 | L105: 0 | M105: 0.85 | N105: =SUM(J105:M105) -> 0.85 | O105: Sanitasi kebun, pemupukan berimbang sesuai | P105: Produksi Menurun
F106: (cacing halus nematoda) | O106: dosis anjuran, pemangkasan pemeliharaan dan
F107: Radhophalus similis | O107: penaburan nematisida serta pemyemprotan dengan
C108: Kelapa | D108: 834 | E108: Ha | F108: Arthona | G108: 0.5 | H108: 1 | I108: =SUM(G108:H108) -> 1.5 | J108: 0 | K108: 0 | L108: 0 | M108: 1.5 | N108: =SUM(J108:M108) -> 1.5 | O108: Batang dibor lalu diberikan insektisida cair 10 ml/ | P108: Produksi Menurun
O109: lubang
C110: Kelapa Sawit | D110: - | F110: - | G110: 0 | H110: 0 | I110: =SUM(G110:H110) -> 0 | J110: 0 | K110: 0 | L110: 0 | M110: 0 | N110: 0 | P110: -
...

Sheet LAPORAN TRIWULAN I
A2: REKAPITULASI SERANGAN HAMA PENYAKIT DAN GULMA TANAMAN PERKEBUNAN
A3: DI PROVINSI KALIMANTAN TIMUR TRIWULAN I
A4: TAHUN ANGGARAN 2018
A6: No | B6: Jenis Komoditi | C6: Kabupaten/Kota | D6: Luas Komoditi | F6: Jenis OPT | G6: Luas Serangan (Ha) | J6: Luas Pengendalian (Ha) | N6: Jumlah | O6: Cara Pengendalian | P6: Kerugian
D7: ( Ha ) | G7: Ringan | H7: Berat | I7: Jumlah | J7: APBN | K7: APBD I | L7: APBD II | M7: Masyarakat | N7: ( Ha) | P7: Hasil (Rp)
A8: 1 | B8: 2 | D8: 3 | F8: 4 | G8: 5 | H8: 7 | I8: 8 | J8: 9 | K8: 10 | L8: 11 | M8: 12 | N8: 13 | O8: 14 | P8: 15
A10: 1 | B10: Lada | C10: Paser | D10: 6018 | E10: Ha | F10: Penghisap Buah | G10: 1.5 | H10: 0 | I10: =SUM(G10:H10) -> 1.5 | J10: 0 | K10: 0 | L10: 0 | M10: 2 | N10: =SUM(J10:M10) -> 2 | O10: Mekanis/Teknis | P10: 782388.5
C12: Balikpapan | D12: 76 | E12: Ha | F12: Penggerek Batang | G12: 0.5 | H12: 0 | I12: =SUM(G12:H12) -> 0.5 | J12: 0 | K12: 0 | L12: 0 | M12: 0.5 | N12: =SUM(J12:M12) -> 0.5 | O12: Penyiangan terbatas, cara mekanis memotong | P12: Produksi Menurun
F13: (Lophobaris piperis) | O13: cabang-cabang yang terserang dan membunuh
O14: semua larva yang ditemukan dan menanam
O15: tanaman sela dan penutup tanah serta menanam
O16: dengan menggunakan varietas toleran terhadap
O17: hama tersebut.
F18: Penghisap Buah | G18: 0.5 | H18: 0 | I18: =SUM(G18:H18) -> 0.5 | J18: 0 | K18: 0 | L18: 0 | M18: 0.5 | N18: =SUM(J18:M18) -> 0.5 | O18: Musnahkan telur dipermukaan daun, cabang dan | P18: Produksi Menurun
F19: (Dasynus piperia) | O19: yang ada pada tandan buah kemuadian disemprot
O20: dengan pestisida nabati atau kimia.
F21: Kutu kebul/Kutu Putih | G21: 1 | H21: 0 | I21: =SUM(G21:H21) -> 1 | J21: 0 | K21: 0 | L21: 0 | M21: 1 | N21: =SUM(J21:M21) -> 1 | O21: Pengendalian secara kultur teknis, sanitasi kebun, | P21: Produksi Menurun
F22: (bermisia tabacci) | O22: pemupukan berimbang dan pengendalian secara
O23: mekanis dan kimia
F24: Penyakit Busuk Pangkal Batang | G24: 0.75 | H24: 0 | I24: =SUM(G24:H24) -> 0.75 | J24: 0 | K24: 0 | L24: 0 | M24: 0.75 | N24: =SUM(J24:M24) -> 0.75 | O24: Sanitasi Kebun, pemupukan berimbang, menanam | P24: Produksi Menurun
O25: tanaman penutup tanah, membuat parit, isolasi
F26: (jamur phytopthora | O26: dan penyiraman/penyemprotan larutan fungisida.
F27: palmivora var piperis)
F28: Penyakit Kuning | G28: 0.75 | H28: 0 | I28: =SUM(G28:H28) -> 0.75 | J28: 0 | K28: 0 | L28: 0 | M28: 0.75 | N28: =SUM(J28:M28) -> 0.75 | O28: Sanitasi kebun, pemupukan berimbang sesuai | P28: Produksi Menurun
F29: (cacing halus nematoda) | O29: dosis anjuran, pemangkasan pemeliharaan dan
F30: Radhophalus similis | O30: penaburan nematisida serta pemyemprotan dengan
O31: Pesnab
F32: Penyakit Kuning | G32: 0.1 | H32: 0 | I32: =G32+H32 -> 0.1 | J32: 0 | K32: 0 | L32: 0 | M32: 0.1 | N32: =SUM(J32:M32) -> 0.1 | O32: Pengaturan drainase kebun dengan parit isolasi dan | P32: Produksi Menurun
O33: Pemberian Pupuk sesuai anjuran
C35: Kutai Timur | D35: 257 | E35: Ha | F35: Busuk Pangkal Batang | G35: 22.2 | H35: 0 | I35: =G35+H35 -> 22.2 | J35: 0 | K35: 0 | L35: 0 | M35: 22.2 | N35: =M35 -> 22.2 | O35: Kultur Teknis dan Kimia | P35: 0
C37: Kutai Kartanegara | D37: 1145 | E37: Ha | F37: Penggerek Batang | G37: 8 | H37: 0 | I37: =SUM(G37:H37) -> 8 | J37: 0 | K37: 0 | L37: 1 | M37: 2 | N37: =SUM(J37:M37) -> 3 | O37: Mengunakan Pesnab dan ada yg belum dikendalikan | P37: 0
E38: Ha | F38: Busuk Pangkal Batang | G38: 0.22 | H38: 0 | I38: =SUM(G38:H38) -> 0.22 | J38: 0 | K38: 0 | L38: 0 | M38: 0.22 | N38: =SUM(J38:M38) -> 0.22 | O38: Menjaga kebersihan kebun/Mekanik | P38: 0
C40: Berau | D40: 1654.3 | E40: Ha | F40: Phytophtora (BPB) | G40: 17.5 | H40: 2.5 | I40: =SUM(G40:H40) -> 20 | J40: 0 | K40: 0 | L40: 0.5 | M40: 7 | N40: =SUM(J40:M40) -> 7.5 | O40: Kultur Teknis dan Kimia | P40: 0
F41: Pengisap Bunga | G41: 3.5 | H41: 0 | I41: =SUM(G41:H41) -> 3.5 | J41: 0 | K41: 0 | L41: 0 | M41: 1 | N41: =SUM(J41:M41) -> 1 | O41: -
F42: Penghisap Buah | G42: 15 | H42: 0 | I42: =SUM(G42:H42) -> 15 | J42: 0 | K42: 0 | L42: 0 | M42: 2.5 | N42: =SUM(J42:M42) -> 2.5 | O42: -
F43: Jamur Upas | G43: 1 | H43: 0 | I43: =SUM(G43:H43) -> 1 | J43: 0 | K43: 0 | L43: 0 | M43: 0 | N43: =SUM(J43:M43) -> 0 | O43: -
F44: Marasmius | G44: 3.6 | H44: 0 | I44: =SUM(G44:H44) -> 3.6 | J44: 0 | K44: 0 | L44: 0 | M44: 0 | N44: =SUM(J44:M44) -> 0 | O44: -
F45: Busuk Pangkal Batang | G45: 3.6 | H45: 0 | I45: =SUM(G45:H45) -> 3.6 | J45: 0 | K45: 0 | L45: 0 | M45: 0.5 | N45: =SUM(J45:M45) -> 0.5 | O45: -
C47: Samarinda | D47: - | F47: - | G47: - | H47: - | I47: - | J47: 0 | K47: 0 | L47: 0 | M47: - | N47: - | O47: - | P47: 0
C49: Kutai Barat | D49: - | F49: - | G49: - | H49: - | I49: - | J49: 0 | K49: 0 | L49: 0 | M49: - | N49: - | O49: - | P49: 0
C55: Bontang | D55: - | F55: - | G55: - | H55: - | I55: - | J55: 0 | K55: 0 | L55: 0 | M55: - | N55: - | O55: - | P55: 0
C57: Panajam Paser Utara | D57: 2291.1 | F57: Penyakit Kuning | G57: 5.82 | H57: 2.75 | I57: =G57+H57 -> 8.57 | J57: 0 | K57: 0 | L57: 0 | M57: - | N57: - | O57: Pemupukan | P57: 367500
F58: Busuk Pangkal Batang | G58: 5.82 | H58: 2.75 | I58: =G58+H58 -> 8.57 | J58: 0 | K58: 0 | L58: 0 | M58: - | N58: - | O58: Pembuatan Rorak, Kimiawi, Pemangkasan, Sanitasi lahan | P58: 367500
F59: Penghisap Bunga | G59: 6.08 | H59: 3 | I59: =G59+H59 -> 9.08 | J59: 0 | K59: 0 | L59: 0 | M59: - | N59: - | P59: 367500
F60: Penghisap Buah | G60: 6.08 | H60: 3 | I60: =G60+H60 -> 9.08 | J60: 0 | K60: 0 | L60: 0 | M60: - | N60: - | P60: 367500
F61: Pengerek Batang | G61: 6.08 | H61: 3 | I61: =G61+H61 -> 9.08 | J61: 0 | K61: 0 | L61: 0 | M61: - | N61: - | P61: 367500
F62: Rayap | G62: 5.4 | H62: 2.6 | I62: =G62+H62 -> 8 | J62: 0 | K62: 0 | L62: 0 | M62: - | N62: - | P62: 367500
F63: Keriting | G63: 0.43 | H63: 0.23 | I63: =G63+H63 -> 0.66 | J63: 0 | K63: 0 | L63: 0 | M63: - | N63: - | P63: 367500
C64: Mahakam Ulu | D64: - | F64: - | G64: - | H64: - | I64: - | J64: 0 | K64: 0 | L64: 0 | M64: - | N64: - | O64: - | P64: 0
A67: 2 | B67: Kelapa | C67: Balikpapan | D67: 834 | E67: Ha | F67: Arthona | G67: 0.5 | H67: 1 | I67: =SUM(G67:H67) -> 1.5 | J67: 0 | K67: 0 | L67: 0 | M67: 1.5 | N67: =SUM(J67:M67) -> 1.5 | O67: Batang dibor lalu diberikan insektisida cair 10 ml/ | P67: Produksi Menurun
O68: lubang.
C70: Paser | D70: 727 | E70: Ha | F70: Sexapa sp, | G70: 0.75 | H70: 0 | I70: =SUM(G70:H70) -> 0.75 | J70: 0 | K70: 0 | L70: 0 | M70: 1.5 | N70: =SUM(J70:M70) -> 1.5 | O70: Teknis/Mekanis | P70: 162936
F71: Orytes rhinoceros | G71: 1 | H71: 0 | I71: =SUM(G71:H71) -> 1 | J71: 0 | K71: 0 | L71: 0 | M71: 2 | N71: =SUM(J71:M71) -> 2 | O71: Teknis/Mekanis | P71: 141211.2
C73: Kutai Timur | F73: - | G73: - | H73: - | I73: - | J73: 0 | K73: 0 | L73: 0 | M73: - | N73: - | O73: - | P73: -
C75: Kutai Kartanegara | D75: 5183 | E75: Ha | F75: Kera | G75: 10 | H75: - | I75: =SUM(G75:H75) -> 10 | J75: 0 | K75: 0 | L75: 0 | M75: 0 | N75: =SUM(J75:M75) -> 0 | O75: Menjaga kebersihan kebun | P75: -
F76: Artona, sp | G76: 0.5 | H76: - | I76: =SUM(G76:H76) -> 0.5 | J76: 0 | K76: 0 | L76: 0 | M76: 0 | N76: =SUM(J76:M76) -> 0 | O76: Menjaga kebersihan kebun
F77: Babi Hutan | G77: 2 | H77: - | I77: =SUM(G77:H77) -> 2 | J77: 0 | K77: 0 | L77: 0 | M77: 2 | N77: =SUM(J77:M77) -> 2 | O77: Secara Mekanik
C79: Berau | D79: 463 | E79: Ha | F79: Orystes rhinoceros | G79: 7.5 | H79: 0 | I79: =SUM(G79:H79) -> 7.5 | J79: 0 | K79: 0 | L79: 0 | M79: 0 | N79: =SUM(J79:M79) -> 0 | O79: -
F80: Plesispa/Brontispa | G80: 3.5 | H80: 0 | I80: =SUM(G80:H80) -> 3.5 | J80: 0 | K80: 0 | L80: 0 | M80: 0 | N80: =SUM(J80:M80) -> 0 | O80: -
F81: Beruang | G81: 25 | H81: 0 | I81: =SUM(G81:H81) -> 25 | J81: 0 | K81: 0 | L81: 0 | M81: 0 | N81: =SUM(J81:M81) -> 0 | O81: -
C83: Samarinda | D83: - | F83: - | G83: - | H83: - | I83: - | J83: 0 | K83: 0 | L83: 0 | M83: - | N83: - | O83: - | P83: 0
C85: Kutai Barat | D85: - | F85: - | G85: - | H85: - | I85: - | J85: 0 | K85: 0 | L85: 0 | M85: - | N85: - | O85: - | P85: 0
C87: Bontang | D87: 13 | E87: Ha | F87: Orystes rhinoceros | G87: 0.01 | H87: 0 | I87: =SUM(G87:H87) -> 0.01
C89: Panajam Paser Utara | D89: 3660 | E89: Ha | F89: Orystes rhinoceros | G89: 8.04 | H89: 3.62 | I89: =G89+H89 -> 11.66 | J89: 0 | K89: 0 | L89: 0 | M89: 1.6 | N89: =SUM(J89:M89) -> 1.6 | O89: Kimiawi | P89: 235000
F90: Tupai | G90: 8.04 | H90: 3.62 | I90: =G90+H90 -> 11.66 | J90: 0 | K90: 0 | L90: 0 | M90: 1.6 | N90: =SUM(J90:M90) -> 1.6 | O90: Kimiawi
F91: Artona | G91: 8.03 | H91: 3.62 | I91: =G91+H91 -> 11.65 | J91: 0 | K91: 0 | L91: 0 | M91: 1.6 | N91: =SUM(J91:M91) -> 1.6 | O91: Kimiawi
F92: Layu Kalimantan | G92: 2.55 | H92: 1.27 | I92: =G92+H92 -> 3.82 | J92: 0 | K92: 0 | L92: 0 | M92: 0.27 | N92: =SUM(J92:M92) -> 0.27 | O92: Kimiawi
F93: Babi | G93: 5.48 | H93: 2.35 | I93: =G93+H93 -> 7.83 | J93: 0 | K93: 0 | L93: 0 | M93: 1.33 | N93: =SUM(J93:M93) -> 1.33 | O93: Kimiawi
F94: Kera | G94: 1.86 | H94: 0.48 | I94: =G94+H94 -> 2.34 | J94: 0 | K94: 0 | L94: 0 | M94: 0.28 | N94: =SUM(J94:M94) -> 0.28 | O94: Kimiawi
C96: Mahakam Ulu | D96: - | F96: - | G96: - | H96: - | I96: - | J96: 0 | K96: 0 | L96: 0 | M96: - | N96: - | O96: - | P96: 0
A102: 3 | B102: Kelapa Sawit | C102: Balikpapan | D102: - | F102: - | G102: - | H102: - | I102: - | J102: 0 | K102: 0 | L102: 0 | M102: - | N102: - | O102: - | P102: -
C104: Paser | D104: 36819 | E104: Ha | F104: Ganoderma, sp | G104: 4 | H104: 1 | I104: =SUM(G104:H104) -> 5 | J104: 0 | K104: 0 | L104: 0 | M104: 9 | N104: =SUM(J104:M104) -> 9 | O104: Mekanis/Tricoderma, sp | P104: 3737989.9
C106: Kutai Timur | D106: 3210.7 | E106: Ha | F106: Tikus | G106: 5.85 | H106: 0 | I106: =G106+H106 -> 5.85 | J106: 0 | K106: 0 | L106: 0 | M106: 2.15 | N106: =J106+K106+L106+M106 -> 2.15 | O106: Menggunakan potongan rambut
F107: Landak | G107: 0.85 | H107: 0 | I107: =G107+H107 -> 0.85 | J107: 0 | K107: 0 | L107: 0 | N107: =J107+K107+L107+M107 -> 0 | O107: Menggunakan potongan rambut
F108: Busuk Pangkal Pupus | G108: 10.8 | H108: 0 | I108: =G108+H108 -> 10.8 | J108: 0 | K108: 0 | L108: 0 | M108: 3 | N108: =J108+K108+L108+M108 -> 3 | O108: Pemberian garam dapur, fungisida
F109: Ganoderma | G109: 4.2 | H109: 0 | I109: =G109+H109 -> 4.2 | J109: 0 | K109: 0 | L109: 0 | M109: 0 | N109: =J109+K109+L109+M109 -> 0 | O109: Pemberian garam dapur, fungisida
F110: Orang hutan | G110: 1.5 | H110: 0 | I110: =G110+H110 -> 1.5 | J110: 0 | K110: 0 | L110: 0 | M110: 0.5 | N110: =J110+K110+L110+M110 -> 0.5 | O110: Jebakan
D111: 232 | E111: Ha | F111: Ulat Kantong | G111: 1 | H111: 0 | I111: =G111+H111 -> 1 | J111: 0 | K111: 0 | L111: 0 | M111: 1 | N111: =J111+K111+L111+M111 -> 1 | O111: Menggunakan Teknis Budidaya, Kimia
C113: Kutai Kartanegara | D113: 3846.5 | E113: Ha | F113: Tikus | G113: 0.65 | H113: 0 | I113: =SUM(G113:H113) -> 0.65 | J113: 0 | K113: 0 | L113: 0 | M113: 0.5 | N113: =SUM(J113:M113) -> 0.5 | O113: Secara Mekanik/menjaga kebersihan kebun
F114: Oryctes sp | G114: 24.5 | H114: 0 | I114: =SUM(G114:H114) -> 24.5 | J114: 0 | K114: 0 | L114: 0 | M114: 24.5 | N114: =SUM(J114:M114) -> 24.5 | O114: Secara Kimiawi (Dhitane)
F115: Kutu Daun | G115: 0.25 | H115: 0 | I115: =SUM(G115:H115) -> 0.25 | J115: 0 | K115: 0 | L115: 0 | M115: 0.25 | N115: =SUM(J115:M115) -> 0.25 | O115: Secara mekanik dan kimiawi
C117: Berau | D117: 1279 | E117: Ha | F117: Crown Disease | G117: 2 | H117: 0 | I117: =SUM(G117:H117) -> 2 | J117: 0 | K117: 0 | L117: 0 | M117: 0 | N117: =SUM(J117:M117) -> 0 | O117: Kimiawi | P117: 0
F118: Marasmius | G118: 2 | H118: 0 | I118: =SUM(G118:H118) -> 2 | J118: 0 | K118: 0 | L118: 0 | M118: 0 | N118: =SUM(J118:M118) -> 0 | O118: Kimiawi | P118: 0
F119: Ulat api | G119: 0.7 | H119: 0 | I119: =SUM(G119:H119) -> 0.7 | J119: 0 | K119: 0 | L119: 0 | M119: 0 | N119: =SUM(J119:M119) -> 0 | O119: Kimiawi
F120: Tungau | G120: 2 | H120: 0 | I120: =SUM(G120:H120) -> 2 | J120: 0 | K120: 0 | L120: 0 | M120: 0 | N120: =SUM(J120:M120) -> 0 | O120: Kimiawi
F121: Rayap (Macrotermes gilvus) | G121: 3 | H121: 0 | I121: =SUM(G121:H121) -> 3 | J121: 0 | K121: 0 | L121: 0 | M121: 0 | N121: =SUM(J121:M121) -> 0 | O121: Kimiawi
C123: Samarinda | D123: 1475 | E123: Ha | F123: Ladak dan Tikus | G123: 28 | H123: 9 | I123: =SUM(G123:H123) -> 37 | J123: 0 | K123: 0 | L123: 20 | M123: 17 | N123: =SUM(J123:M123) -> 37 | O123: Kawat/umpan | P123: 12500000
C125: Kutai Barat | D125: - | F125: - | G125: - | H125: - | I125: - | J125: 0 | K125: 0 | L125: 0 | M125: - | N125: - | P125: -
C127: Bontang | D127: - | F127: - | G127: - | H127: - | I127: - | J127: 0 | K127: 0 | L127: 0 | M127: - | N127: - | O127: - | P127: -
C129: Panajam Paser Utara | D129: 33043.22 | E129: Ha | F129: Babi | G129: 20.95 | H129: 18.5 | I129: =G129+H129 -> 39.45 | J129: 0 | K129: 0 | L129: 0 | M129: 7.67 | N129: =J129+K129+L129+M129 -> 7.67 | O129: Buru | P129: 63500000
F130: Landak | G130: 20.95 | H130: 18.5 | I130: =G130+H130 -> 39.45 | J130: 0 | K130: 0 | L130: 0 | M130: 7.67 | N130: =J130+K130+L130+M130 -> 7.67 | O130: Buru | P130: 63500000
F131: Tikus | G131: 20.95 | H131: 18.5 | I131: =G131+H131 -> 39.45 | J131: 0 | K131: 0 | L131: 0 | M131: 7.67 | N131: =J131+K131+L131+M131 -> 7.67 | O131: Umpan | P131: 63500000
F132: Ganoderma | G132: 6.72 | H132: 11.96 | I132: =G132+H132 -> 18.68 | J132: 0 | K132: 0 | L132: 0 | M132: 1.82 | N132: =J132+K132+L132+M132 -> 1.82 | O132: Kimiawi | P132: 63500000
F133: Busuk buah | G133: 20.95 | H133: 18.45 | I133: =G133+H133 -> 39.4 | J133: 0 | K133: 0 | L133: 0 | M133: 7.67 | N133: =J133+K133+L133+M133 -> 7.67 | O133: Kimiawi | P133: 63500000
F134: Busuk Pucuk | G134: 9.56 | H134: 4.5 | I134: =G134+H134 -> 14.06 | J134: 0 | K134: 0 | L134: 0 | M134: 4 | N134: =J134+K134+L134+M134 -> 4 | O134: Kimiawi | P134: 63500000
C136: Mahakam Ulu | D136: - | F136: - | G136: - | H136: - | I136: - | J136: 0 | K136: 0 | L136: 0 | M136: - | N136: - | O136: - | P136: -
A139: 4 | B139: Kakao | C139: Balikpapan | D139: - | F139: - | G139: - | H139: - | I139: - | J139: 0 | K139: 0 | L139: 0 | M139: - | N139: - | O139: - | P139: -
C141: Paser | D141: 797 | F141: PBK | G141: 1 | H141: 0.5 | I141: =SUM(G141:H141) -> 1.5 | J141: 0 | K141: 0 | L141: 0 | M141: 1 | N141: =SUM(J141:M141) -> 1 | O141: Teknis/Mekanis | P141: 310140
C143: Kutai Timur | D143: 89 | E143: Ha | F143: PBK | G143: 28.45 | H143: 8.04 | I143: =G143+H143 -> 36.49 | J143: 0 | K143: 0 | L143: 0 | M143: 16.9 | N143: =SUM(J143:M143) -> 16.9 | O143: Kultur Teknis Biologis, Kimia | P143: -
F144: Helopeltis | G144: 19.3 | H144: 2.75 | I144: =G144+H144 -> 22.05 | M144: 6.7 | N144: =SUM(J144:M144) -> 6.7 | O144: Kultur Teknis
...

Sheet Grafik2
B2: DATA TINGGKAT SERANGAN HAMA dan GULMA TANAMAN PERKEBUNAN PER KOMODITI PADA TRIWULAN IV
B3: TAHUN ANGGARAN 2017
B5: No. | C5: Uraian | D5: KOMODITI
D6: Lada | E6: Kelapa | F6: Kelapa Sawit | G6: Karet | H6: Kakao
B7: 1 | C7: Penghisap buah | D7: ='Rekap S.Hama'!A130 -> 26.08 | G7: ='Rekap S.Hama'!C130 -> 7
B8: =B7+1 -> 2 | C8: Sexapa sp | E8: ='Rekap S.Hama'!B131 -> 0.75
B9: =B8+1 -> 3 | C9: Orytes rhinoceros | E9: ='Rekap S.Hama'!B132 -> 20.17 | F9: ='Rekap S.Hama'!E132 -> 24.5
B10: =B9+1 -> 4 | C10: PBK | H10: ='Rekap S.Hama'!C133 -> 87.93
B11: =B10+1 -> 5 | C11: Tikus | F11: ='Rekap S.Hama'!E134 -> 64.45 | H11: ='Rekap S.Hama'!C134 -> 0.62
B12: =B11+1 -> 6 | C12: Landak | F12: ='Rekap S.Hama'!E135 -> 58.8
B13: =B12+1 -> 7 | C13: Orang hutan | F13: ='Rekap S.Hama'!E136 -> 1.5
B14: =B13+1 -> 8 | C14: Ulat Kantong | F14: ='Rekap S.Hama'!E137 -> 1
B15: =B14+1 -> 9 | C15: Helopeltis | H15: ='Rekap S.Hama'!C138 -> 29.6
B16: =B15+1 -> 10 | C16: Tupai | H16: ='Rekap S.Hama'!C139 -> 14.97
B17: =B16+1 -> 11 | C17: Penggerek batang | D17: ='Rekap S.Hama'!A140 -> 17.58 | H17: ='Rekap S.Hama'!C140 -> 6.6
B18: =B17+1 -> 12 | C18: Rayap | D18: ='Rekap S.Hama'!A141 -> 8 | G18: ='Rekap S.Hama'!D141 -> 48.01
B19: =B18+1 -> 13 | C19: Kera | E19: ='Rekap S.Hama'!B142 -> 12.34
B20: =B19+1 -> 14 | C20: Arthona | E20: ='Rekap S.Hama'!B143 -> 13.65
B21: =B20+1 -> 15 | C21: Babi hutan | E21: ='Rekap S.Hama'!B144 -> 9.83 | F21: ='Rekap S.Hama'!E144 -> 39.45 | G21: ='Rekap S.Hama'!D144 -> 17 | H21: ='Rekap S.Hama'!C144 -> 0.24
B22: =B21+1 -> 16 | C22: Kutu daun | F22: ='Rekap S.Hama'!E145 -> 0.25
B23: =B22+1 -> 17 | C23: Penghisap bunga | D23: ='Rekap S.Hama'!A146 -> 12.58
B24: 18 | C24: Brontispa | E24: ='Rekap S.Hama'!B147 -> 3.5
B25: 19 | C25: Beruang | E25: ='Rekap S.Hama'!B148 -> 25
B26: 20 | C26: Ulat api | F26: ='Rekap S.Hama'!E149 -> 0.7
B27: 21 | C27: Tungau | G27: ='Rekap S.Hama'!D150 -> 2 | H27: ='Rekap S.Hama'!E150 -> 2
B28: 22 | C28: Kijang | G28: ='Rekap S.Hama'!D151 -> 12.93
A31: Grafik | B31: Tinggkat serangan Hama dan Gulma Tanaman Perkebunan Per Komoditi pada Triwulan IV
A62: Ket. | B62: Dari hasil grafik diperoleh tingkat serangan hama yang paling tinggi adalah Hama PBK yang menyerang pada tanaman kakao dengan tingkat serangan mencapai 87.83. Hama Tikus yang menyerang pada tanaman Kelapa Sawit dengan tingkat serangan sebesar 64.45 Ha, Hama Landak yang menyerang pada tanaman Kelapa Sawit dengan tingkat serangan 58.80 Ha, Hama rayap yang menyerang tanaman karet dengan tingkat serangan 48.01 Ha dan Babi hutan yang menyerang tanaman kelapa sawit dengan tingkat serangan 39.45 Ha, untuk hama yang lain tingkat seranganya tidak terlalu dominan.
G68: Samarinda, Desember 2017
G69: Mengetahui,
G70: Kepala UPTD - P2TP
G74: Ir. Supriyadi, M.Si
G75: NIP. 196011081988031008
B92: DATA TINGGKAT SERANGAN PENYAKIT TANAMAN PERKEBUNAN PER KOMODITI PADA TRIWULAN IV
B93: TAHUN ANGGARAN 2017
B96: No. | C96: URAIAN | D96: KOMODITI
D97: Lada | E97: Kelapa | F97: Kakao | G97: Karet | H97: K Sawit
B98: 1 | C98: Ganoderma, sp | G98: 0 | H98: 23.68
B99: =B98+1 -> 2 | C99: Busuk Pangkal Batang | D99: 55.34
B100: =B99+1 -> 3 | C100: Busuk Buah Kaka0 | F100: 31.59 | R100: KOMODITI
B101: =B100+1 -> 4 | C101: JAP | G101: 474.6 | R101: Lada | S101: Kelapa | T101: Kakao | U101: Karet | V101: K Sawit
B102: =B101+1 -> 5 | C102: KAS | G102: 240.93 | P102: 1 | Q102: Ganoderma, sp | U102: 0 | V102: 23.68
B103: =B102+1 -> 6 | C103: Marasmius, SP | H103: 19 | P103: =P102+1 -> 2 | Q103: Busuk Pangkal Batang | R103: 55.34
B104: =B103+1 -> 7 | C104: Jamur Upas | G104: 1.5 | P104: =P103+1 -> 3 | Q104: Busuk Buah Kaka0 | T104: 31.59
B105: =B104+1 -> 8 | C105: Crown Disease | H105: 41.4 | P105: =P104+1 -> 4 | Q105: JAP | U105: 474.6
B106: =B105+1 -> 9 | C106: VSD | F106: 4 | P106: =P105+1 -> 5 | Q106: KAS | U106: 240.93
B107: 10 | C107: Penyakit Kuning | D107: 9.42 | P107: =P106+1 -> 6 | Q107: Marasmius, SP | V107: 19
B108: 11 | C108: Layu Kalimantan | E108: 3.82 | P108: =P107+1 -> 7 | Q108: Jamur Upas | U108: 1.5
B109: 12 | C109: Keiting | D109: ='Rekap S.Penyakit'!B112 -> 0.66 | P109: =P108+1 -> 8 | Q109: Keriting | R109: =D109 -> 0.66
B110: 13 | C110: Busuk Pucuk | H110: 14.06 | P110: =P109+1 -> 9 | Q110: Crown Disease | V110: 41.4
P111: =P110+1 -> 10 | Q111: VSD | T111: 4
P112: =P111+1 -> 11 | Q112: Penyakit Kuning | R112: 9.42
P113: =P112+1 -> 12 | Q113: Layu Kalimantan | S113: 3.82
A114: Grafik | B114: Tinggkat serangan Penyakit Tanaman Perkebunan Per Komoditi pada Triwulan IV | P114: =P113+1 -> 13 | Q114: Busuk Pucuk | R114: 0.2 | V114: 14.06
A146: Ket. | B146: Dari hasil grafik diperoleh tingkat serangan penyakit tanaman perkebunan yang paling tinggi adalah penyakit Jamur akar Putih yang menyerang komoditi Karet dengan tingkat serangan mencapai 474.60 Ha disusul dengan penyakit Kering Alur Sadap dengan tingkat serangan mencapai 240.93 Ha pada Komoditi Karet, untuk penyakit Busuk Pangkal Batang yang menyerang komoditi lada dengan tingkat serangan seluas 55.34 Ha. Jenis serangan penyakit yang lain pada komoditi tanaman perkebunan yang lain belum begitu dominan.
G152: Samarinda, Desember 2017
G153: Mengetahui,
G154: Kepala UPTD - P2TP,
G158: Ir. Supriyadi, M.Si
G159: NIP. 196011081988031008

Sheet Grafik1
B3: DATA LUAS SERANGAN DAN LUAS PENGENDALIAN OPT TANAMAN PERKEBUNAN
B4: TRI WULAN IV TAHUN ANGGARAN 2017
B6: No. | C6: Luas Serangan | D6: Luas Pengendalian
B7: Lada | C7: ='Rekap H.P'!I178 -> 152.4 | D7: ='Rekap H.P'!N178 -> 42.52
B8: Kelapa | C8: ='Rekap H.P'!I179 -> 104.53 | D8: ='Rekap H.P'!N179 -> 13.95
B9: Kelapa Sawit | C9: ='Rekap H.P'!I180 -> 405.05 | D9: ='Rekap H.P'!N180 -> 182.79
B10: Kakao | C10: ='Rekap H.P'!I181 -> 167.48 | D10: ='Rekap H.P'!N181 -> 51.8
B11: Karet | C11: ='Rekap H.P'!I182 -> 911.16 | D11: ='Rekap H.P'!N182 -> 168.81
B14: Grafik Luas Tingkat Serangan dan Pengendalian OPT Tanaman Perkebunan TRI WULAN IV
A35: Ket. | B35: Dari hasil grafik perkembangan luas serangan OPT dan Luas Pengendalian OPT Tanaman Perkebunan pada Tri wulan IV dari 5 Komoditi unggulan yang mengalami tingkat serangan OPT paling tinggi adalah komoditi Karet sebesar 911.16 Ha yang telah dilakukan pengendalian sebesar 168.81 Ha untuk komoditi Kelapa Sawit luas serangan mencapai 405.05 Ha dan luas pengendalikan seluas 182.79 Ha, untuk komoditi kakao tingkat serangan OPT seluas 167.48 Ha dengan luas pengendalian 51.80 Ha, sedangkan komoditi lada tingkat serangan OPT mencapai 152.40 Ha dan luas pengendaliannya 42.52 Ha untuk Komoditi Kelapa serangan OPT mencapai 104.53 Ha dan luas pengendalian seluas 13.95 Ha.
D42: Samarinda, Desember 2017
D43: Mengetahui,
D44: Kepala UPTD - P2TP
D48: Ir. Supriyadi, M.Si
D49: NIP. 196011081988031008
B76: DATA LUAS SERANGAN DAN LUAS PENGENDALIAN HAMA TANAMAN PERKEBUNAN
B77: TRI WULAN IV TAHUN ANGGARAN 2017
B79: Hama Yang Menyerang | C79: Luas Serangan | D79: Luas Pengendalian
B80: Penghisap buah | C80: ='Rekap S.Hama'!M130 -> 33.08 | D80: ='Rekap S.Hama'!N130 -> 5
B81: Sexapa sp | C81: ='Rekap S.Hama'!M131 -> 0.75 | D81: ='Rekap S.Hama'!N131 -> 1.5
B82: Orytes rhinoceros | C82: ='Rekap S.Hama'!M132 -> 44.67 | D82: ='Rekap S.Hama'!N132 -> 28.1
B83: PBK | C83: ='Rekap S.Hama'!M133 -> 87.93 | D83: ='Rekap S.Hama'!N133 -> 40.9
B84: Tikus | C84: ='Rekap S.Hama'!M134 -> 65.07 | D84: ='Rekap S.Hama'!N134 -> 10.32
B85: Landak | C85: ='Rekap S.Hama'!M135 -> 58.8 | D85: ='Rekap S.Hama'!N135 -> 26.17
B86: Orang hutan | C86: ='Rekap S.Hama'!M136 -> 1.5 | D86: ='Rekap S.Hama'!N136 -> 0.5
B87: Ulat Kantong | C87: ='Rekap S.Hama'!M137 -> 1 | D87: ='Rekap S.Hama'!N137 -> 4
B88: Helopeltis | C88: ='Rekap S.Hama'!M138 -> 29.6 | D88: ='Rekap S.Hama'!N138 -> 6.7
B89: Tupai | C89: ='Rekap S.Hama'!M139 -> 14.97 | D89: ='Rekap S.Hama'!N139 -> 2.4
B90: Penggerek batang | C90: 33.08 | D90: ='Rekap S.Hama'!N140 -> 6.9
B91: Rayap | C91: ='Rekap S.Hama'!M141 -> 56.01 | D91: ='Rekap S.Hama'!N141 -> 39.72
B92: Kera | C92: 33.08 | D92: ='Rekap S.Hama'!N142 -> 0.28
B93: Artona, sp | C93: ='Rekap S.Hama'!M143 -> 13.65 | D93: ='Rekap S.Hama'!N143 -> 3.1
B94: Babi hutan | C94: ='Rekap S.Hama'!M144 -> 66.52 | D94: ='Rekap S.Hama'!N144 -> 12.38
B95: Kutu daun | C95: ='Rekap S.Hama'!M145 -> 0.25 | D95: ='Rekap S.Hama'!N145 -> 1.75
B96: Pengisap bunga | C96: ='Rekap S.Hama'!M146 -> 12.58 | D96: ='Rekap S.Hama'!N146 -> 1
B97: Brontispa | C97: ='Rekap S.Hama'!M147 -> 3.5 | D97: 0
B98: Beruang | C98: ='Rekap S.Hama'!M148 -> 25 | D98: 0
B99: Ulat Api | C99: ='Rekap S.Hama'!M149 -> 0.7 | D99: 0
B100: Tungau | C100: ='Rekap S.Hama'!M150 -> 4 | D100: 0
B101: Kijang | C101: ='Rekap S.Hama'!M151 -> 12.93 | D101: ='Rekap S.Hama'!N151 -> 3.2
A124: Ket. | B124: Dari hasil grafik luas serangan dan luas pengendalian hama yang menyerang tanaman perkebunan pada triwulan IV adalah hama PBK yang menyerang tanaman Kakao dengan luas serangan 87.93 Ha yang telah dikendalikan seluas 40.90 Ha, Hama Tikus yang menyerang tanaman kelapa sawit dengan tingkat serangan 64.45 Ha yang telah dikendalikan seluas 10.32 Ha, Hama Landak yang menyerang Kelapa Sawit dengan tingkat serangan 58.80 Ha yang telah dikendalikan seluas 26.17 Ha, Hama rayap yang menyerang tanaman karet dengan tingkat serangan seluas 48.01 Ha dan telah dikendalikan seluas 39.72 Ha, dan Hama babi hutan yang menyerang tanaman Kelapa Sawit seluas 39.45 Ha dan telah dikendalikan seluas 7.67 Ha. Untuk tingkat serangan hama yang lain tingkat serangannya kurang begitu dominan.
B136: DATA LUAS SERANGAN DAN LUAS PENGENDALIAN PENYAKIT TANAMAN PERKEBUNAN
B137: TRI WULAN IV TAHUN ANGGARAN 2017
B139: Penyakit Yang Menyerang | C139: Luas Serangan | D139: Luas Pengendalian
B140: Ganoderma, Sp | C140: ='Rekap S.Penyakit'!P100 -> 23.68 | D140: 82.36
B141: Busuk pangkal batang | C141: ='Rekap S.Penyakit'!P101 -> 55.34 | D141: 32.3
B142: JAP | C142: ='Rekap S.Penyakit'!P102 -> 474.6 | D142: 3.33
B143: KAS | C143: ='Rekap S.Penyakit'!P103 -> 240.93 | D143: 0.2
B144: Marasmius | C144: ='Rekap S.Penyakit'!P104 -> 22.6 | D144: 0
B145: Jamur Upas | C145: ='Rekap S.Penyakit'!P105 -> 1.5 | D145: 1.06
B146: Crown Disease | C146: ='Rekap S.Penyakit'!P106 -> 41.4 | D146: 65.5
B147: Busuk buah kakao | C147: ='Rekap S.Penyakit'!P107 -> 31.59 | D147: 0
B148: VSD | C148: ='Rekap S.Penyakit'!P108 -> 4 | D148: 0
B149: Penyakit kuning | C149: ='Rekap S.Penyakit'!P109 -> 9.42 | D149: 0
B150: Layu Kalimantan | C150: ='Rekap S.Penyakit'!P110 -> 3.82 | D150: 0
B151: Busuk Pucuk | C151: ='Rekap S.Penyakit'!P111 -> 14.06 | D151: ='Rekap S.Penyakit'!Q111 -> 4
B152: Keriting | C152: ='Rekap S.Penyakit'!P112 -> 0.66 | D152: ='Rekap S.Penyakit'!Q112 -> 0
A182: Ket. | B182: Dari hasil grafik luas serangan dan luas pengendalian penyakit yang menyerang tanaman perkebunan untuk penyakit JAP yang menyerang komoditi dengan tingkat serangan seluas 474.60 Ha yang sudah dikendalikan seluas 3.33 Ha, Penyakit KAS dengan tingkat serangan seluas 240.93 Ha yang sudah dikendalikan seluas 0.20 Ha, Penyakit Busuk Pangkal Batang dengan tingkat serangan seluas 55.34 Ha yang telah dikendalikan seluas 32.30 Ha, penyakit Crown Disease dengan tingkat serangan 41.40 Ha dengan luas pengendalian 65.50 Ha, Penyakit Ganoderma, sp dengan tingkat serangan 23.08 Ha yang sudah dikendalikan seluas 82.36 Ha, untuk penyakit Busuk buah mengalami serangan seluas 31.59 Ha dan belum ada pengendalian.

Sheet Rekap H.P
A1: REKAPITULASI SERANGAN HAMA, PENYAKIT DAN GULMA TANAMAN PERKEBUNAN TRIWULAN IV
A2: UPTD - P2TP TAHUN ANGGARAN 2017
A3: DINAS PERKEBUNAN PROVINSI KALIMANTAN TIMUR
A6: No | B6: Kabupaten / Kota | C6: Jenis Komoditi / | D6: Luas Komoditi | F6: Jenis OPT | G6: Luas Serangan (Ha) | J6: Luas Pengendalian (Ha) | N6: Jumlah | O6: Cara Pengendalian | P6: Kerugian
C7: Kab, Kec, Desa | D7: ( Ha ) | G7: Ringan | H7: Berat | I7: Jumlah | J7: APBN | K7: APBD I | L7: APBD II | M7: Masyarakat | N7: ( Ha) | P7: Hasil (Rp)
A8: 1 | C8: 2 | D8: 3 | F8: 4 | G8: 5 | H8: 7 | I8: 8 | J8: 9 | K8: 10 | L8: 11 | M8: 12 | N8: 13 | O8: 14 | P8: 15
A10: 1 | B10: PASER | C10: Lada | D10: 6018 | E10: Ha | F10: Penghisap Buah | G10: 1.5 | H10: 0 | I10: =SUM(G10:H10) -> 1.5 | J10: 0 | K10: 0 | L10: 0 | M10: 2 | N10: =SUM(J10:M10) -> 2 | O10: Mekanis/Teknis | P10: 782388.5
C11: Kelapa | D11: 727 | E11: Ha | F11: Sexapa sp, | G11: 0.75 | H11: 0 | I11: =SUM(G11:H11) -> 0.75 | J11: 0 | K11: 0 | L11: 0 | M11: 1.5 | N11: =SUM(J11:M11) -> 1.5 | O11: Teknis/Mekanis | P11: 162936
F12: Orytes rhinoceros | G12: 1 | H12: 0 | I12: =SUM(G12:H12) -> 1 | J12: 0 | K12: 0 | L12: 0 | M12: 2 | N12: =SUM(J12:M12) -> 2 | O12: Teknis/Mekanis | P12: 141211.2
C13: Kelapa Sawit | D13: =PERKAB.P!C65 -> 36819 | E13: Ha | F13: Curvularia sp | G13: 1.5 | H13: 1.5 | I13: =G13+H13 -> 3 | J13: 0 | K13: 0 | L13: 0 | M13: 3 | N13: =SUM(J13:M13) -> 3 | O13: Mekanis/Kimia | P13: 1726358.3
F14: Ganoderma, sp | G14: 30.06 | H14: 15.05 | I14: =G14+H14 -> 45.11 | J14: 0 | K14: 0 | L14: 0 | M14: 60 | N14: =SUM(J14:M14) -> 60 | O14: Mekanis/Teknis/Biofungisida | P14: 36340533
C15: Karet | D15: =PERKAB.P!C69 -> - | E15: Ha | F15: JAP | G15: 21 | H15: 1.5 | I15: =G15+H15 -> 22.5 | J15: 0 | K15: 0 | L15: 0 | M15: 33 | N15: =SUM(J15:M15) -> 33 | O15: - | P15: 11197182
F16: KAS | G16: 1.5 | H16: 0 | I16: =G16+H16 -> 1.5 | J16: 0 | K16: 0 | L16: 0 | M16: 3 | N16: =M16 -> 3 | P16: 559883.52
C17: Kakao | D17: 797 | F17: PBK | G17: 1 | H17: 0.5 | I17: =SUM(G17:H17) -> 1.5 | J17: 0 | K17: 0 | L17: 0 | M17: 1 | N17: =SUM(J17:M17) -> 1 | O17: Teknis/Mekanis | P17: 310140
A19: 2 | B19: KUTAI TIMUR | C19: Lada | D19: 257 | E19: Ha | F19: Busuk Pangkal Batang | G19: 22.2 | H19: 0 | I19: =G19+H19 -> 22.2 | J19: 0 | K19: 0 | L19: 0 | M19: 22.2 | N19: =M19 -> 22.2 | O19: Kultur Teknis dan Kimia | P19: 0
C20: Kelapa | D20: - | F20: - | G20: 0 | H20: 0 | I20: - | J20: 0 | K20: 0 | L20: 0 | M20: 0 | N20: - | O20: - | P20: -
C21: Kelapa Sawit | D21: 3210.7 | E21: Ha | F21: Tikus | G21: 5.85 | H21: 0 | I21: =G21+H21 -> 5.85 | J21: 0 | K21: 0 | L21: 0 | M21: 2.15 | N21: =J21+K21+L21+M21 -> 2.15 | O21: Menggunakan potongan rambut | P21: -
F22: Landak | G22: 0.85 | H22: 0 | I22: =G22+H22 -> 0.85 | J22: 0 | K22: 0 | L22: 0 | N22: =J22+K22+L22+M22 -> 0 | O22: Menggunakan potongan rambut
F23: Orang hutan | G23: 1.5 | H23: 0 | I23: =G23+H23 -> 1.5 | J23: 0 | K23: 0 | L23: 0 | M23: 0.5 | N23: =J23+K23+L23+M23 -> 0.5 | O23: Jebakan
D24: 232 | E24: Ha | F24: Ulat Kantong | G24: 1 | H24: 0 | I24: =G24+H24 -> 1 | J24: 0 | K24: 0 | L24: 0 | M24: 1 | N24: =J24+K24+L24+M24 -> 1 | O24: Menggunakan Teknis Budidaya, Kimia
D25: 89 | E25: Ha | F25: Busuk Buah | G25: 14.8 | H25: 2.2 | I25: =G25+H25 -> 17 | M25: 3.9 | N25: =SUM(J25:M25) -> 3.9 | O25: Kultur Teknis
C26: Kakao | D26: 89 | E26: Ha | F26: PBK | G26: 28.45 | H26: 8.04 | I26: =G26+H26 -> 36.49 | J26: 0 | K26: 0 | L26: 0 | M26: 16.9 | N26: =SUM(J26:M26) -> 16.9 | O26: Kultur Teknis Biologis, Kimia | P26: -
F27: Helopeltis | G27: 19.3 | H27: 2.75 | I27: =G27+H27 -> 22.05 | M27: 6.7 | N27: =SUM(J27:M27) -> 6.7 | O27: Kultur Teknis
F28: Tupai | G28: 0.9 | H28: 0 | I28: =G28+H28 -> 0.9 | M28: 0.8 | N28: =SUM(J28:M28) -> 0.8 | O28: Mekanis
F29: Penggerek Batang | G29: 6.6 | H29: 0 | I29: =G29+H29 -> 6.6 | M29: 3.4 | N29: =SUM(J29:M29) -> 3.4 | O29: Biologis
C30: Karet | D30: 2272.1 | E30: Ha | F30: Rayap | G30: 24.8 | H30: 0 | I30: =G30+H30 -> 24.8 | J30: 0 | K30: 0 | L30: 0 | M30: 24.8 | N30: =SUM(J30:M30) -> 24.8 | P30: -
F31: Jamur Akar Putih | G31: 64.33 | H31: 0 | I31: =SUM(G31:H31) -> 64.33 | J31: 0 | K31: 0 | L31: 0 | M31: 6.73 | N31: =SUM(J31:M31) -> 6.73 | O31: Kultur Teknis, Mekanis, Hayati
F32: JAP | G32: 32.8 | H32: 0 | I32: =G32+H32 -> 32.8 | J32: 0 | K32: 0 | L32: 0 | M32: 18.1 | N32: =SUM(J32:M32) -> 18.1 | O32: Belum dikendalikan | P32: -
F33: KAS | G33: 3 | H33: 0 | I33: =G33+H33 -> 3 | J33: 0 | K33: 0 | L33: 0 | M33: 0 | N33: =SUM(J33:M33) -> 0
A35: 3 | B35: KUTAI KARTANEGARA | C35: Lada | D35: 1145 | E35: Ha | F35: Busuk Pangkal Batang | G35: 0.22 | H35: 0 | I35: =SUM(G35:H35) -> 0.22 | J35: 0 | K35: 0 | L35: 0 | M35: 0.22 | N35: =SUM(J35:M35) -> 0.22 | O35: Menjaga kebersihan kebun/Mekanik | P35: 0
F36: Penggerek Batang | G36: 8 | H36: 0 | I36: =SUM(G36:H36) -> 8 | J36: 0 | K36: 0 | L36: 1 | M36: 2 | N36: =SUM(J36:M36) -> 3 | O36: Mengunakan Pesnab dan ada yg belum dikendalikan | P36: 0
C37: Kelapa | D37: 5183 | E37: Ha | F37: Kera | G37: 10 | H37: 0 | I37: =SUM(G37:H37) -> 10 | J37: 0 | K37: 0 | L37: 0 | M37: 0 | N37: =SUM(J37:M37) -> 0 | O37: Menjaga kebersihan kebun | P37: -
F38: Artona, sp | G38: 0.5 | H38: 0 | I38: =SUM(G38:H38) -> 0.5 | J38: 0 | K38: 0 | L38: 0 | M38: 0 | N38: =SUM(J38:M38) -> 0 | O38: Menjaga kebersihan kebun
F39: Babi Hutan | G39: 2 | H39: 0 | I39: =SUM(G39:H39) -> 2 | J39: 0 | K39: 0 | L39: 0 | M39: 2 | N39: =SUM(J39:M39) -> 2 | O39: Secara Mekanik
C40: Kelapa Sawit | D40: 3846.5 | E40: Ha | F40: Tikus | G40: 0.65 | H40: 0 | I40: =SUM(G40:H40) -> 0.65 | J40: 0 | K40: 0 | L40: 0 | M40: 0.5 | N40: =SUM(J40:M40) -> 0.5 | O40: Secara Mekanik/menjaga kebersihan kebun
F41: Oryctes sp | G41: 24.5 | H41: 0 | I41: =SUM(G41:H41) -> 24.5 | J41: 0 | K41: 0 | L41: 0 | M41: 24.5 | N41: =SUM(J41:M41) -> 24.5 | O41: Secara Kimiawi (Dhitane)
F42: Kutu Daun | G42: 0.25 | H42: 0 | I42: =SUM(G42:H42) -> 0.25 | J42: 0 | K42: 0 | L42: 0 | M42: 0.25 | N42: =SUM(J42:M42) -> 0.25 | O42: Secara mekanik dan kimiawi
C43: Kakao | D43: - | F43: - | G43: 0 | H43: 0 | I43: - | J43: 0 | K43: 0 | L43: 0 | M43: 0 | N43: - | O43: - | P43: -
C44: Karet | D44: 20 | E44: Ha | F44: Rayap | G44: 15 | H44: 3 | I44: =SUM(G44:H44) -> 18 | J44: 0 | K44: 0 | L44: 0 | M44: 13 | N44: =SUM(J44:M44) -> 13 | O44: Pengendalian secara kimiawi | P44: 187425
D45: 11581.95 | E45: Ha | F45: Jamur Akar Putih | G45: 33.3 | H45: 8.5 | I45: =SUM(G45:H45) -> 41.8 | J45: 0 | K45: 0 | L45: 0 | M45: 18 | N45: =SUM(J45:M45) -> 18 | O45: Secara Kimia, Mekanik dan Biologi (APH) | P45: 0
A47: 4 | B47: BERAU | C47: Lada | D47: 1654.3 | E47: Ha | F47: Pengisap Bunga | G47: 3.5 | H47: 0 | I47: =SUM(G47:H47) -> 3.5 | J47: 0 | K47: 0 | L47: 0 | M47: 1 | N47: =SUM(J47:M47) -> 1 | O47: -
F48: Penghisap Buah | G48: 15 | H48: 0 | I48: =SUM(G48:H48) -> 15 | J48: 0 | K48: 0 | L48: 0 | M48: 2.5 | N48: =SUM(J48:M48) -> 2.5 | O48: -
F49: Phytophtora (BPB) | G49: 21.1 | H49: 2.5 | I49: =SUM(G49:H49) -> 23.6 | J49: 0 | K49: 0 | L49: 0.5 | M49: 7.5 | N49: =SUM(J49:M49) -> 8 | O49: Kultur Teknis dan Kimia | P49: 0
F50: Marasmius | G50: 3.6 | H50: 0 | I50: =SUM(G50:H50) -> 3.6 | J50: 0 | K50: 0 | L50: 0 | M50: 0 | N50: =SUM(J50:M50) -> 0 | O50: -
F51: Jamur Upas | G51: 1 | H51: 0 | I51: =SUM(G51:H51) -> 1 | J51: 0 | K51: 0 | L51: 0 | M51: 0 | N51: =SUM(J51:M51) -> 0 | O51: -
C52: Kelapa | D52: 463 | E52: Ha | F52: Orystes rhinoceros | G52: 7.5 | H52: 0 | I52: =SUM(G52:H52) -> 7.5 | J52: 0 | K52: 0 | L52: 0 | M52: 0 | N52: =SUM(J52:M52) -> 0 | O52: -
F53: Plesispa/Brontispa | G53: 3.5 | H53: 0 | I53: =SUM(G53:H53) -> 3.5 | J53: 0 | K53: 0 | L53: 0 | M53: 0 | N53: =SUM(J53:M53) -> 0 | O53: -
F54: Beruang | G54: 25 | H54: 0 | I54: =SUM(G54:H54) -> 25 | J54: 0 | K54: 0 | L54: 0 | M54: 0 | N54: =SUM(J54:M54) -> 0 | O54: -
C55: Kelapa Sawit | D55: 1279 | E55: Ha | F55: Ulat api | G55: 0.7 | H55: 0 | I55: =SUM(G55:H55) -> 0.7 | J55: 0 | K55: 0 | L55: 0 | M55: 0 | N55: =SUM(J55:M55) -> 0 | O55: Kimiawi
F56: Tungau | G56: 2 | H56: 0 | I56: =SUM(G56:H56) -> 2 | J56: 0 | K56: 0 | L56: 0 | M56: 0 | N56: =SUM(J56:M56) -> 0 | O56: Kimiawi
F57: Rayap (Macrotermes gilvus) | G57: 3 | H57: 0 | I57: =SUM(G57:H57) -> 3 | J57: 0 | K57: 0 | L57: 0 | M57: 0 | N57: =SUM(J57:M57) -> 0 | O57: Kimiawi
D58: 13949 | E58: Ha | F58: Crown Disease | G58: 2 | H58: 0 | I58: =SUM(G58:H58) -> 2 | J58: 0 | K58: 0 | L58: 0 | M58: 0 | N58: =SUM(J58:M58) -> 0 | O58: Kimiawi
F59: Marasmius | G59: 2 | H59: 0 | I59: =SUM(G59:H59) -> 2 | J59: 0 | K59: 0 | L59: 0 | M59: 0 | N59: =SUM(J59:M59) -> 0 | O59: Kimiawi
C60: Kakao | D60: 742.5 | E60: Ha | F60: Tupai | G60: 2 | H60: 0 | I60: =SUM(G60:H60) -> 2 | J60: 0 | K60: 0 | L60: 0 | M60: 0 | N60: =SUM(J60:M60) -> 0 | O60: - | P60: -
F61: PBK | G61: 49.5 | H61: 0 | I61: =SUM(G61:H61) -> 49.5 | J61: 0 | K61: 0 | L61: 0 | M61: 23 | N61: =SUM(J61:M61) -> 23 | O61: Sanitasi, Kultur Teknik
F62: Helopeltis | G62: 7.3 | H62: 0 | I62: =SUM(G62:H62) -> 7.3 | J62: 0 | K62: 0 | L62: 0 | M62: 0 | N62: =SUM(J62:M62) -> 0 | O62: Membiarkan semut hitam dan semut rang -
O63: rang berada pada kebun kakao
F64: Busuk Buah Kakao | G64: 31 | H64: 0 | I64: =SUM(G64:H64) -> 31 | J64: 0 | K64: 0 | L64: 0 | M64: 0 | N64: =SUM(J64:M64) -> 0 | O64: Sanitasi, Kultur Teknik | P64: -
F65: Jamur Upas | G65: 3 | H65: 0 | I65: =SUM(G65:H65) -> 3 | J65: 0 | K65: 0 | L65: 0 | M65: 0 | N65: =SUM(J65:M65) -> 0 | O65: Pemanfaatan semut angkrang
F66: VSD | G66: 4 | H66: 0 | I66: =SUM(G66:H66) -> 4 | J66: 0 | K66: 0 | L66: 0 | M66: 0 | N66: =SUM(J66:M66) -> 0 | O66: Pemangkasan dan pemupukan
C67: Karet | D67: 1031 | E67: Ha | F67: Babi Hutan | G67: 7.5 | H67: 0 | I67: =SUM(G67:H67) -> 7.5 | J67: 0 | K67: 0 | L67: 0 | M67: 0 | N67: =SUM(J67:M67) -> 0 | O67: Jerat dan tembak
F68: Tungau | G68: 2 | H68: 0 | I68: =SUM(G68:H68) -> 2 | J68: 0 | K68: 0 | L68: 0 | M68: 0 | N68: =SUM(J68:M68) -> 0 | O68: Kimiawi
D69: 350 | E69: Ha | F69: JAP | G69: 0.5 | H69: 0 | I69: =SUM(G69:H69) -> 0.5 | J69: 0 | K69: 0 | L69: 0 | M69: 0 | N69: =SUM(J69:M69) -> 0 | O69: Membuka perakaran, dengan membuat lubang | P69: -
O70: tanam disekitar leher akar dengan kedalaman
O71: sesuai serangan jamur, lalu dimasukan kapur
O72: serta pupuk kandang.
F73: KAS | G73: 7 | H73: 0 | I73: =SUM(G73:H73) -> 7 | J73: 0 | K73: 0 | L73: 0 | M73: 0 | N73: =SUM(J73:M73) -> 0 | O73: Mengurangi pemakaian perangsang lateks
F74: Jamur Upas | G74: 1.5 | H74: 0 | I74: =SUM(G74:H74) -> 1.5 | J74: 0 | K74: 0 | L74: 0 | M74: 0 | N74: =SUM(J74:M74) -> 0 | O74: Pengaturan jarak tanam
A77: 5 | B77: BONTANG | C77: Lada | D77: - | F77: - | G77: 0 | H77: 0 | I77: =SUM(G77:H77) -> 0 | J77: 0 | K77: 0 | L77: 0 | M77: 0 | N77: 0 | O77: - | P77: 0
C78: Kelapa | D78: - | F78: - | G78: 0 | H78: 0 | I78: =SUM(G78:H78) -> 0 | J78: 0 | K78: 0 | L78: 0 | M78: 0 | N78: 0 | O78: - | P78: 0
C79: Kelapa Sawit | D79: 13 | E79: Ha | F79: Orystes rhinoceros | G79: 0.01 | H79: 0 | I79: =SUM(G79:H79) -> 0.01 | J79: 0 | K79: 0 | L79: 0 | M79: 0 | N79: 0 | O79: - | P79: 0
C80: Kakao | D80: - | F80: - | G80: 0 | H80: 0 | I80: =SUM(G80:H80) -> 0 | J80: 0 | K80: 0 | L80: 0 | M80: 0 | N80: 0 | O80: - | P80: -
C81: Karet | D81: 0 | F81: - | G81: 0 | H81: 0 | I81: =SUM(G81:H81) -> 0 | J81: 0 | K81: 0 | L81: 0 | M81: 0 | N81: 0 | O81: 0 | P81: 0
A83: 6 | B83: KUTAI BARAT | C83: Lada | D83: - | F83: - | G83: 0 | H83: 0 | I83: 0 | J83: 0 | K83: 0 | L83: 0 | M83: 0 | N83: =SUM(J83:M83) -> 0 | O83: - | P83: 0
C84: Kelapa | D84: - | F84: - | G84: 0 | H84: 0 | I84: 0 | J84: 0 | K84: 0 | L84: 0 | M84: 0 | N84: =SUM(J84:M84) -> 0 | O84: - | P84: 0
C85: Kelapa Sawit | D85: - | F85: - | G85: 0 | H85: 0 | I85: 0 | J85: 0 | K85: 0 | L85: 0 | M85: 0 | N85: =SUM(J85:M85) -> 0 | O85: - | P85: 0
C86: Kakao | D86: - | F86: - | G86: 0 | H86: 0 | I86: 0 | J86: 0 | K86: 0 | L86: 0 | M86: 0 | N86: =SUM(J86:M86) -> 0 | O86: - | P86: 0
C87: Karet | D87: 11107 | E87: Ha | F87: JAP | G87: 245 | H87: 136 | I87: =SUM(G87:H87) -> 381 | J87: 0 | K87: 0 | L87: 0 | M87: 0 | N87: =SUM(J87:M87) -> 0 | O87: Belum ada pengendalian | P87: 296600000
F88: KAS | G88: 154 | H88: 62 | I88: =SUM(G88:H88) -> 216 | J88: 0 | K88: 0 | L88: 0 | M88: 19 | N88: =SUM(J88:M88) -> 19 | O88: Pengerokan kulit, desinpektan
A90: 7 | B90: BALIKPAPAN | C90: Lada | D90: 72 | E90: Ha | F90: Penggerek Batang | G90: 0.5 | H90: 0 | I90: =SUM(G90:H90) -> 0.5 | J90: 0 | K90: 0 | L90: 0 | M90: 0.5 | N90: =SUM(J90:M90) -> 0.5 | O90: Penyiangan terbatas, cara mekanis memotong | P90: Produksi Menurun
F91: (Lophobaris piperis) | O91: cabang-cabang yang terserang dan membunuh
O92: semua larva yang ditemukan dan menanam
O93: tanaman sela dan penutup tanah serta menanam
O94: dengan menggunakan varietas toleran terhadap
O95: hama tersebut.
F96: Penghisap Buah | G96: 0.5 | H96: 0 | I96: =SUM(G96:H96) -> 0.5 | J96: 0 | K96: 0 | L96: 0 | M96: 0.5 | N96: =SUM(J96:M96) -> 0.5 | O96: Musnahkan telur dipermukaan daun, cabang dan | P96: Produksi Menurun
F97: (Dasynus piperia) | O97: yang ada pada tandan buah kemuadian disemprot
O98: dengan pestisida nabati atau kimia.
F99: Kutu kebul/Kutu Putih | G99: 1 | H99: 0 | I99: =SUM(G99:H99) -> 1 | J99: 0 | K99: 0 | L99: 0 | M99: 1 | N99: =SUM(J99:M99) -> 1 | O99: Pengendalian secara kultur teknis, sanitasi kebun, | P99: Produksi Menurun
F100: (bermisia tabacci) | O100: pemupukan berimbang dan pengendalian secara
D101: 76 | E101: Ha | F101: Penyakit Busuk Pangkal Batang | G101: 0.75 | H101: 0 | I101: =SUM(G101:H101) -> 0.75 | J101: 0 | K101: 0 | L101: 0 | M101: 0.75 | N101: =SUM(J101:M101) -> 0.75 | O101: Sanitasi Kebun, pemupukan berimbang, menanam | P101: Produksi Menurun
O102: tanaman penutup tanah, membuat parit, isolasi
F103: (jamur phytopthora | O103: dan penyiraman/penyemprotan larutan fungisida.
F104: palmivora var piperis)
F105: Penyakit Kuning | G105: 0.85 | H105: 0 | I105: =SUM(G105:H105) -> 0.85 | J105: 0 | K105: 0 | L105: 0 | M105: 0.85 | N105: =SUM(J105:M105) -> 0.85 | O105: Sanitasi kebun, pemupukan berimbang sesuai | P105: Produksi Menurun
F106: (cacing halus nematoda) | O106: dosis anjuran, pemangkasan pemeliharaan dan
F107: Radhophalus similis | O107: penaburan nematisida serta pemyemprotan dengan
C108: Kelapa | D108: 834 | E108: Ha | F108: Arthona | G108: 0.5 | H108: 1 | I108: =SUM(G108:H108) -> 1.5 | J108: 0 | K108: 0 | L108: 0 | M108: 1.5 | N108: =SUM(J108:M108) -> 1.5 | O108: Batang dibor lalu diberikan insektisida cair 10 ml/ | P108: Produksi Menurun
O109: lubang
C110: Kelapa Sawit | D110: - | F110: - | G110: 0 | H110: 0 | I110: =SUM(G110:H110) -> 0 | J110: 0 | K110: 0 | L110: 0 | M110: 0 | N110: 0 | P110: -
...

Sheet Rekap S.Penyakit
A1: REKAPITULASI SERANGAN PENYAKIT TANAMAN PERKEBUNAN TRIWULAN IV
A2: UPTD - P2TP TAHUN ANGGARAN 2017
A3: DINAS PERKEBUNAN PROVINSI KALIMANTAN TIMUR
A6: No | B6: Kabupaten / Kota | C6: Jenis Komoditi / | D6: Luas Komoditi | F6: Jenis OPT | G6: Luas Serangan (Ha) | J6: Luas Pengendalian (Ha) | N6: Jumlah | O6: Cara Pengendalian | P6: Kerugian
C7: Kab, Kec, Desa | D7: ( Ha ) | G7: Ringan | H7: Berat | I7: Jumlah | J7: APBN | K7: APBD I | L7: APBD II | M7: Masyarakat | N7: ( Ha) | P7: Hasil (Rp)
A8: 1 | C8: 2 | D8: 3 | F8: 4 | G8: 5 | H8: 7 | I8: 8 | J8: 9 | K8: 10 | L8: 11 | M8: 12 | N8: 13 | O8: 14 | P8: 15
A10: 1 | B10: PASER | C10: Lada | D10: - | F10: - | G10: 0 | H10: 0 | I10: - | J10: 0 | K10: 0 | L10: 0 | M10: 0 | N10: - | O10: - | P10: -
C11: Kelapa | D11: - | F11: - | G11: 0 | H11: 0 | I11: - | J11: 0 | K11: 0 | L11: 0 | M11: 0 | N11: - | O11: - | P11: -
C12: Kelapa Sawit | D12: 36819 | E12: Ha | F12: Ganoderma, sp | G12: 4 | H12: 1 | I12: =SUM(G12:H12) -> 5 | J12: 0 | K12: 0 | L12: 0 | M12: 9 | N12: =SUM(J12:M12) -> 9 | O12: Mekanis/Tricoderma, sp | P12: 3737989.9
C13: Karet | D13: - | F13: - | G13: 0 | H13: 0 | I13: - | J13: 0 | K13: 0 | L13: 0 | M13: 0 | N13: - | O13: - | P13: -
C14: Kakao | D14: - | F14: - | G14: 0 | H14: 0 | I14: - | J14: 0 | K14: 0 | L14: 0 | M14: 0 | N14: - | O14: - | P14: -
A16: 2 | B16: KUTAI TIMUR | C16: Lada | D16: 257 | E16: Ha | F16: Busuk Pangkal Batang | G16: 22.2 | H16: 0 | I16: =G16+H16 -> 22.2 | J16: 0 | K16: 0 | L16: 0 | M16: 22.2 | N16: =M16 -> 22.2 | O16: Kultur Teknis dan Kimia | P16: 0
C17: Kelapa | D17: - | F17: - | G17: 0 | H17: 0 | I17: - | J17: 0 | K17: 0 | L17: 0 | M17: 0 | N17: - | O17: - | P17: -
C18: Kelapa Sawit | D18: 89 | E18: Ha | F18: Busuk Buah(marasmius) | G18: 14.8 | H18: 2.2 | I18: =G18+H18 -> 17 | M18: 3.9 | N18: =SUM(J18:M18) -> 3.9 | O18: Kultur Teknis
C19: Kakao | D19: - | F19: - | G19: 0 | H19: 0 | I19: - | J19: 0 | K19: 0 | L19: 0 | M19: 0 | N19: - | O19: - | P19: -
C20: Karet | D20: 2272.1 | E20: Ha | F20: JAP | G20: 32.8 | H20: 0 | I20: =G20+H20 -> 32.8 | J20: 0 | K20: 0 | L20: 0 | M20: 18.1 | N20: =SUM(J20:M20) -> 18.1 | O20: Belum dikendalikan | P20: -
F21: KAS | G21: 3 | H21: 0 | I21: =G21+H21 -> 3 | J21: 0 | K21: 0 | L21: 0 | M21: 0 | N21: =SUM(J21:M21) -> 0
A23: 3 | B23: KUTAI KARTANEGARA | C23: Lada | D23: 1145 | E23: Ha | F23: Busuk Pangkal Batang | G23: 0.22 | H23: 0 | I23: =SUM(G23:H23) -> 0.22 | J23: 0 | K23: 0 | L23: 0 | M23: 0.22 | N23: =SUM(J23:M23) -> 0.22 | O23: Menjaga kebersihan kebun/Mekanik | P23: 0
C24: Kelapa | D24: - | F24: - | G24: 0 | H24: 0 | I24: - | J24: 0 | K24: 0 | L24: 0 | M24: 0 | N24: - | O24: - | P24: 0
C25: Kelapa Sawit | D25: - | F25: - | G25: 0 | H25: 0 | I25: - | J25: 0 | K25: 0 | L25: 0 | M25: 0 | N25: - | O25: - | P25: 0
C26: Kakao | D26: - | F26: - | G26: 0 | H26: 0 | I26: - | J26: 0 | K26: 0 | L26: 0 | M26: 0 | N26: - | O26: - | P26: -
C27: Karet | D27: 11581.95 | E27: Ha | F27: Jamur Akar Putih | G27: 33.3 | H27: 8.5 | I27: =SUM(G27:H27) -> 41.8 | J27: 0 | K27: 0 | L27: 0 | M27: 18 | N27: =SUM(J27:M27) -> 18 | O27: Secara Kimia, Mekanik dan Biologi (APH) | P27: 0
A29: 4 | B29: BERAU | C29: Lada | D29: 1654.3 | E29: Ha | F29: Phytophtora (BPB) | G29: 21.1 | H29: 2.5 | I29: =SUM(G29:H29) -> 23.6 | J29: 0 | K29: 0 | L29: 0.5 | M29: 7.5 | N29: =SUM(J29:M29) -> 8 | O29: Kultur Teknis dan Kimia | P29: 0
F30: Marasmius | G30: 3.6 | H30: 0 | I30: =SUM(G30:H30) -> 3.6 | J30: 0 | K30: 0 | L30: 0 | M30: 0 | N30: =SUM(J30:M30) -> 0 | O30: -
F31: Jamur Upas | G31: 1 | H31: 0 | I31: =SUM(G31:H31) -> 1 | J31: 0 | K31: 0 | L31: 0 | M31: 0 | N31: =SUM(J31:M31) -> 0 | O31: -
C32: Kelapa | D32: - | F32: - | G32: 0 | H32: 0 | I32: =SUM(G32:H32) -> 0 | J32: 0 | K32: 0 | L32: 0 | M32: 0 | N32: 0 | P32: -
C33: Kelapa Sawit | D33: 13949 | E33: Ha | F33: Crown Disease | G33: 2 | H33: 0 | I33: =SUM(G33:H33) -> 2 | J33: 0 | K33: 0 | L33: 0 | M33: 0 | N33: =SUM(J33:M33) -> 0 | O33: Kimiawi
F34: Marasmius | G34: 2 | H34: 0 | I34: =SUM(G34:H34) -> 2 | J34: 0 | K34: 0 | L34: 0 | M34: 0 | N34: =SUM(J34:M34) -> 0 | O34: Kimiawi
C35: Kakao | D35: 742.5 | E35: Ha | F35: Busuk Buah Kakao | G35: 31 | H35: 0 | I35: =SUM(G35:H35) -> 31 | J35: 0 | K35: 0 | L35: 0 | M35: 0 | N35: =SUM(J35:M35) -> 0 | O35: Sanitasi, Kultur Teknik | P35: -
F36: Jamur Upas | G36: 3 | H36: 0 | I36: =SUM(G36:H36) -> 3 | J36: 0 | K36: 0 | L36: 0 | M36: 0 | N36: =SUM(J36:M36) -> 0 | O36: Pemanfaatan semut angkrang
F37: VSD | G37: 4 | H37: 0 | I37: =SUM(G37:H37) -> 4 | J37: 0 | K37: 0 | L37: 0 | M37: 0 | N37: =SUM(J37:M37) -> 0 | O37: Pemangkasan dan pemupukan
C38: Karet | D38: 350 | E38: Ha | F38: JAP | G38: 0.5 | H38: 0 | I38: =SUM(G38:H38) -> 0.5 | J38: 0 | K38: 0 | L38: 0 | M38: 0 | N38: =SUM(J38:M38) -> 0 | O38: Membuka perakaran, dengan membuat lubang | P38: -
O39: tanam disekitar leher akar dengan kedalaman
O40: sesuai serangan jamur, lalu dimasukan kapur
O41: serta pupuk kandang.
F42: KAS | G42: 7 | H42: 0 | I42: =SUM(G42:H42) -> 7 | J42: 0 | K42: 0 | L42: 0 | M42: 0 | N42: =SUM(J42:M42) -> 0 | O42: Mengurangi pemakaian perangsang lateks
F43: Jamur Upas | G43: 1.5 | H43: 0 | I43: =SUM(G43:H43) -> 1.5 | J43: 0 | K43: 0 | L43: 0 | M43: 0 | N43: =SUM(J43:M43) -> 0 | O43: Pengaturan jarak tanam
A46: 5 | B46: BONTANG | C46: Lada | D46: - | F46: - | G46: 0 | H46: 0 | I46: =SUM(G46:H46) -> 0 | J46: 0 | K46: 0 | L46: 0 | M46: 0 | N46: 0 | O46: - | P46: 0
C47: Kelapa | D47: - | F47: - | G47: 0 | H47: 0 | I47: =SUM(G47:H47) -> 0 | J47: 0 | K47: 0 | L47: 0 | M47: 0 | N47: 0 | O47: - | P47: 0
C48: Kelapa Sawit | D48: - | F48: - | G48: 0 | H48: 0 | I48: =SUM(G48:H48) -> 0 | J48: 0 | K48: 0 | L48: 0 | M48: 0 | N48: 0 | P48: -
C49: Kakao | D49: - | F49: - | G49: 0 | H49: 0 | I49: =SUM(G49:H49) -> 0 | J49: 0 | K49: 0 | L49: 0 | M49: 0 | N49: 0 | O49: - | P49: -
C50: Karet | D50: 0 | F50: - | G50: 0 | H50: 0 | I50: =SUM(G50:H50) -> 0 | J50: 0 | K50: 0 | L50: 0 | M50: 0 | N50: 0 | O50: 0 | P50: 0
A52: 6 | B52: KUTAI BARAT | C52: Lada | D52: - | F52: - | G52: 0 | H52: 0 | I52: 0 | J52: 0 | K52: 0 | L52: 0 | M52: 0 | N52: =SUM(J52:M52) -> 0 | O52: - | P52: 0
C53: Kelapa | D53: - | F53: - | G53: 0 | H53: 0 | I53: 0 | J53: 0 | K53: 0 | L53: 0 | M53: 0 | N53: =SUM(J53:M53) -> 0 | O53: - | P53: 0
C54: Kelapa Sawit | D54: - | F54: - | G54: 0 | H54: 0 | I54: 0 | J54: 0 | K54: 0 | L54: 0 | M54: 0 | N54: =SUM(J54:M54) -> 0 | O54: - | P54: 0
C55: Kakao | D55: - | F55: - | G55: 0 | H55: 0 | I55: 0 | J55: 0 | K55: 0 | L55: 0 | M55: 0 | N55: =SUM(J55:M55) -> 0 | O55: - | P55: 0
C56: Karet | D56: 11107 | E56: Ha | F56: JAP | G56: 245 | H56: 136 | I56: =SUM(G56:H56) -> 381 | J56: 0 | K56: 0 | L56: 0 | M56: 0 | N56: =SUM(J56:M56) -> 0 | O56: Belum ada pengendalian | P56: 296600000
F57: KAS | G57: 154 | H57: 62 | I57: =SUM(G57:H57) -> 216 | J57: 0 | K57: 0 | L57: 0 | M57: 19 | N57: =SUM(J57:M57) -> 19 | O57: Pengerokan kulit, desinpektan
A59: 7 | B59: BALIKPAPAN | C59: Lada | D59: 76 | E59: Ha | F59: Penyakit Busuk Pangkal Batang | G59: 0.75 | H59: 0 | I59: =SUM(G59:H59) -> 0.75 | J59: 0 | K59: 0 | L59: 0 | M59: 0.75 | N59: =SUM(J59:M59) -> 0.75 | O59: Sanitasi Kebun, pemupukan berimbang, menanam | P59: Produksi Menurun
O60: tanaman penutup tanah, membuat parit, isolasi
F61: (jamur phytopthora | O61: dan penyiraman/penyemprotan larutan fungisida.
F62: palmivora var piperis)
F63: Penyakit Kuning | G63: 0.85 | H63: 0 | I63: =SUM(G63:H63) -> 0.85 | J63: 0 | K63: 0 | L63: 0 | M63: 0.85 | N63: =SUM(J63:M63) -> 0.85 | O63: Sanitasi kebun, pemupukan berimbang sesuai | P63: Produksi Menurun
F64: (cacing halus nematoda) | O64: dosis anjuran, pemangkasan pemeliharaan dan
F65: Radhophalus similis | O65: penaburan nematisida serta pemyemprotan dengan
C66: Kelapa | D66: - | F66: - | G66: 0 | H66: 0 | I66: =SUM(G66:H66) -> 0 | J66: 0 | K66: 0 | L66: 0 | M66: 0 | N66: 0 | O66: - | P66: 0
C67: Kelapa Sawit | D67: - | F67: - | G67: 0 | H67: 0 | I67: =SUM(G67:H67) -> 0 | J67: 0 | K67: 0 | L67: 0 | M67: 0 | N67: 0 | P67: -
C68: Kakao | D68: - | F68: - | G68: 0 | H68: 0 | I68: =SUM(G68:H68) -> 0 | J68: 0 | K68: 0 | L68: 0 | M68: 0 | N68: 0 | O68: - | P68: -
C69: Karet | D69: 4458 | E69: Ha | F69: Jamur akar putih (rigidoporous lignosus) | G69: 6.1 | H69: 0.4 | I69: =SUM(G69:H69) -> 6.5 | J69: 0 | K69: 0 | L69: 0 | M69: 5 | N69: =SUM(J69:M69) -> 5 | O69: Menggali permukaan tanah di sekitar daerah pangkal batang dan perakaran yang terserang kemudian disiram dengan larutan fungisida, kemudian ditutup kembali dengan tanah | P69: produksi menurun
F70: Kering Alur Sadap (KAS) | G70: 2 | H70: 0 | I70: =SUM(G70:H70) -> 2 | J70: 0 | K70: 0 | L70: 0 | M70: 2 | N70: =SUM(J70:M70) -> 2 | O70: Pembersihan bidang sadap dari jamur dan diolesan fungisida dan pemberian pupuk NPK. | P70: produksi menurun
A72: 8 | B72: SAMARINDA | C72: Lada | D72: - | F72: - | G72: 0 | H72: 0 | I72: 0 | J72: 0 | K72: 0 | L72: 0 | M72: 0 | N72: =SUM(J72:M72) -> 0 | O72: - | P72: 0
C73: Kelapa | D73: - | F73: - | G73: 0 | H73: 0 | I73: 0 | J73: 0 | K73: 0 | L73: 0 | M73: 0 | N73: =SUM(J73:M73) -> 0 | O73: - | P73: 0
C74: Kelapa Sawit | D74: - | F74: - | G74: 0 | H74: 0 | I74: 0 | J74: 0 | K74: 0 | L74: 0 | M74: 0 | N74: =SUM(J74:M74) -> 0 | O74: - | P74: 0
C75: Kakao | D75: - | F75: - | G75: 0 | H75: 0 | I75: 0 | J75: 0 | K75: 0 | L75: 0 | M75: 0 | N75: =SUM(J75:M75) -> 0 | O75: - | P75: 0
C76: Karet | D76: 247.5 | F76: Jamur Akar Putih | G76: 12 | H76: 0 | I76: =SUM(G76:H76) -> 12 | J76: 0 | K76: 0 | L76: 0 | M76: 12 | N76: =SUM(J76:M76) -> 12 | O76: Pembersihan kebun | P76: 6000000
A78: 9 | B78: PPU | C78: Lada | D78: 2291.1 | F78: Penyakit Kuning | G78: 5.82 | H78: 2.75 | I78: =G78+H78 -> 8.57 | J78: 0 | K78: 0 | L78: 0 | M78: - | N78: - | O78: Pemupukan | P78: 367500
F79: Busuk Pangkal Batang | G79: 5.82 | H79: 2.75 | I79: =G79+H79 -> 8.57 | J79: 0 | K79: 0 | L79: 0 | M79: - | N79: 0 | O79: Pembuatan Rorak, Kimiawi, Pemangkasan, Sanitasi lahan | P79: 367500
F80: Keriting | G80: 0.43 | H80: 0.23 | I80: =G80+H80 -> 0.66 | J80: 0 | K80: 0 | L80: 0 | M80: - | N80: - | P80: 367500
C81: Kelapa | D81: 3660 | E81: Ha | F81: Layu Kalimantan | G81: 2.55 | H81: 1.27 | I81: =G81+H81 -> 3.82 | J81: 0 | K81: 0 | L81: 0 | M81: 0.27 | N81: =SUM(J81:M81) -> 0.27 | O81: Kimiawi
C82: Kelapa Sawit | D82: 33043.22 | E82: Ha | F82: Ganoderma | G82: 6.72 | H82: 11.96 | I82: =G82+H82 -> 18.68 | J82: 0 | K82: 0 | L82: 0 | M82: 1.82 | N82: =J82+K82+L82+M82 -> 1.82 | O82: Kimiawi | P82: 63500000
F83: Busuk buah | G83: 20.95 | H83: 18.45 | I83: =G83+H83 -> 39.4 | J83: 0 | K83: 0 | L83: 0 | M83: 7.67 | N83: =J83+K83+L83+M83 -> 7.67 | O83: Kimiawi | P83: 63500000
F84: Busuk Pucuk | G84: 9.56 | H84: 4.5 | I84: =G84+H84 -> 14.06 | J84: 0 | K84: 0 | L84: 0 | M84: 4 | N84: =J84+K84+L84+M84 -> 4 | O84: Kimiawi | P84: 63500000
C85: Kakao | D85: 11.5 | E85: Ha | F85: Busuk Buah | G85: 0.4 | H85: 0.19 | I85: =G85+H85 -> 0.59 | J85: 0 | K85: 0 | L85: 0 | M85: - | N85: - | O85: Kimiawi | P85: 0
C86: Karet | D86: 6515.07 | E86: Ha | F86: Jamur Akar Putih | G86: 9.08 | H86: 3.85 | I86: =G86+H86 -> 12.93 | J86: 0 | K86: 0 | L86: 0 | M86: 3.2 | N86: =J86+K86+L86+M86 -> 3.2 | O86: Kimiawi, Pemberian Fungisida, dan Pembuatan Parit | P86: 625000
F87: Bidang Sadap | G87: 9.08 | H87: 3.85 | I87: =G87+H87 -> 12.93 | J87: 0 | K87: 0 | L87: 0 | M87: 3.2 | N87: =J87+K87+L87+M87 -> 3.2
N89: Samarinda, Desember 2017
A90: Mengetahui,
A91: Kepala UPTD - P2TP | O91: Pengolah Data OPT
A95: Ir. Supriyadi, M.Si | O95: Tri Susilowati, SP
A96: NIP. 196011081988031008 | O96: NIP.197511302008012018
B99: Lada | C99: Kelapa | D99: Kakao | E99: Karet | F99: K Sawit | I99: Lada | J99: Kelapa | K99: Kakao | L99: Karet | M99: K Sawit | P99: s | Q99: p
F100: =I12+I82 -> 23.68 | G100: Ganoderma, Sp | M100: =N12+N82 -> 10.82 | P100: =SUM(B100:F100) -> 23.68 | Q100: =SUM(I100:M100) -> 10.82
B101: =I16+I23+I29+I59+I79 -> 55.34 | F101: 0 | G101: Busuk pangkal batang | I101: =N79+N59+N29+N23+N16 -> 31.17 | P101: =SUM(B101:F101) -> 55.34 | Q101: =SUM(I101:M101) -> 31.17
E102: =I76+I69+I56+I38+I27+I20 -> 474.6 | F102: =N25 -> - | G102: JAP | M102: =N86+N76+N69+N56+N27+N20 -> 56.3 | P102: =SUM(B102:F102) -> 474.6 | Q102: =SUM(I102:M102) -> 56.3
E103: =I70+I57+I42+I21+I87 -> 240.93 | F103: 0 | G103: KAS | L103: =N87+N70+N57 -> 24.2 | P103: =SUM(B103:F103) -> 240.93 | Q103: =SUM(I103:M103) -> 24.2
B104: =I30 -> 3.6 | F104: =I34+I18 -> 19 | G104: Marasmius | L104: =I70+I57+I42 -> 225 | P104: =SUM(B104:F104) -> 22.6 | Q104: =SUM(I104:M104) -> 225
E105: =I43 -> 1.5 | F105: 0 | G105: Jamur Upas | P105: =SUM(B105:F105) -> 1.5 | Q105: =SUM(I105:M105) -> 0
F106: =I33+I83 -> 41.4 | G106: Crown Disease | P106: =SUM(B106:F106) -> 41.4 | Q106: =SUM(I106:M106) -> 0
D107: =I35+I85 -> 31.59 | F107: 0 | G107: Busuk buah kakao | K107: 4 | P107: =SUM(B107:F107) -> 31.59 | Q107: =SUM(I107:M107) -> 4
D108: =I37 -> 4 | F108: 0 | G108: VSD | I108: 0.2 | P108: =SUM(B108:F108) -> 4 | Q108: =SUM(I108:M108) -> 0.2
B109: =I63+I78 -> 9.42 | G109: Penyakit kuning | P109: =SUM(B109:F109) -> 9.42 | Q109: =SUM(I109:M109) -> 0
C110: =I81 -> 3.82 | G110: Layu Kalimantan | J110: =N81 -> 0.27 | P110: =SUM(B110:F110) -> 3.82 | Q110: =SUM(I110:M110) -> 0.27
F111: =I84 -> 14.06 | G111: Busuk Pucuk | M111: =N84 -> 4 | P111: =SUM(B111:F111) -> 14.06 | Q111: =SUM(I111:M111) -> 4
B112: =I80 -> 0.66 | G112: Keriting | P112: =SUM(B112:F112) -> 0.66 | Q112: =SUM(I112:M112) -> 0
F118: Kabupaten/Kota | G118: Penyakit Tanaman Perkebunan
G119: Ganoderma, Sp | H119: Busuk pangkal batang | I119: JAP | J119: KAS | K119: Marasmius | L119: Jamur Upas
F120: Paser

Sheet Rekap S.Hama
A2: REKAPITULASI SERANGAN HAMA dan GULMA TANAMAN PERKEBUNAN TRIWULAN II
A3: UPTD - P2TP TAHUN ANGGARAN 2017
A4: DINAS PERKEBUNAN PROVINSI KALIMANTAN TIMUR
A7: No | B7: Kabupaten / Kota | C7: Jenis Komoditi / | D7: Luas Komoditi | F7: Jenis OPT | G7: Luas Serangan (Ha) | J7: Luas Pengendalian (Ha) | N7: Jumlah | O7: Cara Pengendalian | P7: Kerugian
C8: Kab, Kec, Desa | D8: ( Ha ) | G8: Ringan | H8: Berat | I8: Jumlah | J8: APBN | K8: APBD I | L8: APBD II | M8: Masyarakat | N8: ( Ha) | P8: Hasil (Rp)
A9: 1 | C9: 2 | D9: 3 | F9: 4 | G9: 5 | H9: 7 | I9: 8 | J9: 9 | K9: 10 | L9: 11 | M9: 12 | N9: 13 | O9: 14 | P9: 15
A11: 1 | B11: PASER | C11: Lada | D11: 6018 | E11: Ha | F11: Penghisap Buah | G11: 1.5 | H11: 0 | I11: =SUM(G11:H11) -> 1.5 | J11: 0 | K11: 0 | L11: 0 | M11: 2 | N11: =SUM(J11:M11) -> 2 | O11: Mekanis/Teknis | P11: 782388.5
C12: Kelapa | D12: 727 | E12: Ha | F12: Sexapa sp, | G12: 0.75 | H12: 0 | I12: =SUM(G12:H12) -> 0.75 | J12: 0 | K12: 0 | L12: 0 | M12: 1.5 | N12: =SUM(J12:M12) -> 1.5 | O12: Teknis/Mekanis | P12: 162936
F13: Orytes rhinoceros | G13: 1 | H13: 0 | I13: =SUM(G13:H13) -> 1 | J13: 0 | K13: 0 | L13: 0 | M13: 2 | N13: =SUM(J13:M13) -> 2 | O13: Teknis/Mekanis | P13: 141211.2
C14: Kelapa Sawit | D14: 36819 | E14: Ha | F14: - | G14: 0 | H14: 0 | I14: - | J14: 0 | K14: 0 | L14: 0 | M14: 0 | N14: 0 | O14: - | P14: -
C15: Karet | D15: - | F15: - | G15: 0 | H15: 0 | I15: 0 | J15: 0 | K15: 0 | L15: 0 | M15: 0 | N15: 0 | O15: - | P15: -
C16: Kakao | D16: 797 | F16: PBK | G16: 1 | H16: 0.5 | I16: =SUM(G16:H16) -> 1.5 | J16: 0 | K16: 0 | L16: 0 | M16: 1 | N16: =SUM(J16:M16) -> 1 | O16: Teknis/Mekanis | P16: 310140
A18: 2 | B18: KUTAI TIMUR | C18: Lada | D18: - | F18: - | G18: 0 | H18: 0 | I18: - | J18: 0 | K18: 0 | L18: 0 | M18: 0 | N18: 0 | O18: - | P18: -
C19: Kelapa | D19: - | F19: - | G19: 0 | H19: 0 | I19: 0 | J19: 0 | K19: 0 | L19: 0 | M19: 0 | N19: 0 | O19: - | P19: -
C20: Kelapa Sawit | D20: 3210.7 | E20: Ha | F20: Tikus | G20: 5.85 | H20: 0 | I20: =G20+H20 -> 5.85 | J20: 0 | K20: 0 | L20: 0 | M20: 2.15 | N20: =J20+K20+L20+M20 -> 2.15 | O20: Menggunakan potongan rambut | P20: -
F21: Landak | G21: 0.85 | H21: 0 | I21: =G21+H21 -> 0.85 | J21: 0 | K21: 0 | L21: 0 | N21: 0 | O21: Menggunakan potongan rambut
F22: Orang hutan | G22: 1.5 | H22: 0 | I22: =G22+H22 -> 1.5 | J22: 0 | K22: 0 | L22: 0 | M22: 0.5 | N22: =J22+K22+L22+M22 -> 0.5 | O22: Jebakan
D23: 232 | E23: Ha | F23: Ulat Kantong | G23: 1 | H23: 0 | I23: =G23+H23 -> 1 | J23: 0 | K23: 0 | L23: 0 | M23: 1 | N23: =J23+K23+L23+M23 -> 1 | O23: Menggunakan Teknis Budidaya, Kimia
C24: Kakao | D24: 89 | E24: Ha | F24: PBK | G24: 28.45 | H24: 8.04 | I24: =G24+H24 -> 36.49 | J24: 0 | K24: 0 | L24: 0 | M24: 16.9 | N24: =SUM(J24:M24) -> 16.9 | O24: Kultur Teknis Biologis, Kimia | P24: -
F25: Helopeltis | G25: 19.3 | H25: 2.75 | I25: =G25+H25 -> 22.05 | M25: 6.7 | N25: =SUM(J25:M25) -> 6.7 | O25: Kultur Teknis
F26: Tupai | G26: 0.9 | H26: 0 | I26: =G26+H26 -> 0.9 | M26: 0.8 | N26: =SUM(J26:M26) -> 0.8 | O26: Mekanis
F27: Penggerek Batang | G27: 6.6 | H27: 0 | I27: =G27+H27 -> 6.6 | M27: 3.4 | N27: =SUM(J27:M27) -> 3.4 | O27: Biologis
C28: Karet | D28: 2272.1 | F28: Rayap | G28: 24.8 | H28: 0 | I28: =G28+H28 -> 24.8 | J28: 0 | K28: 0 | L28: 0 | M28: 24.8 | N28: =SUM(J28:M28) -> 24.8 | P28: -
A31: 3 | B31: KUTAI KARTANEGARA | C31: Lada | D31: 1145 | E31: Ha | F31: Penggerek Batang | G31: 8 | H31: 0 | I31: =SUM(G31:H31) -> 8 | J31: 0 | K31: 0 | L31: 1 | M31: 2 | N31: =SUM(J31:M31) -> 3 | O31: Mengunakan Pesnab dan ada yg belum dikendalikan | P31: 0
C32: Kelapa | D32: 5183 | E32: Ha | F32: Kera | G32: 10 | H32: - | I32: =SUM(G32:H32) -> 10 | J32: 0 | K32: 0 | L32: 0 | M32: 0 | N32: 0 | O32: Menjaga kebersihan kebun | P32: -
F33: Artona, sp | G33: 0.5 | H33: - | I33: =SUM(G33:H33) -> 0.5 | J33: 0 | K33: 0 | L33: 0 | M33: 0 | N33: 0 | O33: Menjaga kebersihan kebun
F34: Babi Hutan | G34: 2 | H34: - | I34: =SUM(G34:H34) -> 2 | J34: 0 | K34: 0 | L34: 0 | M34: 2 | N34: =SUM(J34:M34) -> 2 | O34: Secara Mekanik
C36: Kelapa Sawit | D36: 3846.5 | E36: Ha | F36: Tikus | G36: 0.65 | H36: 0 | I36: =SUM(G36:H36) -> 0.65 | J36: 0 | K36: 0 | L36: 0 | M36: 0.5 | N36: =SUM(J36:M36) -> 0.5 | O36: Secara Mekanik/menjaga kebersihan kebun
F37: Oryctes sp | G37: 24.5 | H37: 0 | I37: =SUM(G37:H37) -> 24.5 | J37: 0 | K37: 0 | L37: 0 | M37: 24.5 | N37: =SUM(J37:M37) -> 24.5 | O37: Secara Kimiawi (Dhitane)
F38: Kutu Daun | G38: 0.25 | H38: 0 | I38: =SUM(G38:H38) -> 0.25 | J38: 0 | K38: 0 | L38: 0 | M38: 0.25 | N38: =SUM(J38:M38) -> 0.25 | O38: Secara mekanik dan kimiawi
C39: Kakao | D39: - | E39: Ha | F39: - | G39: 0 | H39: 0 | I39: 0 | J39: 0 | K39: 0 | L39: 0 | M39: 0 | N39: 0 | O39: - | P39: -
C40: Karet | D40: 20 | E40: Ha | F40: Rayap | G40: 15 | H40: 3 | I40: =SUM(G40:H40) -> 18 | J40: 0 | K40: 0 | L40: 0 | M40: 13 | N40: =SUM(J40:M40) -> 13 | O40: Pengendalian secara kimiawi | P40: 187425
A43: 4 | B43: BERAU | C43: Lada | D43: 1654.3 | E43: Ha | F43: Pengisap Bunga | G43: 3.5 | H43: 0 | I43: =SUM(G43:H43) -> 3.5 | J43: 0 | K43: 0 | L43: 0 | M43: 1 | N43: =SUM(J43:M43) -> 1 | O43: -
F44: Penghisap Buah | G44: 15 | H44: 0 | I44: =SUM(G44:H44) -> 15 | J44: 0 | K44: 0 | L44: 0 | M44: 2.5 | N44: =SUM(J44:M44) -> 2.5 | O44: -
C45: Kelapa | D45: 463 | E45: Ha | F45: Orystes rhinoceros | G45: 7.5 | H45: 0 | I45: =SUM(G45:H45) -> 7.5 | J45: 0 | K45: 0 | L45: 0 | M45: 0 | N45: =SUM(J45:M45) -> 0 | O45: -
F46: Plesispa/Brontispa | G46: 3.5 | H46: 0 | I46: =SUM(G46:H46) -> 3.5 | J46: 0 | K46: 0 | L46: 0 | M46: 0 | N46: =SUM(J46:M46) -> 0 | O46: -
F47: Beruang | G47: 25 | H47: 0 | I47: =SUM(G47:H47) -> 25 | J47: 0 | K47: 0 | L47: 0 | M47: 0 | N47: =SUM(J47:M47) -> 0 | O47: -
C48: Kelapa Sawit | D48: 1279 | E48: Ha | F48: Ulat api | G48: 0.7 | H48: 0 | I48: =SUM(G48:H48) -> 0.7 | J48: 0 | K48: 0 | L48: 0 | M48: 0 | N48: =SUM(J48:M48) -> 0 | O48: Kimiawi
F49: Tungau | G49: 2 | H49: 0 | I49: =SUM(G49:H49) -> 2 | J49: 0 | K49: 0 | L49: 0 | M49: 0 | N49: =SUM(J49:M49) -> 0 | O49: Kimiawi
F50: Rayap (Macrotermes gilvus) | G50: 3 | H50: 0 | I50: =SUM(G50:H50) -> 3 | J50: 0 | K50: 0 | L50: 0 | M50: 0 | N50: =SUM(J50:M50) -> 0 | O50: Kimiawi
C51: Kakao | D51: 742.5 | E51: Ha | F51: Tupai | G51: 2 | H51: 0 | I51: =SUM(G51:H51) -> 2 | J51: 0 | K51: 0 | L51: 0 | M51: 0 | N51: =SUM(J51:M51) -> 0 | O51: - | P51: -
F52: PBK | G52: 49.5 | H52: 0 | I52: =SUM(G52:H52) -> 49.5 | J52: 0 | K52: 0 | L52: 0 | M52: 23 | N52: =SUM(J52:M52) -> 23 | O52: Sanitasi, Kultur Teknik
F53: Helopeltis | G53: 7.3 | H53: 0 | I53: =SUM(G53:H53) -> 7.3 | J53: 0 | K53: 0 | L53: 0 | M53: 0 | N53: =SUM(J53:M53) -> 0 | O53: Membiarkan semut hitam dan semut rang -
O54: rang berada pada kebun kakao
F55: Penghisab Buah | G55: 7 | H55: 0 | I55: =SUM(G55:H55) -> 7 | J55: 0 | K55: 0 | L55: 0 | M55: 0 | N55: =SUM(J55:M55) -> 0 | O55: Kultur Teknis
C56: Karet | D56: 1031 | E56: Ha | F56: Babi Hutan | G56: 7.5 | H56: 0 | I56: =SUM(G56:H56) -> 7.5 | J56: 0 | K56: 0 | L56: 0 | M56: 0 | N56: =SUM(J56:M56) -> 0 | O56: Jerat dan tembak
F57: Tungau | G57: 2 | H57: 0 | I57: =SUM(G57:H57) -> 2 | J57: 0 | K57: 0 | L57: 0 | M57: 0 | N57: =SUM(J57:M57) -> 0 | O57: Kimiawi
A59: 5 | B59: BONTANG | C59: Lada | D59: - | F59: - | G59: 0 | H59: 0 | I59: =SUM(G59:H59) -> 0 | J59: 0 | K59: 0 | L59: 0 | M59: 0 | N59: 0 | O59: - | P59: 0
C60: Kelapa | D60: 13 | E60: Ha | F60: Orystes rhinoceros | G60: 0.01 | H60: 0 | I60: =SUM(G60:H60) -> 0.01 | J60: 0 | K60: 0 | L60: 0 | M60: 0 | N60: 0 | O60: - | P60: 0
C61: Kelapa Sawit | D61: - | F61: - | G61: 0 | H61: 0 | I61: =SUM(G61:H61) -> 0 | J61: 0 | K61: 0 | L61: 0 | M61: 0 | N61: 0 | P61: -
C62: Kakao | D62: - | F62: - | G62: 0 | H62: 0 | I62: 0 | J62: 0 | K62: 0 | L62: 0 | M62: 0 | N62: 0 | O62: - | P62: -
C63: Karet | D63: 0 | F63: - | G63: 0 | H63: 0 | I63: 0 | J63: 0 | K63: 0 | L63: 0 | M63: 0 | N63: 0 | O63: 0 | P63: 0
A65: 6 | B65: KUTAI BARAT | C65: Lada | D65: - | F65: - | G65: 0 | H65: 0 | I65: 0 | J65: 0 | K65: 0 | L65: 0 | M65: 0 | N65: =SUM(J65:M65) -> 0 | O65: - | P65: 0
C66: Kelapa | D66: - | F66: - | G66: 0 | H66: 0 | I66: 0 | J66: 0 | K66: 0 | L66: 0 | M66: 0 | N66: =SUM(J66:M66) -> 0 | O66: - | P66: 0
C67: Kelapa Sawit | D67: - | F67: - | G67: 0 | H67: 0 | I67: 0 | J67: 0 | K67: 0 | L67: 0 | M67: 0 | N67: =SUM(J67:M67) -> 0 | O67: - | P67: 0
C68: Kakao | D68: - | F68: - | G68: 0 | H68: 0 | I68: 0 | J68: 0 | K68: 0 | L68: 0 | M68: 0 | N68: =SUM(J68:M68) -> 0 | O68: - | P68: 0
C69: Karet | I69: 0
A72: 7 | B72: BALIKPAPAN | C72: Lada | D72: 72 | E72: Ha | F72: Penggerek Batang | G72: 0.5 | H72: 0 | I72: =SUM(G72:H72) -> 0.5 | J72: 0 | K72: 0 | L72: 0 | M72: 0.5 | N72: =SUM(J72:M72) -> 0.5 | O72: Penyiangan terbatas, cara mekanis memotong | P72: Produksi Menurun
F73: (Lophobaris piperis) | O73: cabang-cabang yang terserang dan membunuh
O74: semua larva yang ditemukan dan menanam
O75: tanaman sela dan penutup tanah serta menanam
O76: dengan menggunakan varietas toleran terhadap
O77: hama tersebut.
F78: Penghisap Buah | G78: 0.5 | H78: 0 | I78: =SUM(G78:H78) -> 0.5 | J78: 0 | K78: 0 | L78: 0 | M78: 0.5 | N78: =SUM(J78:M78) -> 0.5 | O78: Musnahkan telur dipermukaan daun, cabang dan | P78: Produksi Menurun
F79: (Dasynus piperia) | O79: yang ada pada tandan buah kemuadian disemprot
O80: dengan pestisida nabati atau kimia.
F81: Kutu kebul/Kutu Putih | G81: 1 | H81: 0 | I81: =SUM(G81:H81) -> 1 | J81: 0 | K81: 0 | L81: 0 | M81: 1 | N81: =SUM(J81:M81) -> 1 | O81: Pengendalian secara kultur teknis, sanitasi kebun, | P81: Produksi Menurun
F82: (bermisia tabacci) | O82: pemupukan berimbang dan pengendalian secara
O83: mekanis dan kimia
C84: Kelapa | D84: 834 | E84: Ha | F84: Arthona | G84: 0.5 | H84: 1 | I84: =SUM(G84:H84) -> 1.5 | J84: 0 | K84: 0 | L84: 0 | M84: 1.5 | N84: =SUM(J84:M84) -> 1.5 | O84: Batang dibor lalu diberikan insektisida cair 10 ml/ | P84: Produksi Menurun
O85: lubang.
C86: Kelapa Sawit | D86: - | F86: - | G86: 0 | H86: 0 | I86: 0 | J86: 0 | K86: 0 | L86: 0 | M86: 0 | N86: =SUM(J86:M86) -> 0 | O86: - | P86: 0
C87: Kakao | D87: - | F87: - | G87: 0 | H87: 0 | I87: 0 | J87: 0 | K87: 0 | L87: 0 | M87: 0 | N87: =SUM(J87:M87) -> 0 | O87: - | P87: 0
C88: Karet | D88: - | F88: - | G88: 0 | H88: 0 | I88: 0 | J88: 0 | K88: 0 | L88: 0 | M88: 0 | N88: =SUM(J88:M88) -> 0
A90: 8 | B90: SAMARINDA | C90: Lada | D90: - | F90: - | G90: 0 | H90: 0 | I90: 0 | J90: 0 | K90: 0 | L90: 0 | M90: 0 | N90: =SUM(J90:M90) -> 0 | O90: - | P90: 0
C91: Kelapa | D91: - | F91: - | G91: 0 | H91: 0 | I91: 0 | J91: 0 | K91: 0 | L91: 0 | M91: 0 | N91: =SUM(J91:M91) -> 0 | O91: - | P91: 0
C92: Kelapa Sawit | D92: 1475 | E92: Ha | F92: Ladak | G92: 14 | H92: 4.5 | I92: =SUM(G92:H92) -> 18.5 | L92: 10 | M92: 8.5 | N92: =SUM(J92:M92) -> 18.5 | O92: Kawat/umpan | P92: 6250000
F93: Tikus | G93: 14 | H93: 4.5 | I93: =SUM(G93:H93) -> 18.5 | L93: 10 | M93: 8.5 | N93: =SUM(J93:M93) -> 18.5 | O93: Kawat/umpan | P93: 6250000
C94: Kakao | I94: 0
C95: Karet | I95: 0
A97: 9 | B97: PPU | C97: Lada | D97: 2291.1 | E97: Ha | F97: Penghisap Bunga | G97: 6.08 | H97: 3 | I97: =G97+H97 -> 9.08 | J97: 0 | K97: 0 | L97: 0 | M97: - | N97: - | O97: Pemupukan | P97: 367500
F98: Penghisap Buah | G98: 6.08 | H98: 3 | I98: =G98+H98 -> 9.08 | J98: 0 | K98: 0 | L98: 0 | M98: - | N98: - | O98: Pembuatan Rorak, Kimiawi, Pemangkasan, Sanitasi lahan | P98: 367500
F99: Pengerek Batang | G99: 6.08 | H99: 3 | I99: =G99+H99 -> 9.08 | J99: 0 | K99: 0 | L99: 0 | M99: - | N99: - | P99: 367500
F100: Rayap | G100: 5.4 | H100: 2.6 | I100: =G100+H100 -> 8 | J100: 0 | K100: 0 | L100: 0 | M100: - | N100: - | P100: 367500
F101: Keriting | G101: 0.43 | H101: 0.23 | I101: =G101+H101 -> 0.66 | J101: 0 | K101: 0 | L101: 0 | M101: - | N101: - | P101: 367500
C102: Kelapa | D102: 3660 | E102: Ha | F102: Orystes rhinoceros | G102: 8.04 | H102: 3.62 | I102: =G102+H102 -> 11.66 | J102: 0 | K102: 0 | L102: 0 | M102: 1.6 | N102: =SUM(J102:M102) -> 1.6 | O102: Kimiawi | P102: 235000
F103: Tupai | G103: 8.04 | H103: 3.62 | I103: =G103+H103 -> 11.66 | J103: 0 | K103: 0 | L103: 0 | M103: 1.6 | N103: =SUM(J103:M103) -> 1.6 | O103: Kimiawi
F104: Artona | G104: 8.03 | H104: 3.62 | I104: =G104+H104 -> 11.65 | J104: 0 | K104: 0 | L104: 0 | M104: 1.6 | N104: =SUM(J104:M104) -> 1.6 | O104: Kimiawi
F105: Babi | G105: 5.48 | H105: 2.35 | I105: =G105+H105 -> 7.83 | J105: 0 | K105: 0 | L105: 0 | M105: 1.33 | N105: =SUM(J105:M105) -> 1.33 | O105: Kimiawi
F106: Kera | G106: 1.86 | H106: 0.48 | I106: =G106+H106 -> 2.34 | J106: 0 | K106: 0 | L106: 0 | M106: 0.28 | N106: =SUM(J106:M106) -> 0.28 | O106: Kimiawi
C107: Kelapa Sawit | D107: 33043.22 | E107: Ha | F107: Babi | G107: 20.95 | H107: 18.5 | I107: =G107+H107 -> 39.45 | J107: 0 | K107: 0 | L107: 0 | M107: 7.67 | N107: =J107+K107+L107+M107 -> 7.67 | O107: Buru | P107: 63500000
F108: Landak | G108: 20.95 | H108: 18.5 | I108: =G108+H108 -> 39.45 | J108: 0 | K108: 0 | L108: 0 | M108: 7.67 | N108: =J108+K108+L108+M108 -> 7.67 | O108: Buru | P108: 63500000
F109: Tikus | G109: 20.95 | H109: 18.5 | I109: =G109+H109 -> 39.45 | J109: 0 | K109: 0 | L109: 0 | M109: 7.67 | N109: =J109+K109+L109+M109 -> 7.67 | O109: Umpan | P109: 63500000
C110: Kakao | D110: 11.5 | E110: Ha | F110: Babi | G110: 0.14 | H110: 0.1 | I110: =G110+H110 -> 0.24 | J110: 0 | K110: 0 | L110: 0 | M110: - | N110: - | O110: Kimiawi | P110: -
F111: Tupai | G111: 0.27 | H111: 0.14 | I111: =G111+H111 -> 0.41 | J111: 0 | K111: 0 | L111: 0 | M111: - | N111: - | O111: Kimiawi | P111: -
F112: Tikus | G112: 0.44 | H112: 0.18 | I112: =G112+H112 -> 0.62 | J112: 0 | K112: 0 | L112: 0 | M112: - | N112: - | O112: Kimiawi | P112: -
F113: Hellopeltis | G113: 0.15 | H113: 0.1 | I113: =G113+H113 -> 0.25 | J113: 0 | K113: 0 | L113: 0 | M113: - | N113: - | O113: Kimiawi | P113: -
F114: PBK | G114: 0.15 | H114: 0.29 | I114: =G114+H114 -> 0.44 | J114: 0 | K114: 0 | L114: 0 | M114: - | N114: - | O114: Kimiawi | P114: -
C115: Karet | D115: 6515.07 | F115: Rayap | G115: 3.53 | H115: 1.68 | I115: =G115+H115 -> 5.21 | J115: 0 | K115: 0 | L115: 0 | M115: 1.92 | N115: =J115+K115+L115+M115 -> 1.92 | O115: Kimiawi, Pemberian Fungisida, dan Pembuatan Parit | P115: 625000
F116: Kijang | G116: 9.08 | H116: 3.85 | I116: =G116+H116 -> 12.93 | J116: 0 | K116: 0 | L116: 0 | M116: 3.2 | N116: =J116+K116+L116+M116 -> 3.2
...

Sheet PERKAB.P
A1: PERKEMBANGAN SERANGAN PENYAKIT TANAMAN PERKEBUNAN
A2: DI KOTA BALIKPAPAN TRIWULAN IV
A4: No | B4: Jenis Komoditi / | C4: Luas Komoditi | E4: Jenis OPT | F4: Luas Serangan (Ha) | I4: Luas Pengendalian (Ha) | M4: Jumlah | N4: Cara Pengendalian | O4: Kerugian
B5: Kab, Kec, Desa | C5: ( Ha ) | F5: Ringan | G5: Berat | H5: Jumlah | I5: APBN | J5: APBD I | K5: APBD II | L5: Masyarakat | M5: ( Ha) | O5: Hasil (Rp)
A6: 1 | B6: 2 | C6: 3 | E6: 4 | F6: 5 | G6: 7 | H6: 8 | I6: 9 | J6: 10 | K6: 11 | L6: 12 | M6: 13 | N6: 14 | O6: 15
A8: 1 | B8: Lada | C8: 76 | D8: Ha | E8: Penyakit Busuk Pangkal Batang | F8: 0.75 | G8: 0 | H8: =SUM(F8:G8) -> 0.75 | I8: 0 | J8: 0 | K8: 0 | L8: 0.75 | M8: =SUM(I8:L8) -> 0.75 | N8: Sanitasi Kebun, pemupukan berimbang, menanam | O8: Produksi Menurun
N9: tanaman penutup tanah, membuat parit, isolasi
E10: (jamur phytopthora | N10: dan penyiraman/penyemprotan larutan fungisida.
E11: palmivora var piperis)
E12: Penyakit Kuning | F12: 0.85 | G12: 0 | H12: =SUM(F12:G12) -> 0.85 | I12: 0 | J12: 0 | K12: 0 | L12: 0.85 | M12: =SUM(I12:L12) -> 0.85 | N12: Sanitasi kebun, pemupukan berimbang sesuai | O12: Produksi Menurun
E13: (cacing halus nematoda) | N13: dosis anjuran, pemangkasan pemeliharaan dan
E14: Radhophalus similis | N14: penaburan nematisida serta pemyemprotan dengan
B17: Jumlah | C17: - | F17: =SUM(F7:F16) -> 1.6 | G17: =SUM(G7:G8) -> 0 | H17: =SUM(H7:H8) -> 0.75 | I17: 0 | J17: 0 | K17: 0 | L17: =SUM(L7:L8) -> 0.75 | M17: =SUM(M7:M8) -> 0.75 | O17: 0
A19: 2 | B19: Kelapa | C19: - | E19: - | F19: - | G19: - | H19: - | I19: 0 | J19: 0 | K19: 0 | L19: - | M19: - | N19: - | O19: -
B21: - | C21: - | E21: - | F21: =SUM(F19:F20) -> 0 | G21: =SUM(G19:G19) -> 0 | H21: =SUM(H19:H19) -> 0 | I21: 0 | J21: 0 | K21: 0 | L21: =SUM(L19:L19) -> 0 | M21: =SUM(M19:M19) -> 0 | O21: 0
A23: 3 | B23: Kelapa Sawit | C23: - | E23: - | F23: - | G23: - | H23: - | I23: 0 | J23: 0 | K23: 0 | L23: - | M23: - | N23: - | O23: -
B25: Jumlah | C25: - | E25: - | F25: =SUM(F23:F24) -> 0 | G25: =SUM(G23:G23) -> 0 | H25: =SUM(H23:H23) -> 0 | I25: 0 | J25: 0 | K25: 0 | L25: =SUM(L23:L23) -> 0 | M25: =SUM(M23:M23) -> 0
A27: 4 | B27: Kakao | C27: - | E27: - | F27: - | G27: - | H27: - | I27: 0 | J27: 0 | K27: 0 | L27: - | M27: - | N27: - | O27: -
B29: Jumlah | C29: - | E29: - | F29: =SUM(F27:F28) -> 0 | G29: =SUM(G27:G27) -> 0 | H29: =SUM(H27:H27) -> 0 | I29: 0 | J29: 0 | K29: 0 | L29: =SUM(L27:L27) -> 0 | M29: =SUM(M27:M27) -> 0 | O29: 0
A31: 5 | B31: Karet | C31: 4458 | D31: Ha | E31: Jamur akar putih (rigidoporous lignosus) | F31: 6.1 | G31: 0.4 | H31: =SUM(F31:G31) -> 6.5 | I31: 0 | J31: 0 | K31: 0 | L31: 5 | M31: =SUM(I31:L31) -> 5 | N31: Menggali permukaan tanah di sekitar daerah pangkal batang dan perakaran yang terserang kemudian disiram dengan larutan fungisida, kemudian ditutup kembali dengan tanah | O31: produksi menurun
E32: Kering Alur Sadap (KAS) | F32: 2 | G32: 0 | H32: =SUM(F32:G32) -> 2 | I32: 0 | J32: 0 | K32: 0 | L32: 2 | M32: =SUM(I32:L32) -> 2 | N32: Pembersihan bidang sadap dari jamur dan diolesan fungisida dan pemberian pupuk NPK. | O32: produksi menurun
B34: Jumlah | C34: =C31 -> 4458 | F34: =SUM(F31:F32) -> 8.1 | G34: =SUM(G31:G32) -> 0.4 | H34: =SUM(H31:H32) -> 8.5 | I34: =SUM(I31:I32) -> 0 | J34: =SUM(J31:J32) -> 0 | K34: =SUM(K31:K32) -> 0 | L34: =SUM(L31:L32) -> 7 | M34: =SUM(M31:M32) -> 7
N36: Samarinda, Desember 2017
A37: Mengetahui,
A38: Kepala UPTD - P2TP | M38: Pengolah Data OPT
A42: Ir. Supriyadi, M.Si | M42: Tri Susilowati, SP
A44: NIP. 196011081988031008 | M44: NIP.197530112008012018
M45: NIP. 19630425 199103 1 004
A49: PERKEMBANGAN SERANGAN PENYAKIT TANAMAN PERKEBUNAN
A50: DI KABUPATEN PASER TRIWULAN IV
A52: No | B52: Jenis Komoditi / | C52: Luas Komoditi | E52: Jenis OPT | F52: Luas Serangan (Ha) | I52: Luas Pengendalian (Ha) | M52: Jumlah | N52: Cara Pengendalian | O52: Kerugian
B53: Kab, Kec, Desa | C53: ( Ha ) | F53: Ringan | G53: Berat | H53: Jumlah | I53: APBN | J53: APBD I | K53: APBD II | L53: Masyarakat | M53: ( Ha) | O53: Hasil (Rp)
A54: 1 | B54: 2 | C54: 3 | E54: 4 | F54: 5 | G54: 7 | H54: 8 | I54: 9 | J54: 10 | K54: 11 | L54: 12 | M54: 13 | N54: 14 | O54: 15
A56: 1 | B56: Lada | C56: - | E56: - | F56: - | G56: - | H56: - | I56: 0 | J56: 0 | K56: 0 | L56: - | M56: - | N56: - | O56: -
B58: Jumlah | C58: 0 | F58: =SUM(F55:F57) -> 0 | G58: =SUM(G55:G56) -> 0 | H58: =SUM(H55:H56) -> 0 | I58: 0 | J58: 0 | K58: 0 | L58: =SUM(L55:L56) -> 0 | M58: =SUM(M55:M56) -> 0 | O58: 0
A60: 2 | B60: Kelapa | C60: - | E60: - | F60: - | G60: - | H60: - | I60: 0 | J60: 0 | K60: 0 | L60: - | M60: - | N60: - | O60: -
B63: - | C63: =C60 -> - | D63: Ha | F63: =SUM(F60) -> 0 | G63: =SUM(G60) -> 0 | H63: =SUM(H60) -> 0 | I63: =SUM(I60) -> 0 | J63: =SUM(J60) -> 0 | K63: =SUM(K60) -> 0 | L63: =SUM(L60) -> 0 | M63: =SUM(M60) -> 0 | O63: =SUM(O60) -> 0
A65: 3 | B65: Kelapa Sawit | C65: 36819 | D65: Ha | E65: Ganoderma, sp | F65: 4 | G65: 1 | H65: =SUM(F65:G65) -> 5 | I65: 0 | J65: 0 | K65: 0 | L65: 9 | M65: =SUM(I65:L65) -> 9 | N65: Mekanis/Tricoderma, sp | O65: 3737989.9
B67: Jumlah | C67: =C65 -> 36819 | D67: Ha | F67: =SUM(F65:F66) -> 4 | G67: =SUM(G65:G66) -> 1 | H67: =SUM(H65:H66) -> 5 | I67: =SUM(I65:I66) -> 0 | J67: =SUM(J65:J66) -> 0 | K67: =SUM(K65:K66) -> 0 | L67: =SUM(L65:L66) -> 9 | M67: =SUM(M65:M66) -> 9 | ... O67: =SUM(O65:O66) -> 3737989.9
A69: 4 | B69: Karet | C69: - | E69: - | F69: - | G69: - | H69: - | I69: 0 | J69: 0 | K69: 0 | L69: - | M69: - | N69: - | O69: -
B71: Jumlah | C71: =SUM(C69:C69) -> 0 | D71: Ha | F71: =SUM(F69:F69) -> 0 | G71: =SUM(G69:G69) -> 0 | H71: =SUM(H69:H69) -> 0 | I71: =SUM(I69:I69) -> 0 | J71: =SUM(J69:J69) -> 0 | K71: =SUM(K69:K69) -> 0 | L71: =SUM(L69:L69) -> 0 | M71: =SUM(M69:M69) -> 0 | ... O71: =SUM(O69:O69) -> 0
A73: 5 | B73: Kakao | C73: - | E73: - | F73: - | G73: - | H73: - | I73: 0 | J73: 0 | K73: 0 | L73: - | M73: - | N73: - | O73: -
B75: Jumlah | C75: =C73 -> - | D75: Ha | F75: =SUM(F73:F74) -> 0 | G75: =SUM(G73:G73) -> 0 | H75: =SUM(H73:H73) -> 0 | I75: 0 | J75: 0 | K75: 0 | L75: =SUM(L73:L73) -> 0 | M75: =SUM(M73:M73) -> 0 | O75: 0
N77: Samarinda, Desember 2017
A78: Mengetahui,
A79: Kepala UPTD - P2TP | M79: Pengolah Data OPT
A83: Ir. Supriyadi, M.Si | M83: Tri Susilowati, SP
A84: NIP. 196011081988031008 | M84: NIP.197530112008012018
M85: NIP. 19630425 199103 1 004
A86: PERKEMBANGAN SERANGAN PENYAKIT TANAMAN PERKEBUNAN
A87: DI KABUPATEN KUTAI TIMUR TRIWULAN IV
A89: No | B89: Jenis Komoditi / | C89: Luas Komoditi | E89: Jenis OPT | F89: Luas Serangan (Ha) | I89: Luas Pengendalian (Ha) | M89: Jumlah | N89: Cara Pengendalian | O89: Kerugian
B90: Kab, Kec, Desa | C90: ( Ha ) | F90: Ringan | G90: Berat | H90: Jumlah | I90: APBN | J90: APBD I | K90: APBD II | L90: Masyarakat | M90: ( Ha) | O90: Hasil (Rp)
A91: 1 | B91: 2 | C91: 3 | E91: 4 | F91: 5 | G91: 7 | H91: 8 | I91: 9 | J91: 10 | K91: 11 | L91: 12 | M91: 13 | N91: 14 | O91: 15
A93: 1 | B93: Lada | C93: 257 | D93: Ha | E93: Busuk Pangkal Batang | F93: 22.2 | G93: 0 | H93: =F93+G93 -> 22.2 | I93: 0 | J93: 0 | K93: 0 | L93: 22.2 | M93: =L93 -> 22.2 | N93: Kultur Teknis dan Kimia | O93: 0
B95: Jumlah | C95: =C93 -> 257 | F95: - | G95: - | H95: - | I95: - | J95: - | K95: =SUM(K93:K93) -> 0 | L95: - | M95: =SUM(M93:M93) -> 22.2 | O95: =SUM(O93:O94) -> 0
A97: 2 | B97: Kelapa | C97: - | E97: - | F97: - | G97: - | H97: - | I97: 0 | J97: 0 | K97: 0 | L97: - | M97: - | N97: - | O97: -
B99: - | C99: - | E99: - | F99: =SUM(F97:F98) -> 0 | G99: =SUM(G97:G97) -> 0 | H99: =SUM(H97:H97) -> 0 | I99: 0 | J99: 0 | K99: 0 | L99: =SUM(L97:L97) -> 0 | M99: =SUM(M97:M97) -> 0 | O99: 0
A101: 3 | B101: Kelapa Sawit | C101: 89 | D101: Ha | E101: Busuk Buah | F101: 14.8 | G101: 2.2 | H101: =F101+G101 -> 17 | L101: 3.9 | M101: =SUM(I101:L101) -> 3.9 | N101: Kultur Teknis
B103: Jumlah | C103: - | F103: =SUM(F101:F101) -> 14.8 | G103: =SUM(G101:G101) -> 2.2 | H103: =SUM(H101:H101) -> 17 | I103: =SUM(I101:I101) -> 0 | J103: =SUM(J101:J101) -> 0 | K103: =SUM(K101:K101) -> 0 | L103: =SUM(L101:L101) -> 3.9 | M103: =SUM(M101:M101) -> 3.9 | O103: =SUM(O101:O101) -> 0
A105: 4 | B105: Kakao | C105: - | E105: - | F105: - | G105: - | H105: - | I105: 0 | J105: 0 | K105: 0 | L105: - | M105: - | N105: - | O105: -
B107: Jumlah | C107: - | E107: - | F107: =SUM(F105:F106) -> 0 | G107: =SUM(G105:G105) -> 0 | H107: =SUM(H105:H105) -> 0 | I107: 0 | J107: 0 | K107: 0 | L107: =SUM(L105:L105) -> 0 | M107: =SUM(M105:M105) -> 0 | O107: 0
A109: 5 | B109: Karet | C109: 2272.1 | D109: Ha | E109: JAP | F109: 32.8 | G109: 0 | H109: =F109+G109 -> 32.8 | I109: 0 | J109: 0 | K109: 0 | L109: 18.1 | M109: =SUM(I109:L109) -> 18.1 | N109: Belum dikendalikan | O109: -
E110: KAS | F110: 3 | G110: 0 | H110: =F110+G110 -> 3 | I110: 0 | J110: 0 | K110: 0 | L110: 0 | M110: =SUM(I110:L110) -> 0
B112: Jumlah | C112: =SUM(C109:C109) -> 2272.1 | D112: Ha | F112: =SUM(F109:F111) -> 35.8 | G112: =SUM(G109:G111) -> 0 | H112: =SUM(H109:H111) -> 35.8 | I112: =SUM(I109:I111) -> 0 | J112: =SUM(J109:J111) -> 0 | K112: =SUM(K109:K111) -> 0 | L112: =SUM(L109:L111) -> 18.1 | M112: =SUM(M109:M111) -> 18.1 | O112: =SUM(O109:O109) -> 0
N114: Samarinda, Desember 2017
A115: Mengetahui,
A116: Kepala UPTD - P2TP | M116: Pengolah Data OPT
A120: Ir. Supriyadi, M.Si | M120: Tri Susilowati, SP
A121: NIP. 196011081988031008 | M121: NIP.197530112008012018
M122: NIP. 19630425 199103 1 004
A135: PERKEMBANGAN SERANGAN PENYAKIT TANAMAN PERKEBUNAN
A136: DI KABUPATEN KUTAI KARTANEGARA TRIWULAN IV
A138: No | B138: Jenis Komoditi / | C138: Luas Komoditi | E138: Jenis OPT | F138: Luas Serangan (Ha) | I138: Luas Pengendalian (Ha) | M138: Jumlah | N138: Cara Pengendalian | O138: Kerugian
B139: Kab, Kec, Desa | C139: ( Ha ) | F139: Ringan | G139: Berat | H139: Jumlah | I139: APBN | J139: APBD I | K139: APBD II | L139: Masyarakat | M139: ( Ha) | O139: Hasil (Rp)
A140: 1 | B140: 2 | C140: 3 | E140: 4 | F140: 5 | G140: 7 | H140: 8 | I140: 9 | J140: 10 | K140: 11 | L140: 12 | M140: 13 | N140: 14 | O140: 15
A142: 1 | B142: Lada | C142: 1145 | D142: Ha | E142: Busuk Pangkal Batang | F142: 0.22 | G142: 0 | H142: =SUM(F142:G142) -> 0.22 | I142: 0 | J142: 0 | K142: 0 | L142: 0.22 | M142: =SUM(I142:L142) -> 0.22 | N142: Menjaga kebersihan kebun/Mekanik
B144: Jumlah | C144: =SUM(C142:C142) -> 1145 | F144: =SUM(F142:F142) -> 0.22 | G144: =SUM(G142:G142) -> 0 | H144: =SUM(H142:H142) -> 0.22 | I144: =SUM(I142:I142) -> 0 | J144: =SUM(J142:J142) -> 0 | K144: =SUM(K142:K142) -> 0 | L144: =SUM(L142:L142) -> 0.22 | M144: =SUM(M142:M142) -> 0.22 | O144: =SUM(O142:O142) -> 0
A146: 2 | B146: Kelapa | C146: - | E146: - | F146: - | G146: - | H146: - | I146: 0 | J146: 0 | K146: 0 | L146: - | M146: - | N146: - | O146: -
B148: - | C148: - | E148: - | F148: =SUM(F146:F147) -> 0 | G148: =SUM(G146:G146) -> 0 | H148: =SUM(H146:H146) -> 0 | I148: 0 | J148: 0 | K148: 0 | L148: =SUM(L146:L146) -> 0 | M148: =SUM(M146:M146) -> 0 | O148: 0
A150: 3 | B150: Kelapa Sawit | C150: - | E150: - | F150: - | G150: - | H150: - | I150: 0 | J150: 0 | K150: 0 | L150: - | M150: - | N150: - | O150: -
B152: Jumlah | C152: - | E152: - | F152: =SUM(F150:F151) -> 0 | G152: =SUM(G150:G150) -> 0 | H152: =F152+G152 -> 0 | I152: 0 | J152: 0 | K152: 0 | L152: =SUM(L150:L150) -> 0 | M152: =SUM(M150:M150) -> 0 | O152: 0
A154: 4 | B154: Kakao | C154: - | E154: - | F154: - | G154: - | H154: - | I154: 0 | J154: 0 | K154: 0 | L154: - | M154: - | N154: - | O154: -
B156: Jumlah | C156: - | E156: - | F156: =SUM(F154:F155) -> 0 | G156: =SUM(G154:G154) -> 0 | H156: =SUM(H154:H154) -> 0 | I156: 0 | J156: 0 | K156: 0 | L156: =SUM(L154:L154) -> 0 | M156: =SUM(M154:M154) -> 0 | O156: 0
A158: 5 | B158: Karet | C158: 11581.95 | D158: Ha | E158: Jamur Akar Putih | F158: 33.3 | G158: 8.5 | H158: =SUM(F158:G158) -> 41.8 | I158: 0 | J158: 0 | K158: 0 | L158: 18 | M158: =SUM(I158:L158) -> 18 | N158: Secara Kimia, Mekanik dan Biologi (APH) | O158: 2155388
B160: Jumlah | C160: =C158 -> 11581.95 | F160: =SUM(F158:F158) -> 33.3 | G160: =SUM(G158:G158) -> 8.5 | H160: =SUM(H158:H158) -> 41.8 | I160: =SUM(I158:I158) -> 0 | J160: =SUM(J158:J158) -> 0 | K160: =SUM(K158:K158) -> 0 | L160: =SUM(L158:L158) -> 18 | M160: =SUM(M158:M158) -> 18 | O160: =O158 -> 2155388
N162: Samarinda, Desember 2017
A163: Mengetahui,
A164: Kepala UPTD - P2TP | M164: Pengolah Data OPT
A168: Ir. Supriyadi, M.Si | M168: Tri Susilowati, SP
A169: NIP. 196011081988031008 | M169: NIP.197530112008012018
A185: PERKEMBANGAN SERANGAN PENYAKIT TANAMAN PERKEBUNAN
A186: DI KABUPATEN BERAU TRIWULAN IV
A188: No | B188: Jenis Komoditi / | C188: Luas Komoditi | E188: Jenis OPT | F188: Luas Serangan (Ha) | I188: Luas Pengendalian (Ha) | M188: Jumlah | N188: Cara Pengendalian | O188: Kerugian
B189: Kab, Kec, Desa | C189: ( Ha ) | F189: Ringan | G189: Berat | H189: Jumlah | I189: APBN | J189: APBD I | K189: APBD II | L189: Masyarakat | M189: ( Ha) | O189: Hasil (Rp)
A190: 1 | B190: 2 | C190: 3 | E190: 4 | F190: 5 | G190: 7 | H190: 8 | I190: 9 | J190: 10 | K190: 11 | L190: 12 | M190: 13 | N190: 14 | O190: 15
A192: 1 | B192: Lada | C192: 1654.3 | D192: Ha | E192: Phytophtora (BPB) | F192: 21.1 | G192: 2.5 | H192: =SUM(F192:G192) -> 23.6 | I192: 0 | J192: 0 | K192: 0.5 | L192: 7.5 | M192: =SUM(I192:L192) -> 8 | N192: Kultur Teknis dan Kimia | O192: 0
E193: Marasmius | F193: 3.6 | G193: 0 | H193: =SUM(F193:G193) -> 3.6 | I193: 0 | J193: 0 | K193: 0 | L193: 0 | M193: =SUM(I193:L193) -> 0 | N193: -
E194: Jamur Upas | F194: 1 | G194: 0 | H194: =SUM(F194:G194) -> 1 | I194: 0 | J194: 0 | K194: 0 | L194: 0 | M194: =SUM(I194:L194) -> 0 | N194: -
B196: Jumlah | F196: =SUM(F192:F192) -> 21.1 | G196: =SUM(G192:G192) -> 2.5 | H196: =SUM(H192:H192) -> 23.6 | I196: =SUM(I192:I192) -> 0 | J196: =SUM(J192:J192) -> 0 | K196: =SUM(K192:K192) -> 0.5 | L196: =SUM(L192:L192) -> 7.5 | M196: =SUM(I196:L196) -> 8 | O196: =SUM(O192:O192) -> 0
...

Sheet PERKAB.H
A2: PERKEMBANGAN SERANGAN HAMA TANAMAN PERKEBUNAN
A3: DI KOTA BALIKPAPAN TRIWULAN I
A5: No | B5: Jenis Komoditi / | C5: Luas Komoditi | E5: Jenis OPT | F5: Luas Serangan (Ha) | I5: Luas Pengendalian (Ha) | M5: Jumlah | N5: Cara Pengendalian | O5: Kerugian
B6: Kab, Kec, Desa | C6: ( Ha ) | F6: Ringan | G6: Berat | H6: Jumlah | I6: APBN | J6: APBD I | K6: APBD II | L6: Masyarakat | M6: ( Ha) | O6: Hasil (Rp)
A7: 1 | B7: 2 | C7: 3 | E7: 4 | F7: 5 | G7: 7 | H7: 8 | I7: 9 | J7: 10 | K7: 11 | L7: 12 | M7: 13 | N7: 14 | O7: 15
A9: 1 | B9: Lada | C9: 72 | D9: Ha | E9: Penggerek Batang | F9: 0.5 | G9: 0 | H9: =SUM(F9:G9) -> 0.5 | I9: 0 | J9: 0 | K9: 0 | L9: 0.5 | M9: =SUM(I9:L9) -> 0.5 | N9: Penyiangan terbatas, cara mekanis memotong | O9: Produksi Menurun
E10: (Lophobaris piperis) | N10: cabang-cabang yang terserang dan membunuh
N11: semua larva yang ditemukan dan menanam
N12: tanaman sela dan penutup tanah serta menanam
N13: dengan menggunakan varietas toleran terhadap
N14: hama tersebut.
E15: Penghisap Buah | F15: 0.5 | G15: 0 | H15: =SUM(F15:G15) -> 0.5 | I15: 0 | J15: 0 | K15: 0 | L15: 0.5 | M15: =SUM(I15:L15) -> 0.5 | N15: Musnahkan telur dipermukaan daun, cabang dan | O15: Produksi Menurun
E16: (Dasynus piperia) | N16: yang ada pada tandan buah kemuadian disemprot
N17: dengan pestisida nabati atau kimia.
E18: Kutu kebul/Kutu Putih | F18: 1 | G18: 0 | H18: =SUM(F18:G18) -> 1 | I18: 0 | J18: 0 | K18: 0 | L18: 1 | M18: =SUM(I18:L18) -> 1 | N18: Pengendalian secara kultur teknis, sanitasi kebun, | O18: Produksi Menurun
E19: (bermisia tabacci) | N19: pemupukan berimbang dan pengendalian secara
N20: mekanis dan kimia
B22: Jumlah | C22: - | F22: =SUM(F9:F18) -> 2 | G22: =SUM(G9:G11) -> 0 | H22: =SUM(H9:H18) -> 2 | I22: =SUM(I9:I11) -> 0 | J22: =SUM(J9:J11) -> 0 | K22: =SUM(K9:K11) -> 0 | L22: =SUM(L9:L18) -> 2 | M22: =SUM(M9:M18) -> 2 | O22: 0
A24: 2 | B24: Kelapa | C24: 834 | D24: Ha | E24: Arthona | F24: 0.5 | G24: 1 | H24: =SUM(F24:G24) -> 1.5 | I24: 0 | J24: 0 | K24: 0 | L24: 1.5 | M24: =SUM(I24:L24) -> 1.5 | N24: Batang dibor lalu diberikan insektisida cair 10 ml/ | O24: Produksi Menurun
N25: lubang.
B27: - | C27: - | E27: - | F27: =SUM(F24:F26) -> 0.5 | G27: =SUM(G24:G24) -> 1 | H27: =SUM(H24:H24) -> 1.5 | I27: 0 | J27: 0 | K27: 0 | L27: =SUM(L24:L24) -> 1.5 | M27: =SUM(M24:M24) -> 1.5 | O27: 0
A29: 3 | B29: Kelapa Sawit | C29: 0 | D29: - | E29: - | F29: - | G29: - | H29: - | I29: - | J29: - | K29: - | L29: - | M29: - | N29: - | O29: -
B31: Jumlah | C31: - | E31: - | F31: =SUM(F29:F30) -> 0 | G31: =SUM(G29:G29) -> 0 | H31: =SUM(H29:H29) -> 0 | I31: 0 | J31: 0 | K31: 0 | L31: =SUM(L29:L29) -> 0 | M31: =SUM(M29:M29) -> 0
A33: 4 | B33: Kakao | C33: - | E33: - | F33: - | G33: - | H33: - | I33: 0 | J33: 0 | K33: 0 | L33: - | M33: - | N33: - | O33: -
B35: Jumlah | C35: - | E35: - | F35: =SUM(F33:F34) -> 0 | G35: =SUM(G33:G33) -> 0 | H35: =SUM(H33:H33) -> 0 | I35: 0 | J35: 0 | K35: 0 | L35: =SUM(L33:L33) -> 0 | M35: =SUM(M33:M33) -> 0 | O35: 0
A37: 5 | B37: Karet | C37: - | E37: - | F37: - | G37: - | H37: - | I37: 0 | J37: 0 | K37: 0 | L37: - | M37: - | N37: - | O37: -
B40: Jumlah | C40: =C37 -> - | F40: =SUM(F37:F37) -> 0 | G40: =SUM(G37:G37) -> 0 | H40: =F40+G40 -> 0 | I40: =SUM(I37:I37) -> 0 | J40: =SUM(J37:J37) -> 0 | K40: =SUM(K37:K37) -> 0 | L40: =SUM(L37:L37) -> 0 | M40: =SUM(M37:M37) -> 0
N42: Samarinda, Desember 2017
A43: Mengetahui,
A44: Kepala UPTD - P2TP | M44: Pengolah Data OPT
A48: Ir. Supriyadi, M.Si | M48: Tri Susilowati, SP
A49: NIP. 196011081988031008 | M49: NIP.197530112008012018
M50: NIP. 19630425 199103 1 004
A85: PERKEMBANGAN SERANGAN HAMA TANAMAN PERKEBUNAN
A86: DI KABUPATEN PASER TRIWULAN I
A88: No | B88: Jenis Komoditi / | C88: Luas Komoditi | E88: Jenis OPT | F88: Luas Serangan (Ha) | I88: Luas Pengendalian (Ha) | M88: Jumlah | N88: Cara Pengendalian | O88: Kerugian
B89: Kab, Kec, Desa | C89: ( Ha ) | F89: Ringan | G89: Berat | H89: Jumlah | I89: APBN | J89: APBD I | K89: APBD II | L89: Masyarakat | M89: ( Ha) | O89: Hasil (Rp)
A90: 1 | B90: 2 | C90: 3 | E90: 4 | F90: 5 | G90: 7 | H90: 8 | I90: 9 | J90: 10 | K90: 11 | L90: 12 | M90: 13 | N90: 14 | O90: 15
A92: 1 | B92: Lada | C92: 6018 | D92: Ha | E92: Penghisap Buah | F92: 1.5 | G92: 0 | H92: =SUM(F92:G92) -> 1.5 | I92: 0 | J92: 0 | K92: 0 | L92: 2 | M92: =SUM(I92:L92) -> 2 | N92: Mekanis/Teknis | O92: 782388.5
B94: Jumlah | C94: 0 | F94: =SUM(F91:F93) -> 1.5 | G94: =SUM(G91:G92) -> 0 | H94: =SUM(H91:H92) -> 1.5 | I94: 0 | J94: 0 | K94: 0 | L94: =SUM(L91:L92) -> 2 | M94: =SUM(M91:M92) -> 2 | O94: =O92 -> 782388.5
A96: 2 | B96: Kelapa | C96: 727 | D96: Ha | E96: Sexapa sp, | F96: 0.75 | G96: 0 | H96: =SUM(F96:G96) -> 0.75 | I96: 0 | J96: 0 | K96: 0 | L96: 1.5 | M96: =SUM(I96:L96) -> 1.5 | N96: Teknis/Mekanis | O96: 162936
E97: Orytes rhinoceros | F97: 1 | G97: 0 | H97: =SUM(F97:G97) -> 1 | I97: 0 | J97: 0 | K97: 0 | L97: 2 | M97: =SUM(I97:L97) -> 2 | N97: Teknis/Mekanis | O97: 141211.2
B99: - | C99: =C96 -> 727 | D99: Ha | F99: =SUM(F96) -> 0.75 | G99: =SUM(G96) -> 0 | H99: =SUM(H96) -> 0.75 | I99: =SUM(I96) -> 0 | J99: =SUM(J96) -> 0 | K99: =SUM(K96) -> 0 | L99: =SUM(L96) -> 1.5 | M99: =SUM(M96) -> 1.5 | O99: =SUM(O96) -> 162936
A101: 3 | B101: Kelapa Sawit | C101: - | E101: - | F101: - | G101: - | H101: - | I101: 0 | J101: 0 | K101: 0 | L101: - | M101: - | N101: - | O101: -
B103: Jumlah | C103: =C101 -> - | D103: Ha | F103: =SUM(F101:F102) -> 0 | G103: =SUM(G101:G102) -> 0 | H103: =F103+G103 -> 0 | I103: =SUM(I101:I101) -> 0 | J103: =SUM(J101:J101) -> 0 | K103: =SUM(K102) -> 0 | L103: =SUM(L101:L102) -> 0 | M103: =SUM(M101:M102) -> 0 | N103: =SUM(N101:N102) -> 0 | O103: =SUM(O101:O102) -> 0
A105: 4 | B105: Karet | C105: 0 | F105: 0 | G105: 0 | H105: 0 | I105: 0 | J105: 0 | K105: 0 | L105: 0 | M105: 0 | N105: 0 | O105: 0
B107: Jumlah | C107: =C105 -> 0 | F107: =SUM(F105:F106) -> 0 | G107: =SUM(G105:G106) -> 0 | H107: =SUM(H105:H106) -> 0 | I107: 0 | J107: =SUM(J105:J106) -> 0 | K107: =SUM(K105:K106) -> 0 | L107: =SUM(L105:L106) -> 0 | M107: =SUM(M105:M106) -> 0 | O107: =SUM(O105:O106) -> 0
A109: 5 | B109: Kakao | C109: 797 | E109: PBK | F109: 1 | G109: 0.5 | H109: =SUM(F109:G109) -> 1.5 | I109: 0 | J109: 0 | K109: 0 | L109: 1 | M109: =SUM(I109:L109) -> 1 | N109: Teknis/Mekanis | O109: 310140
B111: Jumlah | C111: =C109 -> 797 | D111: Ha | F111: =SUM(F109:F110) -> 1 | G111: =SUM(G109:G109) -> 0.5 | H111: =SUM(H109:H109) -> 1.5 | I111: 0 | J111: 0 | K111: 0 | L111: =SUM(L109:L109) -> 1 | M111: =SUM(M109:M109) -> 1 | O111: =O109 -> 310140
N113: Samarinda, Desember 2017
A114: Mengetahui,
A115: Kepala UPTD - P2TP | M115: Pengolah Data OPT
A119: Ir. Supriyadi, M.Si | M119: Tri Susilowati, SP
A120: NIP. 196011081988031008 | M120: NIP.197530112008012018
M121: NIP. 19630425 199103 1 004
A122: PERKEMBANGAN SERANGAN HAMA TANAMAN PERKEBUNAN
A123: DI KABUPATEN KUTAI TIMUR TRIWULAN I
A125: No | B125: Jenis Komoditi / | C125: Luas Komoditi | E125: Jenis OPT | F125: Luas Serangan (Ha) | I125: Luas Pengendalian (Ha) | M125: Jumlah | N125: Cara Pengendalian | O125: Kerugian
B126: Kab, Kec, Desa | C126: ( Ha ) | F126: Ringan | G126: Berat | H126: Jumlah | I126: APBN | J126: APBD I | K126: APBD II | L126: Masyarakat | M126: ( Ha) | O126: Hasil (Rp)
A127: 1 | B127: 2 | C127: 3 | E127: 4 | F127: 5 | G127: 7 | H127: 8 | I127: 9 | J127: 10 | K127: 11 | L127: 12 | M127: 13 | N127: 14 | O127: 15
A129: 1 | B129: Lada | C129: - | E129: - | F129: - | G129: - | H129: - | I129: 0 | J129: 0 | K129: 0 | L129: - | M129: - | N129: - | O129: -
B131: Jumlah | C131: =C129 -> - | F131: - | G131: - | H131: - | I131: - | J131: - | K131: =SUM(K129:K129) -> 0 | L131: - | M131: =SUM(M129:M129) -> 0 | O131: =SUM(O129:O130) -> 0
A133: 2 | B133: Kelapa | C133: - | E133: - | F133: - | G133: - | H133: - | I133: 0 | J133: 0 | K133: 0 | L133: - | M133: - | N133: - | O133: -
B135: - | C135: - | E135: - | F135: =SUM(F133:F134) -> 0 | G135: =SUM(G133:G133) -> 0 | H135: =SUM(H133:H133) -> 0 | I135: 0 | J135: 0 | K135: 0 | L135: =SUM(L133:L133) -> 0 | M135: =SUM(M133:M133) -> 0 | O135: 0
A137: 3 | B137: Kelapa Sawit | C137: 3210.7 | D137: Ha | E137: Tikus | F137: 5.85 | G137: 0 | H137: =F137+G137 -> 5.85 | I137: 0 | J137: 0 | K137: 0 | L137: 2.15 | M137: =I137+J137+K137+L137 -> 2.15 | N137: Menggunakan potongan rambut | O137: -
E138: Landak | F138: 0.85 | G138: 0 | H138: =F138+G138 -> 0.85 | I138: 0 | J138: 0 | K138: 0 | M138: =I138+J138+K138+L138 -> 0 | N138: Menggunakan potongan rambut
E139: Orang hutan | F139: 1.5 | G139: 0 | H139: =F139+G139 -> 1.5 | I139: 0 | J139: 0 | K139: 0 | L139: 0.5 | M139: =I139+J139+K139+L139 -> 0.5 | N139: Jebakan
C140: 232 | D140: Ha | E140: Ulat Kantong | F140: 1 | G140: 0 | H140: =F140+G140 -> 1 | I140: 0 | J140: 0 | K140: 0 | L140: 1 | M140: =I140+J140+K140+L140 -> 1 | N140: Menggunakan Teknis Budidaya, Kimia
B142: Jumlah | C142: =C140+C137 -> 3442.7 | D142: Ha | F142: =SUM(F137:F140) -> 9.2 | G142: =SUM(G137:G137) -> 0 | H142: =SUM(H137:H140) -> 9.2 | I142: =SUM(I137:I140) -> 0 | J142: =SUM(J137:J140) -> 0 | K142: =SUM(K137:K140) -> 0 | L142: =SUM(L137:L140) -> 3.65 | M142: =SUM(M137:M140) -> 3.65 | O142: =SUM(O137:O137) -> 0
A144: 4 | B144: Kakao | C144: 89 | D144: Ha | E144: PBK | F144: 28.45 | G144: 8.04 | H144: =F144+G144 -> 36.49 | I144: 0 | J144: 0 | K144: 0 | L144: 16.9 | M144: =SUM(I144:L144) -> 16.9 | N144: Kultur Teknis Biologis, Kimia | O144: -
E145: Helopeltis | F145: 19.3 | G145: 2.75 | H145: =F145+G145 -> 22.05 | L145: 6.7 | M145: =SUM(I145:L145) -> 6.7 | N145: Kultur Teknis
E146: Tupai | F146: 0.9 | G146: 0 | H146: =F146+G146 -> 0.9 | L146: 0.8 | M146: =SUM(I146:L146) -> 0.8 | N146: Mekanis
E147: Penggerek Batang | F147: 6.6 | G147: 0 | H147: =F147+G147 -> 6.6 | L147: 3.4 | M147: =SUM(I147:L147) -> 3.4 | N147: Biologis
B149: Jumlah | C149: - | E149: - | F149: =SUM(F144:F148) -> 55.25 | G149: =SUM(G144:G144) -> 8.04 | H149: =SUM(H144:H144) -> 36.49 | I149: 0 | J149: 0 | K149: 0 | L149: =SUM(L144:L144) -> 16.9 | M149: =SUM(M144:M144) -> 16.9 | O149: 0
A151: 5 | B151: Karet | C151: 2272.1 | E151: Rayap | F151: 24.8 | G151: 0 | H151: =F151+G151 -> 24.8 | I151: 0 | J151: 0 | K151: 0 | L151: 24.8 | M151: =SUM(I151:L151) -> 24.8 | O151: -
B153: Jumlah | C153: =SUM(C151:C151) -> 2272.1 | D153: Ha | F153: =SUM(F151:F151) -> 24.8 | G153: =SUM(G151:G151) -> 0 | H153: =SUM(H151:H151) -> 24.8 | I153: =SUM(I151:I151) -> 0 | J153: =SUM(J151:J151) -> 0 | K153: =SUM(K151:K151) -> 0 | L153: =SUM(L151:L151) -> 24.8 | M153: =SUM(M151:M151) -> 24.8 | O153: =SUM(O151:O151) -> 0
N155: Samarinda, Desember 2017
A156: Mengetahui,
A157: Kepala UPTD - P2TP | M157: Pengolah Data OPT
A161: Ir. Supriyadi, M.Si | M161: Tri Susilowati, SP
A162: NIP. 196011081988031008 | M162: NIP.197530112008012018
M163: NIP. 19630425 199103 1 004
A174: PERKEMBANGAN SERANGAN HAMA TANAMAN PERKEBUNAN
A175: DI KABUPATEN KUTAI KARTANEGARA TRIWULAN II
A177: No | B177: Jenis Komoditi / | C177: Luas Komoditi | E177: Jenis OPT | F177: Luas Serangan (Ha) | I177: Luas Pengendalian (Ha) | M177: Jumlah | N177: Cara Pengendalian | O177: Kerugian
B178: Kab, Kec, Desa | C178: ( Ha ) | F178: Ringan | G178: Berat | H178: Jumlah | I178: APBN | J178: APBD I | K178: APBD II | L178: Masyarakat | M178: ( Ha) | O178: Hasil (Rp)
A179: 1 | B179: 2 | C179: 3 | E179: 4 | F179: 5 | G179: 7 | H179: 8 | I179: 9 | J179: 10 | K179: 11 | L179: 12 | M179: 13 | N179: 14 | O179: 15
A181: 1 | B181: Lada | C181: 1145 | D181: Ha | E181: Penggerek Batang | F181: 8 | G181: 0 | H181: =SUM(F181:G181) -> 8 | I181: 0 | J181: 0 | K181: 1 | L181: 2 | M181: =SUM(I181:L181) -> 3 | N181: Mengunakan Pesnab dan ada yg belum dikendalikan | O181: 0
B183: Jumlah | F183: =SUM(F181:F181) -> 8 | G183: =SUM(G181:G181) -> 0 | H183: =SUM(H181:H181) -> 8 | I183: =SUM(I181:I181) -> 0 | J183: =SUM(J181:J181) -> 0 | K183: =SUM(K181:K181) -> 1 | L183: =SUM(L181:L181) -> 2 | M183: =SUM(M181:M181) -> 3 | O183: =SUM(O181:O181) -> 0
A185: 2 | B185: Kelapa | C185: 5183 | D185: Ha | E185: Kera | F185: 10 | G185: - | H185: =SUM(F185:G185) -> 10 | I185: 0 | J185: 0 | K185: 0 | L185: 0 | M185: =SUM(I185:L185) -> 0 | N185: Menjaga kebersihan kebun | O185: -
E186: Artona, sp | F186: 0.5 | G186: - | H186: =SUM(F186:G186) -> 0.5 | I186: 0 | J186: 0 | K186: 0 | L186: 0 | M186: =SUM(I186:L186) -> 0 | N186: Menjaga kebersihan kebun
E187: Babi Hutan | F187: 2 | G187: - | H187: =SUM(F187:G187) -> 2 | I187: 0 | J187: 0 | K187: 0 | L187: 2 | M187: =SUM(I187:L187) -> 2 | N187: Secara Mekanik
B189: - | C189: - | E189: - | F189: =SUM(F185:F188) -> 12.5 | G189: =SUM(G185:G185) -> 0 | H189: =SUM(H185:H185) -> 10 | I189: 0 | J189: 0 | K189: 0 | L189: =SUM(L185:L185) -> 0 | M189: =SUM(M185:M185) -> 0 | O189: 0
A191: 3 | B191: Kelapa Sawit | C191: 3846.5 | D191: Ha | E191: Tikus | F191: 0.65 | G191: 0 | H191: =SUM(F191:G191) -> 0.65 | I191: 0 | J191: 0 | K191: 0 | L191: 0.5 | M191: =SUM(I191:L191) -> 0.5 | N191: Secara Mekanik/menjaga kebersihan kebun
E192: Oryctes sp | F192: 24.5 | G192: 0 | H192: =SUM(F192:G192) -> 24.5 | I192: 0 | J192: 0 | K192: 0 | L192: 24.5 | M192: =SUM(I192:L192) -> 24.5 | N192: Secara Kimiawi (Dhitane)
E193: Kutu Daun | F193: 0.25 | G193: 0 | H193: =SUM(F193:G193) -> 0.25 | I193: 0 | J193: 0 | K193: 0 | L193: 0.25 | M193: =SUM(I193:L193) -> 0.25 | N193: Secara mekanik dan kimiawi
B195: Jumlah | C195: - | E195: - | F195: =SUM(F191:F193) -> 25.4 | G195: =SUM(G191:G193) -> 0 | H195: =SUM(H191:H193) -> 25.4 | I195: =SUM(I191:I193) -> 0 | J195: =SUM(J191:J193) -> 0 | K195: =SUM(K191:K193) -> 0 | L195: =SUM(L191:L193) -> 25.25 | M195: =SUM(M191:M193) -> 25.25 | ... O195: =SUM(O191:O193) -> 0
A197: 4 | B197: Kakao | C197: - | E197: - | F197: - | G197: - | H197: - | I197: 0 | J197: 0 | K197: 0 | L197: - | M197: - | N197: - | O197: -
B199: Jumlah | C199: - | E199: - | F199: =SUM(F197:F198) -> 0 | G199: =SUM(G197:G197) -> 0 | H199: =SUM(H197:H197) -> 0 | I199: 0 | J199: 0 | K199: 0 | L199: =SUM(L197:L197) -> 0 | M199: =SUM(M197:M197) -> 0 | O199: 0
A201: 5 | B201: Karet | C201: 20 | D201: Ha | E201: Rayap | F201: 15 | G201: 3 | H201: =SUM(F201:G201) -> 18 | I201: 0 | J201: 0 | K201: 0 | L201: 13 | M201: =SUM(I201:L201) -> 13 | N201: Pengendalian secara kimiawi | O201: 187425
...

Sheet PERKAB.HP
A2: PERKEMBANGAN SERANGAN HAMA DAN PENYAKIT TANAMAN PERKEBUNAN
A3: DI KOTA BALIKPAPAN TRIWULAN IV
A5: No | B5: Jenis Komoditi / | C5: Luas Komoditi | E5: Jenis OPT | F5: Luas Serangan (Ha) | I5: Luas Pengendalian (Ha) | M5: Jumlah | N5: Cara Pengendalian | O5: Kerugian
B6: Kab, Kec, Desa | C6: ( Ha ) | F6: Ringan | G6: Berat | H6: Jumlah | I6: APBN | J6: APBD I | K6: APBD II | L6: Masyarakat | M6: ( Ha) | O6: Hasil (Rp)
A7: 1 | B7: 2 | C7: 3 | E7: 4 | F7: 5 | G7: 7 | H7: 8 | I7: 9 | J7: 10 | K7: 11 | L7: 12 | M7: 13 | N7: 14 | O7: 15
A9: 1 | B9: Lada | C9: 76 | D9: Ha | E9: Penggerek Batang | F9: 0.5 | G9: 0 | H9: =SUM(F9:G9) -> 0.5 | I9: 0 | J9: 0 | K9: 0 | L9: 0.5 | M9: =SUM(I9:L9) -> 0.5 | N9: Penyiangan terbatas, cara mekanis memotong | O9: Produksi Menurun
E10: (Lophobaris piperis) | N10: cabang-cabang yang terserang dan membunuh
N11: semua larva yang ditemukan dan menanam
N12: tanaman sela dan penutup tanah serta menanam
N13: dengan menggunakan varietas toleran terhadap
N14: hama tersebut.
E15: Penghisap Buah | F15: 0.5 | G15: 0 | H15: =SUM(F15:G15) -> 0.5 | I15: 0 | J15: 0 | K15: 0 | L15: 0.5 | M15: =SUM(I15:L15) -> 0.5 | N15: Musnahkan telur dipermukaan daun, cabang dan | O15: Produksi Menurun
E16: (Dasynus piperia) | N16: yang ada pada tandan buah kemuadian disemprot
N17: dengan pestisida nabati atau kimia.
E18: Kutu kebul/Kutu Putih | F18: 1 | G18: 0 | H18: =SUM(F18:G18) -> 1 | I18: 0 | J18: 0 | K18: 0 | L18: 1 | M18: =SUM(I18:L18) -> 1 | N18: Pengendalian secara kultur teknis, sanitasi kebun, | O18: Produksi Menurun
E19: (bermisia tabacci) | N19: pemupukan berimbang dan pengendalian secara
N20: mekanis dan kimia
E21: Penyakit Busuk Pangkal Batang | F21: 0.75 | G21: 0 | H21: =SUM(F21:G21) -> 0.75 | I21: 0 | J21: 0 | K21: 0 | L21: 0.75 | M21: =SUM(I21:L21) -> 0.75 | N21: Sanitasi Kebun, pemupukan berimbang, menanam | O21: Produksi Menurun
N22: tanaman penutup tanah, membuat parit, isolasi
E23: (jamur phytopthora | N23: dan penyiraman/penyemprotan larutan fungisida.
E24: palmivora var piperis)
E25: Penyakit Kuning | F25: 0.85 | G25: 0 | H25: =SUM(F25:G25) -> 0.85 | I25: 0 | J25: 0 | K25: 0 | L25: 0.85 | M25: =SUM(I25:L25) -> 0.85 | N25: Sanitasi kebun, pemupukan berimbang sesuai | O25: Produksi Menurun
E26: (cacing halus nematoda) | N26: dosis anjuran, pemangkasan pemeliharaan dan
E27: Radhophalus similis | N27: penaburan nematisida serta pemyemprotan dengan
N28: Pesnab
B30: Jumlah | C30: - | F30: =SUM(F9:F25) -> 3.6 | G30: =SUM(G9:G25) -> 0 | H30: =SUM(H9:H25) -> 3.6 | I30: =SUM(I9:I25) -> 0 | J30: =SUM(J9:J25) -> 0 | K30: =SUM(K9:K25) -> 0 | L30: =SUM(L9:L25) -> 3.6 | M30: =SUM(M9:M25) -> 3.6 | O30: 0
A32: 2 | B32: Kelapa | C32: 834 | D32: Ha | E32: Arthona | F32: 0.5 | G32: 1 | H32: =SUM(F32:G32) -> 1.5 | I32: 0 | J32: 0 | K32: 0 | L32: 1.5 | M32: =SUM(I32:L32) -> 1.5 | N32: Batang dibor lalu diberikan insektisida cair 10 ml/ | O32: Produksi Menurun
N33: lubang.
B35: - | C35: - | E35: - | F35: =SUM(F32:F33) -> 0.5 | G35: =SUM(G32:G33) -> 1 | H35: =SUM(H32:H33) -> 1.5 | I35: =SUM(I32:I33) -> 0 | J35: =SUM(J32:J33) -> 0 | K35: =SUM(K32:K33) -> 0 | L35: =SUM(L32:L33) -> 1.5 | M35: =SUM(M32:M33) -> 1.5 | O35: 0
A37: 3 | B37: Kelapa Sawit | C37: - | E37: - | F37: - | G37: - | H37: - | I37: 0 | J37: 0 | K37: 0 | L37: - | M37: - | N37: - | O37: -
B39: Jumlah | C39: - | E39: - | F39: =SUM(F37:F38) -> 0 | G39: =SUM(G37:G37) -> 0 | H39: =SUM(H37:H37) -> 0 | I39: 0 | J39: 0 | K39: 0 | L39: =SUM(L37:L37) -> 0 | M39: =SUM(M37:M37) -> 0
A41: 4 | B41: Kakao | C41: - | E41: - | F41: - | G41: - | H41: - | I41: 0 | J41: 0 | K41: 0 | L41: - | M41: - | N41: - | O41: -
B43: Jumlah | C43: - | E43: - | F43: =SUM(F41:F42) -> 0 | G43: =SUM(G41:G41) -> 0 | H43: =SUM(H41:H41) -> 0 | I43: 0 | J43: 0 | K43: 0 | L43: =SUM(L41:L41) -> 0 | M43: =SUM(M41:M41) -> 0 | O43: 0
A49: No | B49: Jenis Komoditi / | C49: Luas Komoditi | E49: Jenis OPT | F49: Luas Serangan (Ha) | I49: Luas Pengendalian (Ha) | M49: Jumlah | N49: Cara Pengendalian | O49: Kerugian
B50: Kab, Kec, Desa | C50: ( Ha ) | F50: Ringan | G50: Berat | H50: Jumlah | I50: APBN | J50: APBD I | K50: APBD II | L50: Masyarakat | M50: ( Ha) | O50: Hasil (Rp)
A51: 1 | B51: 2 | C51: 3 | E51: 4 | F51: 5 | G51: 7 | H51: 8 | I51: 9 | J51: 10 | K51: 11 | L51: 12 | M51: 13 | N51: 14 | O51: 15
A52: 5 | B52: Karet | C52: 4458 | D52: Ha | E52: Jamur akar putih (rigidoporous lignosus) | F52: 6.1 | G52: 0.4 | H52: =SUM(F52:G52) -> 6.5 | I52: 0 | J52: 0 | K52: 0 | L52: 5 | M52: =SUM(I52:L52) -> 5 | N52: Menggali permukaan tanah di sekitar daerah pangkal batang dan perakaran yang terserang kemudian disiram dengan larutan fungisida, kemudian ditutup kembali dengan tanah | O52: produksi menurun
E53: Kering Alur Sadap (KAS) | F53: 2 | G53: 0 | H53: =SUM(F53:G53) -> 2 | I53: 0 | J53: 0 | K53: 0 | L53: 2 | M53: =SUM(I53:L53) -> 2 | N53: Pembersihan bidang sadap dari jamur dan diolesan fungisida dan pemberian pupuk NPK. | O53: produksi menurun
E54: Gulma | F54: 2 | G54: 0 | H54: =SUM(F54:G54) -> 2 | I54: 0 | J54: 0 | K54: 0 | L54: 2 | M54: =SUM(I54:L54) -> 2 | N54: Penyemprotan herbisida dan perintisan | O54: produksi menurun
B59: Jumlah | C59: =C52+#REF! -> #REF! | F59: =SUM(F52:F53) -> 8.1 | G59: =SUM(G52:G53) -> 0.4 | H59: =F59+G59 -> 8.5 | I59: =SUM(I52:I53) -> 0 | J59: =SUM(J52:J53) -> 0 | K59: =SUM(K52:K53) -> 0 | L59: =SUM(L52:L53) -> 7 | M59: =I59+J59+K59+L59 -> 7
N61: Samarinda, Desember 2017
A62: Mengetahui,
A63: Kepala UPTD - P2TP | M63: Pengolah Data OPT
A67: Ir. Supriyadi, M.Si | M67: Tri Susilowati, SP
A68: NIP. 196011081988031008 | M68: NIP.197530112008012018
M69: NIP. 19630425 199103 1 004
A92: PERKEMBANGAN SERANGAN HAMA DAN PENYAKIT TANAMAN PERKEBUNAN
A93: DI KABUPATEN PASER TRIWULAN IV
A95: No | B95: Jenis Komoditi / | C95: Luas Komoditi | E95: Jenis OPT | F95: Luas Serangan (Ha) | I95: Luas Pengendalian (Ha) | M95: Jumlah | N95: Cara Pengendalian | O95: Kerugian
B96: Kab, Kec, Desa | C96: ( Ha ) | F96: Ringan | G96: Berat | H96: Jumlah | I96: APBN | J96: APBD I | K96: APBD II | L96: Masyarakat | M96: ( Ha) | O96: Hasil (Rp)
A97: 1 | B97: 2 | C97: 3 | E97: 4 | F97: 5 | G97: 7 | H97: 8 | I97: 9 | J97: 10 | K97: 11 | L97: 12 | M97: 13 | N97: 14 | O97: 15
A99: 1 | B99: Lada | C99: 6018 | D99: Ha | E99: Penghisap Buah | F99: 1.5 | G99: 0 | H99: =SUM(F99:G99) -> 1.5 | I99: 0 | J99: 0 | K99: 0 | L99: 2 | M99: =SUM(I99:L99) -> 2 | N99: Mekanis/Teknis | O99: 782388.5
B101: Jumlah | C101: 0 | F101: =SUM(F99:F99) -> 1.5 | G101: =SUM(G99:G99) -> 0 | H101: =SUM(H99:H99) -> 1.5 | I101: =SUM(I99:I99) -> 0 | J101: =SUM(J99:J99) -> 0 | K101: =SUM(K99:K99) -> 0 | L101: =SUM(L99:L99) -> 2 | M101: =SUM(M99:M99) -> 2 | ... O101: =SUM(O99:O99) -> 782388.5
A103: 2 | B103: Kelapa | C103: 727 | D103: Ha | E103: Sexapa sp, | F103: 0.75 | G103: 0 | H103: =SUM(F103:G103) -> 0.75 | I103: 0 | J103: 0 | K103: 0 | L103: 1.5 | M103: =SUM(I103:L103) -> 1.5 | N103: Teknis/Mekanis | O103: 162936
E104: Orytes rhinoceros | F104: 1 | G104: 0 | H104: =SUM(F104:G104) -> 1 | I104: 0 | J104: 0 | K104: 0 | L104: 2 | M104: =SUM(I104:L104) -> 2 | N104: Teknis/Mekanis | O104: 141211.2
B106: - | C106: =C103 -> 727 | D106: Ha | F106: =SUM(F103:F104) -> 1.75 | G106: =SUM(G103:G104) -> 0 | H106: =SUM(H103:H104) -> 1.75 | I106: =SUM(I103:I104) -> 0 | J106: =SUM(J103:J104) -> 0 | K106: =SUM(K103:K104) -> 0 | L106: =SUM(L103:L104) -> 3.5 | M106: =SUM(M103:M104) -> 3.5 | O106: =SUM(O103) -> 162936
A108: 3 | B108: Kelapa Sawit | C108: 36819 | D108: Ha | E108: Ganoderma, sp | F108: 4 | G108: 1 | H108: =SUM(F108:G108) -> 5 | I108: 0 | J108: 0 | K108: 0 | L108: 9 | M108: =SUM(I108:L108) -> 9 | N108: Mekanis/Tricoderma, sp | O108: 3737989.9
B111: Jumlah | C111: =SUM(C108:C109) -> 36819 | D111: Ha | F111: =SUM(F108:F109) -> 4 | G111: =SUM(G108:G109) -> 1 | H111: =SUM(H108:H109) -> 5 | I111: =SUM(I108:I109) -> 0 | J111: =SUM(J108:J109) -> 0 | K111: =SUM(K108:K109) -> 0 | L111: =SUM(L108:L109) -> 9 | M111: =SUM(M108:M109) -> 9 | ... O111: =SUM(O108:O109) -> 3737989.9
A113: 4 | B113: Karet | C113: 0 | F113: 0 | G113: 0 | H113: 0 | I113: 0 | J113: 0 | K113: 0 | L113: 0 | M113: 0 | N113: 0 | O113: 0
B115: Jumlah | C115: =SUM(C113:C113) -> 0 | D115: Ha | F115: =SUM(F113:F113) -> 0 | G115: =SUM(G113:G113) -> 0 | H115: =SUM(H113:H113) -> 0 | I115: =SUM(I113:I113) -> 0 | J115: =SUM(J113:J113) -> 0 | K115: =SUM(K113:K113) -> 0 | L115: =SUM(L113:L113) -> 0 | M115: =SUM(M113:M113) -> 0 | ... O115: =SUM(O113:O113) -> 0
A117: 5 | B117: Kakao | C117: 797 | E117: PBK | F117: 1 | G117: 0.5 | H117: =SUM(F117:G117) -> 1.5 | I117: 0 | J117: 0 | K117: 0 | L117: 1 | M117: =SUM(I117:L117) -> 1 | N117: Teknis/Mekanis | O117: 310140
B119: Jumlah | C119: =C117 -> 797 | D119: Ha | F119: =SUM(F117:F118) -> 1 | G119: =SUM(G117:G117) -> 0.5 | H119: =SUM(H117:H117) -> 1.5 | I119: 0 | J119: 0 | K119: 0 | L119: =SUM(L117:L117) -> 1 | M119: =SUM(M117:M117) -> 1 | O119: 0
N121: Samarinda, Desember 2017
A122: Mengetahui,
A123: Kepala UPTD - P2TP | M123: Pengolah Data OPT
A127: Ir. Supriyadi, M.Si | M127: Tri Susilowati, SP
A128: NIP. 196011081988031008 | M128: NIP.197530112008012018
M129: NIP. 19630425 199103 1 004
A130: PERKEMBANGAN SERANGAN HAMA DAN PENYAKIT TANAMAN PERKEBUNAN
A131: DI KABUPATEN KUTAI TIMUR TRIWULAN IV
A133: No | B133: Jenis Komoditi / | C133: Luas Komoditi | E133: Jenis OPT | F133: Luas Serangan (Ha) | I133: Luas Pengendalian (Ha) | M133: Jumlah | N133: Cara Pengendalian | O133: Kerugian
B134: Kab, Kec, Desa | C134: ( Ha ) | F134: Ringan | G134: Berat | H134: Jumlah | I134: APBN | J134: APBD I | K134: APBD II | L134: Masyarakat | M134: ( Ha) | O134: Hasil (Rp)
A135: 1 | B135: 2 | C135: 3 | E135: 4 | F135: 5 | G135: 7 | H135: 8 | I135: 9 | J135: 10 | K135: 11 | L135: 12 | M135: 13 | N135: 14 | O135: 15
A137: 1 | B137: Lada | C137: 257 | D137: Ha | E137: Busuk Pangkal Batang | F137: 22.2 | G137: 0 | H137: =F137+G137 -> 22.2 | I137: 0 | J137: 0 | K137: 0 | L137: 22.2 | M137: =L137 -> 22.2 | N137: Kultur Teknis dan Kimia | O137: 0
B140: Jumlah | C140: =C137 -> 257 | D140: Ha | F140: - | G140: - | H140: - | I140: - | J140: - | K140: =SUM(K137:K137) -> 0 | L140: - | M140: =SUM(M137:M137) -> 22.2 | O140: =SUM(O137:O139) -> 0
A142: 2 | B142: Kelapa | E142: - | F142: - | G142: - | H142: - | I142: 0 | J142: 0 | K142: 0 | L142: - | M142: - | N142: - | O142: -
B144: - | C144: - | E144: - | F144: =SUM(F142:F143) -> 0 | G144: =SUM(G142:G142) -> 0 | H144: =SUM(H142:H142) -> 0 | I144: 0 | J144: 0 | K144: 0 | L144: =SUM(L142:L142) -> 0 | M144: =SUM(M142:M142) -> 0 | O144: 0
A146: 3 | B146: Kelapa Sawit | C146: 3210.7 | D146: Ha | E146: Tikus | F146: 5.85 | G146: 0 | H146: =F146+G146 -> 5.85 | I146: 0 | J146: 0 | K146: 0 | L146: 2.15 | M146: =I146+J146+K146+L146 -> 2.15 | N146: Menggunakan potongan rambut | O146: -
E147: Landak | F147: 0.85 | G147: 0 | H147: =F147+G147 -> 0.85 | I147: 0 | J147: 0 | K147: 0 | M147: =I147+J147+K147+L147 -> 0 | N147: Menggunakan potongan rambut
E148: Busuk Pangkal Pupus | F148: 10.8 | G148: 0 | H148: =F148+G148 -> 10.8 | I148: 0 | J148: 0 | K148: 0 | L148: 3 | M148: =I148+J148+K148+L148 -> 3 | N148: Pemberian garam dapur, fungisida
E149: Ganoderma | F149: 4.2 | G149: 0 | H149: =F149+G149 -> 4.2 | I149: 0 | J149: 0 | K149: 0 | L149: 0 | M149: =I149+J149+K149+L149 -> 0 | N149: Pemberian garam dapur, fungisida
E150: Orang hutan | F150: 1.5 | G150: 0 | H150: =F150+G150 -> 1.5 | I150: 0 | J150: 0 | K150: 0 | L150: 0.5 | M150: =I150+J150+K150+L150 -> 0.5 | N150: Jebakan
C151: 232 | D151: Ha | E151: Ulat Kantong | F151: 1 | G151: 0 | H151: =F151+G151 -> 1 | I151: 0 | J151: 0 | K151: 0 | L151: 1 | M151: =I151+J151+K151+L151 -> 1 | N151: Menggunakan Teknis Budidaya, Kimia
B153: Jumlah | C153: - | F153: =SUM(F146:F146) -> 5.85 | G153: =SUM(G146:G146) -> 0 | H153: =SUM(H146:H146) -> 5.85 | I153: =SUM(I146:I146) -> 0 | J153: =SUM(J146:J146) -> 0 | K153: =SUM(K146:K146) -> 0 | L153: =SUM(L146:L146) -> 2.15 | M153: =SUM(M146:M146) -> 2.15 | O153: =SUM(O146:O146) -> 0
A155: 4 | B155: Kakao | C155: 89 | D155: Ha | E155: PBK | F155: 28.45 | G155: 8.04 | H155: =F155+G155 -> 36.49 | I155: 0 | J155: 0 | K155: 0 | L155: 16.9 | M155: =SUM(I155:L155) -> 16.9 | N155: Kultur Teknis Biologis, Kimia | O155: -
E156: Helopeltis | F156: 19.3 | G156: 2.75 | H156: =F156+G156 -> 22.05 | L156: 6.7 | M156: =SUM(I156:L156) -> 6.7 | N156: Kultur Teknis
E157: Busuk Buah | F157: 14.8 | G157: 2.2 | H157: =F157+G157 -> 17 | L157: 3.9 | M157: =SUM(I157:L157) -> 3.9 | N157: Kultur Teknis
E158: Tupai | F158: 0.9 | G158: 0 | H158: =F158+G158 -> 0.9 | L158: 0.8 | M158: =SUM(I158:L158) -> 0.8 | N158: Mekanis
E159: Penggerek Batang | F159: 6.6 | G159: 0 | H159: =F159+G159 -> 6.6 | L159: 3.4 | M159: =SUM(I159:L159) -> 3.4 | N159: Biologis
B161: Jumlah | C161: =C155 -> 89 | D161: Ha | E161: - | F161: =SUM(F155:F159) -> 70.05 | G161: =SUM(G155:G159) -> 12.99 | H161: =SUM(H155:H159) -> 83.04 | I161: 0 | J161: 0 | K161: 0 | L161: =SUM(L155:L159) -> 31.7 | M161: =SUM(M155:M155) -> 16.9 | O161: 0
A163: 5 | B163: Karet | C163: 2272.1 | D163: Ha | E163: JAP | F163: 32.8 | G163: 0 | H163: =F163+G163 -> 32.8 | I163: 0 | J163: 0 | K163: 0 | L163: 18.1 | M163: =SUM(I163:L163) -> 18.1 | N163: Belum dikendalikan | O163: -
E164: KAS | F164: 3 | G164: 0 | H164: =F164+G164 -> 3 | I164: 0 | J164: 0 | K164: 0 | L164: 0 | M164: =SUM(I164:L164) -> 0
E165: Rayap | F165: 24.8 | G165: 0 | H165: =F165+G165 -> 24.8 | I165: 0 | J165: 0 | K165: 0 | L165: 24.8 | M165: =SUM(I165:L165) -> 24.8
B167: Jumlah | C167: =SUM(C163:C163) -> 2272.1 | D167: Ha | F167: =SUM(F163:F166) -> 60.6 | G167: =SUM(G163:G166) -> 0 | H167: =SUM(H163:H166) -> 60.6 | I167: =SUM(I163:I163) -> 0 | J167: =SUM(J163:J163) -> 0 | K167: =SUM(K163:K163) -> 0 | L167: =SUM(L163:L163) -> 18.1 | M167: =SUM(M163:M163) -> 18.1 | O167: =SUM(O163:O166) -> 0
N169: Samarinda, Desember 2017
A170: Mengetahui,
A171: Kepala UPTD - P2TP | M171: Pengolah Data OPT
A175: Ir. Supriyadi, M.Si | M175: Tri Susilowati, SP
A176: NIP. 196011081988031008 | M176: NIP.197530112008012018
M177: NIP. 19630425 199103 1 004
...
