Workbook

Sheet Kendali Global
A1: PEMERINTAH PROVINSI KALIMANTAN TIMUR
A2: LAPORAN REALISASI ANGGARAN PER BIDANG
A3: ='Kendali Rekening'!A3:R3 -> PER 18 SEPTEMBER 2023
A7: KODE REKENING | B7: URAIAN | C7: ANGGARAN | F7: REALISASI | L7: % | O7: SISA PAGU
C8: MURNI | D8: FCPF | E8: TOTAL | F8: BULAN INI | I8: MURNI | J8: FCPF | K8: TOTAL | L8: MURNI | M8: FCPF | N8: TOTAL
A9: 3-27.0-00.0-00.01 | B9: DINAS PERKEBUNAN | C9: ='Kendali Rekening'!C13 -> 59052360330 | D9: ='Kendali Rekening'!D13 -> 5212500000 | E9: ='Kendali Rekening'!E13 -> 64264860330 | I9: ='Kendali Rekening'!L13 -> 34406644491 | J9: ='Kendali Rekening'!M13 -> 1834716681 | K9: ='Kendali Rekening'!N13 -> 36241361172 | L9: ='Kendali Rekening'!O13 -> 58.264639 | M9: ='Kendali Rekening'!P13 -> 35.198402 | N9: ='Kendali Rekening'!Q13 -> 56.393745 | O9: ='Kendali Rekening'!R13 -> 28023499158
A10: 5.1.01 | B10: Belanja Pegawai | C10: ='Kendali Rekening'!C14 -> 15998989760 | D10: ='Kendali Rekening'!D14 -> 0 | E10: ='Kendali Rekening'!E14 -> 15998989760 | I10: ='Kendali Rekening'!L14 -> 10568560686 | J10: ='Kendali Rekening'!M14 -> 0 | K10: ='Kendali Rekening'!N14 -> 10568560686 | L10: ='Kendali Rekening'!O14 -> 66.057675 | M10: ='Kendali Rekening'!P14 -> 0 | N10: ='Kendali Rekening'!Q14 -> 66.057675 | O10: ='Kendali Rekening'!R14 -> 5430429074
A11: 5.1 | B11: Belanja Operasi Dinas dan UPTD | C11: ='Kendali Rekening'!C34 -> 43053370570 | D11: ='Kendali Rekening'!D34 -> 5212500000 | E11: ='Kendali Rekening'!E34 -> 48265870570 | I11: ='Kendali Rekening'!L34 -> 23838083805 | J11: ='Kendali Rekening'!M34 -> 1834716681 | K11: ='Kendali Rekening'!N34 -> 25672800486 | L11: ='Kendali Rekening'!O34 -> 55.368682 | M11: ='Kendali Rekening'!P34 -> 35.198402 | N11: ='Kendali Rekening'!Q34 -> 53.190381 | O11: ='Kendali Rekening'!R34 -> 22593070084
B12: SEKRETARIAT | C12: ='Kendali Rekening'!C36 -> 10117886800 | D12: ='Kendali Rekening'!D36 -> 1017688300 | E12: ='Kendali Rekening'!E36 -> 11135575100 | I12: ='Kendali Rekening'!L36 -> 6681187044 | J12: ='Kendali Rekening'!M36 -> 189733603 | K12: ='Kendali Rekening'!N36 -> 6870920647 | L12: ='Kendali Rekening'!O36 -> 66.033424 | M12: ='Kendali Rekening'!P36 -> 18.643587 | N12: ='Kendali Rekening'!Q36 -> 61.702432 | O12: ='Kendali Rekening'!R36 -> 4264654453
B13: SUB BAGIAN UMUM DAN KEPEGAWAIAN | C13: ='Kendali Rekening'!C37 -> 8890643500 | D13: ='Kendali Rekening'!D37 -> 726500000 | E13: ='Kendali Rekening'!E37 -> 9617143500 | I13: ='Kendali Rekening'!L37 -> 5810015586 | J13: ='Kendali Rekening'!M37 -> 150000000 | K13: ='Kendali Rekening'!N37 -> 5960015586 | L13: ='Kendali Rekening'!O37 -> 65.349776 | M13: ='Kendali Rekening'!P37 -> 20.646937 | N13: ='Kendali Rekening'!Q37 -> 61.972826 | O13: ='Kendali Rekening'!R37 -> 3657127914
B14: SUB BAGIAN PERENCANAAN PROGRAM | C14: ='Kendali Rekening'!C117 -> 1227243300 | D14: ='Kendali Rekening'!D117 -> 291188300 | E14: ='Kendali Rekening'!E117 -> 1518431600 | I14: ='Kendali Rekening'!L117 -> 871171458 | J14: ='Kendali Rekening'!M117 -> 39733603 | K14: ='Kendali Rekening'!N117 -> 910905061 | L14: ='Kendali Rekening'!O117 -> 70.986043 | M14: ='Kendali Rekening'!P117 -> 13.645329 | N14: ='Kendali Rekening'!Q117 -> 59.989865 | O14: ='Kendali Rekening'!R117 -> 607526539
B15: BIDANG PENGEMBANGAN KOMODITI | C15: ='Kendali Rekening'!C135 -> 17858883600 | D15: ='Kendali Rekening'!D135 -> 368452300 | E15: ='Kendali Rekening'!E135 -> 18227335900 | I15: ='Kendali Rekening'!L135 -> 6057995800 | J15: ='Kendali Rekening'!M135 -> 338248300 | K15: ='Kendali Rekening'!N135 -> 6396244100 | L15: ='Kendali Rekening'!O135 -> 33.92147 | M15: ='Kendali Rekening'!P135 -> 91.802467 | N15: ='Kendali Rekening'!Q135 -> 35.091492 | O15: ='Kendali Rekening'!R135 -> 11831091800
B16: BIDANG PERKEBUNAN BERKELANJUTAN | C16: ='Kendali Rekening'!C188 -> 2214236700 | D16: ='Kendali Rekening'!D188 -> 2357469900 | E16: ='Kendali Rekening'!E188 -> 4571706600 | I16: ='Kendali Rekening'!L188 -> 1582031423 | J16: ='Kendali Rekening'!M188 -> 1030218856 | K16: ='Kendali Rekening'!N188 -> 2612250279 | L16: ='Kendali Rekening'!O188 -> 71.448162 | M16: ='Kendali Rekening'!P188 -> 43.700191 | N16: ='Kendali Rekening'!Q188 -> 57.1395 | O16: ='Kendali Rekening'!R188 -> 1959456321
B17: BIDANG USAHA | C17: ='Kendali Rekening'!C225 -> 1307717500 | D17: ='Kendali Rekening'!D225 -> 450000000 | E17: ='Kendali Rekening'!E225 -> 1757717500 | I17: ='Kendali Rekening'!L225 -> 1146317875 | J17: ='Kendali Rekening'!M225 -> 206412600 | K17: ='Kendali Rekening'!N225 -> 1352730475 | L17: ='Kendali Rekening'!O225 -> 87.657914 | M17: ='Kendali Rekening'!P225 -> 45.869467 | N17: ='Kendali Rekening'!Q225 -> 76.959493 | O17: ='Kendali Rekening'!R225 -> 404987025
B18: BIDANG PENGOLAHAN DAN PEMASARAN | C18: ='Kendali Rekening'!C245 -> 1453000400 | D18: ='Kendali Rekening'!D245 -> 497899300 | E18: ='Kendali Rekening'!E245 -> 1950899700 | I18: ='Kendali Rekening'!L245 -> 1109146301 | J18: ='Kendali Rekening'!M245 -> 33353322 | K18: ='Kendali Rekening'!N245 -> 1142499623 | L18: ='Kendali Rekening'!O245 -> 76.334893 | M18: ='Kendali Rekening'!P245 -> 6.6988088 | N18: ='Kendali Rekening'!Q245 -> 58.562704 | O18: ='Kendali Rekening'!R245 -> 808400077
B19: UPTD PBP (PENGAWASAN BENIH PERKEBUNAN) | C19: ='Kendali Rekening'!C287 -> 2813119190 | D19: ='Kendali Rekening'!D287 -> 0 | E19: ='Kendali Rekening'!E287 -> 2813119190 | I19: ='Kendali Rekening'!L287 -> 2056650749 | J19: ='Kendali Rekening'!M287 -> 0 | K19: ='Kendali Rekening'!N287 -> 2056650749 | L19: ='Kendali Rekening'!O287 -> 73.109264 | M19: ='Kendali Rekening'!P287 -> 0 | N19: ='Kendali Rekening'!Q287 -> 73.109264 | O19: ='Kendali Rekening'!R287 -> 756468441
B20: UPTD P2TP (PENGEMBANGAN PERLINDUNGAN TANAMAN PERKEBUNAN) | C20: ='Kendali Rekening'!C369 -> 2833515880 | D20: ='Kendali Rekening'!D369 -> 520990200 | E20: ='Kendali Rekening'!E369 -> 3354506080 | I20: ='Kendali Rekening'!L369 -> 1756421248 | J20: ='Kendali Rekening'!M369 -> 36750000 | K20: ='Kendali Rekening'!N369 -> 1793171248 | L20: ='Kendali Rekening'!O369 -> 61.987344 | M20: ='Kendali Rekening'!P369 -> 7.0538755 | N20: ='Kendali Rekening'!Q369 -> 53.455597 | O20: ='Kendali Rekening'!R369 -> 1561334832
B21: UPTD PBTP (PRODUSEN BENIH TANAMAN PERKEBUNAN) | C21: ='Kendali Rekening'!C455 -> 4455010500 | D21: ='Kendali Rekening'!D455 -> 0 | E21: ='Kendali Rekening'!E455 -> 4455010500 | I21: ='Kendali Rekening'!L455 -> 3448333365 | J21: ='Kendali Rekening'!M455 -> 0 | K21: ='Kendali Rekening'!N455 -> 3448333365 | L21: ='Kendali Rekening'!O455 -> 77.403485 | M21: ='Kendali Rekening'!P455 -> 0 | N21: ='Kendali Rekening'!Q455 -> 77.403485 | O21: ='Kendali Rekening'!R455 -> 1006677135

Sheet Kendali Rekening
A1: PEMERINTAH PROVINSI KALIMANTAN TIMUR
A2: LAPORAN REALISASI ANGGARAN PER BIDANG
A3: PER 18 SEPTEMBER 2023
A6: Urusan Pemerintahan | B6: : Urusan Pilihan
A7: Bidang Pemerintahan | B7: : Pertanian
A8: Unit Organisasi | B8: : Dinas Perkebunan
A10: KODE REKENING | B10: URAIAN | C10: ANGGARAN | F10: REALISASI | O10: % | R10: SISA PAGU
C11: MURNI | D11: FCPF | E11: TOTAL | F11: BULAN LALU | I11: BULAN INI | L11: JUMLAH
F12: MURNI | G12: FCPF | H12: TOTAL | I12: MURNI | J12: FCPF | K12: TOTAL | L12: MURNI | M12: FCPF | N12: TOTAL | O12: MURNI | P12: FCPF | Q12: TOTAL
A13: 3-27.0-00.0-00.01 | B13: DINAS PERKEBUNAN | C13: =C14+C34 -> 59052360330 | D13: =D14+D34 -> 5212500000 | E13: =E14+E34 -> 64264860330 | F13: =F14+F34 -> 31764625059 | G13: =G14+G34 -> 1549468153 | H13: =H14+H34 -> 33314093212 | I13: =I14+I34 -> 2642019432 | J13: =J14+J34 -> 285248528 | ... N13: =N14+N34 -> 36241361172 | O13: =L13/C13*100 -> 58.264639 | P13: =M13/D13*100 -> 35.198402 | Q13: =N13/E13*100 -> 56.393745 | R13: =E13-N13 -> 28023499158
A14: 5.1.01 | B14: Belanja Pegawai | C14: =C17+C31 -> 15998989760 | D14: =D17+D31 -> 0 | E14: =E17+E31 -> 15998989760 | F14: =F17+F31 -> 9475449106 | G14: =G17+G31 -> 0 | H14: =H17+H31 -> 9475449106 | I14: =I17+I31 -> 1093111580 | J14: =J17+J31 -> 0 | ... N14: =N17+N31 -> 10568560686 | O14: =L14/C14*100 -> 66.057675 | P14: 0 | Q14: =N14/E14*100 -> 66.057675 | R14: =E14-N14 -> 5430429074
A15: Program (3.27.01) | B15: PROGRAM PENUNJANG URUSAN PEMERINTAHAN DAERAH PROVINSI | C15: =C16 -> 15998989760 | D15: =D16 -> 0 | E15: =E16 -> 15998989760 | F15: =F16 -> 9475449106 | G15: =G16 -> 0 | H15: =H16 -> 9475449106 | I15: =I16 -> 1093111580 | J15: =J16 -> 0 | ... N15: =N16 -> 10568560686 | O15: =L15/C15*100 -> 66.057675 | P15: 0 | Q15: =N15/E15*100 -> 66.057675 | R15: =E15-N15 -> 5430429074
A16: Kegiatan (3.27.01.1.02) | B16: Administrasi Keuangan Perangkat Daerah | C16: =C17+C31 -> 15998989760 | D16: =D17+D31 -> 0 | E16: =E17+E31 -> 15998989760 | F16: =F17+F31 -> 9475449106 | G16: =G17+G31 -> 0 | H16: =H17+H31 -> 9475449106 | I16: =I17+I31 -> 1093111580 | J16: =J17+J31 -> 0 | ... N16: =N17+N31 -> 10568560686 | O16: =L16/C16*100 -> 66.057675 | P16: 0 | Q16: =N16/E16*100 -> 66.057675 | R16: =E16-N16 -> 5430429074
A17: 3.27.01.1.02.01 | B17: Penyediaan Gaji dan Tunjangan ASN | C17: =SUM(C18:C30) -> 15567349760 | D17: =SUM(D18:D30) -> 0 | E17: =SUM(E18:E30) -> 15567349760 | F17: =SUM(F18:F30) -> 9214919106 | G17: =SUM(G18:G30) -> 0 | H17: =SUM(H18:H30) -> 9214919106 | I17: =SUM(I18:I30) -> 1093111580 | J17: =SUM(J18:J30) -> 0 | ... N17: =SUM(N18:N30) -> 10308030686 | O17: =L17/C17*100 -> 66.215707 | P17: 0 | Q17: =N17/E17*100 -> 66.215707 | R17: =E17-N17 -> 5259319074
A18: 5.1.01.01.01.0001 | B18: Belanja Gaji Pokok PNS | C18: 4400893000 | D18: 0 | E18: =C18+D18 -> 4400893000 | F18: 2884252717 | G18: 0 | H18: =F18+G18 -> 2884252717 | I18: 289729000 | J18: 0 | K18: =I18+J18 -> 289729000 | L18: =F18+I18 -> 3173981717 | M18: =G18+J18 -> 0 | N18: =L18+M18 -> 3173981717 | O18: =L18/C18*100 -> 72.121311 | P18: 0 | Q18: =N18/E18*100 -> 72.121311 | R18: =E18-N18 -> 1226911283
A19: 5.1.01.01.02.0001 | B19: Belanja Tunjangan Keluarga PNS | C19: 394935002 | D19: 0 | E19: =C19+D19 -> 394935002 | F19: 267310368 | G19: 0 | H19: =F19+G19 -> 267310368 | I19: 26658842 | J19: 0 | K19: =I19+J19 -> 26658842 | L19: =F19+I19 -> 293969210 | M19: =G19+J19 -> 0 | N19: =L19+M19 -> 293969210 | O19: =L19/C19*100 -> 74.434833 | P19: 0 | Q19: =N19/E19*100 -> 74.434833 | R19: =E19-N19 -> 100965792
A20: 5.1.01.01.03.0001 | B20: Belanja Tunjangan Jabatan PNS | C20: 349710004 | D20: 0 | E20: =C20+D20 -> 349710004 | F20: 229980000 | G20: 0 | H20: =F20+G20 -> 229980000 | I20: 24370000 | J20: 0 | K20: =I20+J20 -> 24370000 | L20: =F20+I20 -> 254350000 | M20: =G20+J20 -> 0 | N20: =L20+M20 -> 254350000 | O20: =L20/C20*100 -> 72.731691 | P20: 0 | Q20: =N20/E20*100 -> 72.731691 | R20: =E20-N20 -> 95360004
A21: 5.1.01.01.04.0001 | B21: Belanja Tunjangan Fungsional PNS | C21: 58800000 | D21: 0 | E21: =C21+D21 -> 58800000 | F21: 38520000 | G21: 0 | H21: =F21+G21 -> 38520000 | I21: 4270000 | J21: 0 | K21: =I21+J21 -> 4270000 | L21: =F21+I21 -> 42790000 | M21: =G21+J21 -> 0 | N21: =L21+M21 -> 42790000 | O21: =L21/C21*100 -> 72.772109 | P21: 0 | Q21: =N21/E21*100 -> 72.772109 | R21: =E21-N21 -> 16010000
A22: 5.1.01.01.05.0001 | B22: Belanja Tunjangan Fungsional Umum PNS | C22: 121330006 | D22: 0 | E22: =C22+D22 -> 121330006 | F22: 69840000 | G22: 0 | H22: =F22+G22 -> 69840000 | I22: 6995000 | J22: 0 | K22: =I22+J22 -> 6995000 | L22: =F22+I22 -> 76835000 | M22: =G22+J22 -> 0 | N22: =L22+M22 -> 76835000 | O22: =L22/C22*100 -> 63.327286 | P22: 0 | Q22: =N22/E22*100 -> 63.327286 | R22: =E22-N22 -> 44495006
A23: 5.1.01.01.06.0001 | B23: Belanja Tunjangan Beras PNS | C23: 234866002 | D23: 0 | E23: =C23+D23 -> 234866002 | F23: 155920260 | G23: 0 | H23: =F23+G23 -> 155920260 | I23: 15715140 | J23: 0 | K23: =I23+J23 -> 15715140 | L23: =F23+I23 -> 171635400 | M23: =G23+J23 -> 0 | N23: =L23+M23 -> 171635400 | O23: =L23/C23*100 -> 73.07801 | P23: 0 | Q23: =N23/E23*100 -> 73.07801 | R23: =E23-N23 -> 63230602
A24: 5.1.01.01.07.0001 | B24: Belanja Tunjangan PPh/Tunjangan Khusus PNS | C24: 20146908 | D24: 0 | E24: =C24+D24 -> 20146908 | F24: 14375878 | G24: 0 | H24: =F24+G24 -> 14375878 | I24: 490036 | J24: 0 | K24: =I24+J24 -> 490036 | L24: =F24+I24 -> 14865914 | M24: =G24+J24 -> 0 | N24: =L24+M24 -> 14865914 | O24: =L24/C24*100 -> 73.787571 | P24: 0 | Q24: =N24/E24*100 -> 73.787571 | R24: =E24-N24 -> 5280994
A25: 5.1.01.01.08.0001 | B25: Belanja Pembulatan Gaji PNS | C25: 311110 | D25: 0 | E25: =C25+D25 -> 311110 | F25: 41456 | G25: 0 | H25: =F25+G25 -> 41456 | I25: 3575 | J25: 0 | K25: =I25+J25 -> 3575 | L25: =F25+I25 -> 45031 | M25: =G25+J25 -> 0 | N25: =L25+M25 -> 45031 | O25: =L25/C25*100 -> 14.474302 | P25: 0 | Q25: =N25/E25*100 -> 14.474302 | R25: =E25-N25 -> 266079
A26: 5.1.01.01.09.0001 | B26: Belanja Iuran Jaminan Kesehatan PNS | C26: 394560000 | D26: 0 | E26: =C26+D26 -> 394560000 | F26: 241665525 | G26: 0 | H26: =F26+G26 -> 241665525 | I26: =14080916+19167672 -> 33248588 | J26: 0 | K26: =I26+J26 -> 33248588 | L26: =F26+I26 -> 274914113 | M26: =G26+J26 -> 0 | N26: =L26+M26 -> 274914113 | O26: =L26/C26*100 -> 69.676124 | P26: 0 | Q26: =N26/E26*100 -> 69.676124 | R26: =E26-N26 -> 119645887
A27: 5.1.01.01.10.0001 | B27: Belanja Iuran Jaminan Kecelakaan Kerja PNS | C27: 8874432 | D27: 0 | E27: =C27+D27 -> 8874432 | F27: 5479475 | G27: 0 | H27: =F27+G27 -> 5479475 | I27: 695350 | J27: 0 | K27: =I27+J27 -> 695350 | L27: =F27+I27 -> 6174825 | M27: =G27+J27 -> 0 | N27: =L27+M27 -> 6174825 | O27: =L27/C27*100 -> 69.579946 | P27: 0 | Q27: =N27/E27*100 -> 69.579946 | R27: =E27-N27 -> 2699607
A28: 5.1.01.01.11.0001 | B28: Belanja Iuran Jaminan Kematian PNS | C28: 26623296 | D28: 0 | E28: =C28+D28 -> 26623296 | F28: 16438427 | G28: 0 | H28: =F28+G28 -> 16438427 | I28: 2086049 | J28: 0 | K28: =I28+J28 -> 2086049 | L28: =F28+I28 -> 18524476 | M28: =G28+J28 -> 0 | N28: =L28+M28 -> 18524476 | O28: =L28/C28*100 -> 69.57995 | P28: 0 | Q28: =N28/E28*100 -> 69.57995 | R28: =E28-N28 -> 8098820
A29: 5.1.01.02.01.0001 | B29: Tambahan Penghasilan berdasarkan Beban Kerja PNS | C29: 8573500000 | D29: 0 | E29: =C29+D29 -> 8573500000 | F29: 5054800000 | G29: 0 | H29: =F29+G29 -> 5054800000 | I29: 651500000 | J29: 0 | K29: =I29+J29 -> 651500000 | L29: =F29+I29 -> 5706300000 | M29: =G29+J29 -> 0 | N29: =L29+M29 -> 5706300000 | O29: =L29/C29*100 -> 66.557415 | P29: 0 | Q29: =N29/E29*100 -> 66.557415 | R29: =E29-N29 -> 2867200000
A30: 5.1.01.02.05.0001 | B30: Tambahan Penghasilan berdasarkan Prestasi Kerja PNS | C30: 982800000 | D30: 0 | E30: =C30+D30 -> 982800000 | F30: 236295000 | G30: 0 | H30: =F30+G30 -> 236295000 | I30: 37350000 | J30: 0 | K30: =I30+J30 -> 37350000 | L30: =F30+I30 -> 273645000 | M30: =G30+J30 -> 0 | N30: =L30+M30 -> 273645000 | O30: =L30/C30*100 -> 27.843407 | P30: 0 | Q30: =N30/E30*100 -> 27.843407 | R30: =E30-N30 -> 709155000
A31: 3.27.01.1.02.02 | B31: Penyediaan Administrasi Pelaksanaan Tugas ASN | C31: =SUM(C32:C33) -> 431640000 | D31: =SUM(D32:D33) -> 0 | E31: =SUM(E32:E33) -> 431640000 | F31: =SUM(F32:F33) -> 260530000 | G31: =SUM(G32:G33) -> 0 | H31: =SUM(H32:H33) -> 260530000 | I31: =SUM(I32:I33) -> 0 | J31: =SUM(J32:J33) -> 0 | ... N31: =SUM(N32:N33) -> 260530000 | O31: =L31/C31*100 -> 60.358169 | P31: 0 | Q31: =N31/E31*100 -> 60.358169 | R31: =E31-N31 -> 171110000
A32: 5.1.01.03.07.0001 | B32: Belanja Honorarium Penanggungjawaban Pengelola Keuangan | C32: 374520000 | D32: 0 | E32: =C32+D32 -> 374520000 | F32: 231970000 | G32: 0 | H32: =F32+G32 -> 231970000 | I32: 0 | J32: 0 | K32: =I32+J32 -> 0 | L32: =F32+I32 -> 231970000 | M32: =G32+J32 -> 0 | N32: =L32+M32 -> 231970000 | O32: =L32/C32*100 -> 61.937947 | P32: 0 | Q32: =N32/E32*100 -> 61.937947 | R32: =E32-N32 -> 142550000
A33: 5.1.01.03.07.0002 | B33: Belanja Honorarium Pengadaan Barang/Jasa | C33: 57120000 | D33: 0 | E33: =C33+D33 -> 57120000 | F33: 28560000 | G33: 0 | H33: =F33+G33 -> 28560000 | I33: 0 | J33: 0 | K33: =I33+J33 -> 0 | L33: =F33+I33 -> 28560000 | M33: =G33+J33 -> 0 | N33: =L33+M33 -> 28560000 | O33: =L33/C33*100 -> 50 | P33: 0 | Q33: =N33/E33*100 -> 50 | R33: =E33-N33 -> 28560000
A34: 5.1 | B34: Belanja Operasi Dinas dan UPTD | C34: =C35+C287+C369+C455 -> 43053370570 | D34: =D35+D287+D369+D455 -> 5212500000 | E34: =E35+E287+E369+E455 -> 48265870570 | F34: =F35+F287+F369+F455 -> 22289175953 | G34: =G35+G287+G369+G455 -> 1549468153 | H34: =H35+H287+H369+H455 -> 23838644106 | I34: =I35+I287+I369+I455 -> 1548907852 | J34: =J35+J287+J369+J455 -> 285248528 | ... N34: =N35+N287+N369+N455 -> 25672800486 | O34: =L34/C34*100 -> 55.368682 | P34: =M34/D34*100 -> 35.198402 | Q34: =N34/E34*100 -> 53.190381 | R34: =E34-N34 -> 22593070084
A35: 5.1.02 | B35: Belanja Operasi Dinas | C35: =C36+C135+C188+C225+C245 -> 32951725000 | D35: =D36+D135+D188+D225+D245 -> 4691509800 | E35: =E36+E135+E188+E225+E245 -> 37643234800 | F35: =F36+F135+F188+F225+F245 -> 15297265564 | G35: =G36+G135+G188+G225+G245 -> 1536838153 | H35: =H36+H135+H188+H225+H245 -> 16834103717 | I35: =I36+I135+I188+I225+I245 -> 1279412879 | J35: =J36+J135+J188+J225+J245 -> 261128528 | ... N35: =N36+N135+N188+N225+N245 -> 18374645124 | O35: =L35/C35*100 -> 50.30595 | P35: =M35/D35*100 -> 38.323839 | Q35: =N35/E35*100 -> 48.812609 | R35: =E35-N35 -> 19268589676
B36: SEKRETARIAT | C36: =C37+C117 -> 10117886800 | D36: =D37+D117 -> 1017688300 | E36: =E37+E117 -> 11135575100 | F36: =F37+F117 -> 6336478588 | G36: =G37+G117 -> 159772483 | H36: =H37+H117 -> 6496251071 | I36: =I37+I117 -> 344708456 | J36: =J37+J117 -> 29961120 | ... N36: =N37+N117 -> 6870920647 | O36: =L36/C36*100 -> 66.033424 | P36: =M36/D36*100 -> 18.643587 | Q36: =N36/E36*100 -> 61.702432 | R36: =E36-N36 -> 4264654453
B37: SUB BAGIAN UMUM DAN KEPEGAWAIAN | C37: =C38 -> 8890643500 | D37: =D38 -> 726500000 | E37: =E38 -> 9617143500 | F37: =F38 -> 5537113831 | G37: =G38 -> 150000000 | H37: =H38 -> 5687113831 | I37: =I38 -> 272901755 | J37: =J38 -> 0 | ... N37: =N38 -> 5960015586 | O37: =L37/C37*100 -> 65.349776 | P37: =M37/D37*100 -> 20.646937 | Q37: =N37/E37*100 -> 61.972826 | R37: =E37-N37 -> 3657127914
A38: Program (3.27.01) | B38: PROGRAM PENUNJANG URUSAN PEMERINTAHAN DAERAH PROVINSI | C38: =C39+C45+C70+C86+C101 -> 8890643500 | D38: =D39+D45+D70+D86+D101 -> 726500000 | E38: =E39+E45+E70+E86+E101 -> 9617143500 | F38: =F39+F45+F70+F86+F101 -> 5537113831 | G38: =G39+G45+G70+G86+G101 -> 150000000 | H38: =H39+H45+H70+H86+H101 -> 5687113831 | I38: =I39+I45+I70+I86+I101 -> 272901755 | J38: =J39+J45+J70+J86+J101 -> 0 | ... N38: =N39+N45+N70+N86+N101 -> 5960015586 | O38: =L38/C38*100 -> 65.349776 | P38: =M38/D38*100 -> 20.646937 | Q38: =N38/E38*100 -> 61.972826 | R38: =E38-N38 -> 3657127914
A39: Kegiatan (3.27.01.1.05) | B39: Administrasi Kepegawaian Perangkat Daerah | C39: =C40+C42 -> 318408000 | D39: =D40+D42 -> 726500000 | E39: =E40+E42 -> 1044908000 | F39: =F40+F42 -> 237623398 | G39: =G40+G42 -> 150000000 | H39: =H40+H42 -> 387623398 | I39: =I40+I42 -> 0 | J39: =J40+J42 -> 0 | ... N39: =N40+N42 -> 387623398 | O39: =L39/C39*100 -> 74.628589 | P39: =M39/D39*100 -> 20.646937 | Q39: =N39/E39*100 -> 37.096414 | R39: =E39-N39 -> 657284602
A40: 3.27.01.1.05.02 | B40: Pengadaan Pakaian Dinas Beserta Atribut Kelengkapannya | C40: =SUM(C41:C41) -> 171408000 | D40: =SUM(D41:D41) -> 0 | E40: =SUM(E41:E41) -> 171408000 | F40: =SUM(F41:F41) -> 170710000 | G40: =SUM(G41:G41) -> 0 | H40: =SUM(H41:H41) -> 170710000 | I40: =SUM(I41:I41) -> 0 | J40: =SUM(J41:J41) -> 0 | ... N40: =SUM(N41:N41) -> 170710000 | O40: =L40/C40*100 -> 99.592784 | P40: 0 | Q40: =N40/E40*100 -> 99.592784 | R40: =E40-N40 -> 698000
A41: 5.1.02.01.01.0063 | B41: Belanja Pakaian Dinas Harian (PDH) | C41: 171408000 | D41: 0 | E41: =C41+D41 -> 171408000 | F41: 170710000 | G41: 0 | H41: =F41+G41 -> 170710000 | I41: 0 | J41: 0 | K41: =I41+J41 -> 0 | L41: =F41+I41 -> 170710000 | M41: =G41+J41 -> 0 | N41: =L41+M41 -> 170710000 | O41: =L41/C41*100 -> 99.592784 | P41: 0 | Q41: =N41/E41*100 -> 99.592784 | R41: =E41-N41 -> 698000
A42: 3.27.01.1.05.09 | B42: Pendidikan dan Pelatihan Pegawai Berdasarkan Tugas dan Fungsi | C42: =SUM(C43:C44) -> 147000000 | D42: =SUM(D43:D44) -> 726500000 | E42: =SUM(E43:E44) -> 873500000 | F42: =SUM(F43:F44) -> 66913398 | G42: =SUM(G43:G44) -> 150000000 | H42: =SUM(H43:H44) -> 216913398 | I42: =SUM(I43:I44) -> 0 | J42: =SUM(J43:J44) -> 0 | ... N42: =SUM(N43:N44) -> 216913398 | O42: =L42/C42*100 -> 45.519318 | P42: =M42/D42*100 -> 20.646937 | Q42: =N42/E42*100 -> 24.832673 | R42: =E42-N42 -> 656586602
A43: 5.1.02.02.12.0003 | B43: Belanja Bimbingan Teknis | C43: 48000000 | D43: 429500000 | E43: =C43+D43 -> 477500000 | F43: 34410000 | G43: 150000000 | H43: =F43+G43 -> 184410000 | I43: 0 | J43: 0 | K43: =I43+J43 -> 0 | L43: =F43+I43 -> 34410000 | M43: =G43+J43 -> 150000000 | N43: =L43+M43 -> 184410000 | O43: =L43/C43*100 -> 71.6875 | P43: =M43/D43*100 -> 34.924331 | Q43: =N43/E43*100 -> 38.619895 | R43: =E43-N43 -> 293090000
...
