Workbook

Sheet Kendali Global
A1: PEMERINTAH PROVINSI KALIMANTAN TIMUR
A2: LAPORAN REALISASI ANGGARAN PER BIDANG
A3: ='Kendali Rekening'!A3:R3 -> PER 18 SEPTEMBER 2023
A7: KODE REKENING | B7: URAIAN | C7: ANGGARAN | F7: REALISASI | L7: % | O7: SISA PAGU
C8: MURNI | D8: FCPF | E8: TOTAL | F8: BULAN INI | I8: MURNI | J8: FCPF | K8: TOTAL | L8: MURNI | M8: FCPF | N8: TOTAL
A9: 3-27.0-00.0-00.01 | B9: DINAS PERKEBUNAN | C9: ='Kendali Rekening'!C13 -> 59052360330 | D9: ='Kendali Rekening'!D13 -> 5212500000 | E9: ='Kendali Rekening'!E13 -> 64264860330 | I9: ='Kendali Rekening'!L13 -> 34406644491 | J9: ='Kendali Rekening'!M13 -> 1834716681 | K9: ='Kendali Rekening'!N13 -> 36241361172 | L9: ='Kendali Rekening'!O13 -> 58.264639 | M9: ='Kendali Rekening'!P13 -> 35.198402 | N9: ='Kendali Rekening'!Q13 -> 56.393745 | O9: ='Kendali Rekening'!R13 -> 28023499158
A10: 5.1.01 | B10: Belanja Pegawai | C10: ='Kendali Rekening'!C14 -> 15998989760 | D10: ='Kendali Rekening'!D14 -> 0 | E10: ='Kendali Rekening'!E14 -> 15998989760 | I10: ='Kendali Rekening'!L14 -> 10568560686 | J10: ='Kendali Rekening'!M14 -> 0 | K10: ='Kendali Rekening'!N14 -> 10568560686 | L10: ='Kendali Rekening'!O14 -> 66.057675 | M10: ='Kendali Rekening'!P14 -> 0 | N10: ='Kendali Rekening'!Q14 -> 66.057675 | O10: ='Kendali Rekening'!R14 -> 5430429074
A11: 5.1 | B11: Belanja Operasi Dinas dan UPTD | C11: ='Kendali Rekening'!C34 -> 43053370570 | D11: ='Kendali Rekening'!D34 -> 5212500000 | E11: ='Kendali Rekening'!E34 -> 48265870570 | I11: ='Kendali Rekening'!L34 -> 23838083805 | J11: ='Kendali Rekening'!M34 -> 1834716681 | K11: ='Kendali Rekening'!N34 -> 25672800486 | L11: ='Kendali Rekening'!O34 -> 55.368682 | M11: ='Kendali Rekening'!P34 -> 35.198402 | N11: ='Kendali Rekening'!Q34 -> 53.190381 | O11: ='Kendali Rekening'!R34 -> 22593070084
B12: SEKRETARIAT | C12: ='Kendali Rekening'!C36 -> 10117886800 | D12: ='Kendali Rekening'!D36 -> 1017688300 | E12: ='Kendali Rekening'!E36 -> 11135575100 | I12: ='Kendali Rekening'!L36 -> 6681187044 | J12: ='Kendali Rekening'!M36 -> 189733603 | K12: ='Kendali Rekening'!N36 -> 6870920647 | L12: ='Kendali Rekening'!O36 -> 66.033424 | M12: ='Kendali Rekening'!P36 -> 18.643587 | N12: ='Kendali Rekening'!Q36 -> 61.702432 | O12: ='Kendali Rekening'!R36 -> 4264654453
B13: SUB BAGIAN UMUM DAN KEPEGAWAIAN | C13: ='Kendali Rekening'!C37 -> 8890643500 | D13: ='Kendali Rekening'!D37 -> 726500000 | E13: ='Kendali Rekening'!E37 -> 9617143500 | I13: ='Kendali Rekening'!L37 -> 5810015586 | J13: ='Kendali Rekening'!M37 -> 150000000 | K13: ='Kendali Rekening'!N37 -> 5960015586 | L13: ='Kendali Rekening'!O37 -> 65.349776 | M13: ='Kendali Rekening'!P37 -> 20.646937 | N13: ='Kendali Rekening'!Q37 -> 61.972826 | O13: ='Kendali Rekening'!R37 -> 3657127914
B14: SUB BAGIAN PERENCANAAN PROGRAM | C14: ='Kendali Rekening'!C117 -> 1227243300 | D14: ='Kendali Rekening'!D117 -> 291188300 | E14: ='Kendali Rekening'!E117 -> 1518431600 | I14: ='Kendali Rekening'!L117 -> 871171458 | J14: ='Kendali Rekening'!M117 -> 39733603 | K14: ='Kendali Rekening'!N117 -> 910905061 | L14: ='Kendali Rekening'!O117 -> 70.986043 | M14: ='Kendali Rekening'!P117 -> 13.645329 | N14: ='Kendali Rekening'!Q117 -> 59.989865 | O14: ='Kendali Rekening'!R117 -> 607526539
B15: BIDANG PENGEMBANGAN KOMODITI | C15: ='Kendali Rekening'!C135 -> 17858883600 | D15: ='Kendali Rekening'!D135 -> 368452300 | E15: ='Kendali Rekening'!E135 -> 18227335900 | I15: ='Kendali Rekening'!L135 -> 6057995800 | J15: ='Kendali Rekening'!M135 -> 338248300 | K15: ='Kendali Rekening'!N135 -> 6396244100 | L15: ='Kendali Rekening'!O135 -> 33.92147 | M15: ='Kendali Rekening'!P135 -> 91.802467 | N15: ='Kendali Rekening'!Q135 -> 35.091492 | O15: ='Kendali Rekening'!R135 -> 11831091800
B16: BIDANG PERKEBUNAN BERKELANJUTAN | C16: ='Kendali Rekening'!C188 -> 2214236700 | D16: ='Kendali Rekening'!D188 -> 2357469900 | E16: ='Kendali Rekening'!E188 -> 4571706600 | I16: ='Kendali Rekening'!L188 -> 1582031423 | J16: ='Kendali Rekening'!M188 -> 1030218856 | K16: ='Kendali Rekening'!N188 -> 2612250279 | L16: ='Kendali Rekening'!O188 -> 71.448162 | M16: ='Kendali Rekening'!P188 -> 43.700191 | N16: ='Kendali Rekening'!Q188 -> 57.1395 | O16: ='Kendali Rekening'!R188 -> 1959456321
B17: BIDANG USAHA | C17: ='Kendali Rekening'!C225 -> 1307717500 | D17: ='Kendali Rekening'!D225 -> 450000000 | E17: ='Kendali Rekening'!E225 -> 1757717500 | I17: ='Kendali Rekening'!L225 -> 1146317875 | J17: ='Kendali Rekening'!M225 -> 206412600 | K17: ='Kendali Rekening'!N225 -> 1352730475 | L17: ='Kendali Rekening'!O225 -> 87.657914 | M17: ='Kendali Rekening'!P225 -> 45.869467 | N17: ='Kendali Rekening'!Q225 -> 76.959493 | O17: ='Kendali Rekening'!R225 -> 404987025
B18: BIDANG PENGOLAHAN DAN PEMASARAN | C18: ='Kendali Rekening'!C245 -> 1453000400 | D18: ='Kendali Rekening'!D245 -> 497899300 | E18: ='Kendali Rekening'!E245 -> 1950899700 | I18: ='Kendali Rekening'!L245 -> 1109146301 | J18: ='Kendali Rekening'!M245 -> 33353322 | K18: ='Kendali Rekening'!N245 -> 1142499623 | L18: ='Kendali Rekening'!O245 -> 76.334893 | M18: ='Kendali Rekening'!P245 -> 6.6988088 | N18: ='Kendali Rekening'!Q245 -> 58.562704 | O18: ='Kendali Rekening'!R245 -> 808400077
B19: UPTD PBP (PENGAWASAN BENIH PERKEBUNAN) | C19: ='Kendali Rekening'!C287 -> 2813119190 | D19: ='Kendali Rekening'!D287 -> 0 | E19: ='Kendali Rekening'!E287 -> 2813119190 | I19: ='Kendali Rekening'!L287 -> 2056650749 | J19: ='Kendali Rekening'!M287 -> 0 | K19: ='Kendali Rekening'!N287 -> 2056650749 | L19: ='Kendali Rekening'!O287 -> 73.109264 | M19: ='Kendali Rekening'!P287 -> 0 | N19: ='Kendali Rekening'!Q287 -> 73.109264 | O19: ='Kendali Rekening'!R287 -> 756468441
B20: UPTD P2TP (PENGEMBANGAN PERLINDUNGAN TANAMAN PERKEBUNAN) | C20: ='Kendali Rekening'!C369 -> 2833515880 | D20: ='Kendali Rekening'!D369 -> 520990200 | E20: ='Kendali Rekening'!E369 -> 3354506080 | I20: ='Kendali Rekening'!L369 -> 1756421248 | J20: ='Kendali Rekening'!M369 -> 36750000 | K20: ='Kendali Rekening'!N369 -> 1793171248 | L20: ='Kendali Rekening'!O369 -> 61.987344 | M20: ='Kendali Rekening'!P369 -> 7.0538755 | N20: ='Kendali Rekening'!Q369 -> 53.455597 | O20: ='Kendali Rekening'!R369 -> 1561334832
B21: UPTD PBTP (PRODUSEN BENIH TANAMAN PERKEBUNAN) | C21: ='Kendali Rekening'!C455 -> 4455010500 | D21: ='Kendali Rekening'!D455 -> 0 | E21: ='Kendali Rekening'!E455 -> 4455010500 | I21: ='Kendali Rekening'!L455 -> 3448333365 | J21: ='Kendali Rekening'!M455 -> 0 | K21: ='Kendali Rekening'!N455 -> 3448333365 | L21: ='Kendali Rekening'!O455 -> 77.403485 | M21: ='Kendali Rekening'!P455 -> 0 | N21: ='Kendali Rekening'!Q455 -> 77.403485 | O21: ='Kendali Rekening'!R455 -> 1006677135

Sheet Kendali Rekening
A1: PEMERINTAH PROVINSI KALIMANTAN TIMUR
A2: LAPORAN REALISASI ANGGARAN PER BIDANG
A3: PER 18 SEPTEMBER 2023
A6: Urusan Pemerintahan | B6: : Urusan Pilihan
A7: Bidang Pemerintahan | B7: : Pertanian
A8: Unit Organisasi | B8: : Dinas Perkebunan
A10: KODE REKENING | B10: URAIAN | C10: ANGGARAN | F10: REALISASI | O10: % | R10: SISA PAGU
C11: MURNI | D11: FCPF | E11: TOTAL | F11: BULAN LALU | I11: BULAN INI | L11: JUMLAH
F12: MURNI | G12: FCPF | H12: TOTAL | I12: MURNI | J12: FCPF | K12: TOTAL | L12: MURNI | M12: FCPF | N12: TOTAL | O12: MURNI | P12: FCPF | Q12: TOTAL
A13: 3-27.0-00.0-00.01 | B13: DINAS PERKEBUNAN | C13: =C14+C34 -> 59052360330 | D13: =D14+D34 -> 5212500000 | E13: =E14+E34 -> 64264860330 | F13: =F14+F34 -> 31764625059 | G13: =G14+G34 -> 1549468153 | H13: =H14+H34 -> 33314093212 | I13: =I14+I34 -> 2642019432 | J13: =J14+J34 -> 285248528 | ... N13: =N14+N34 -> 36241361172 | O13: =L13/C13*100 -> 58.264639 | P13: =M13/D13*100 -> 35.198402 | Q13: =N13/E13*100 -> 56.393745 | R13: =E13-N13 -> 28023499158
A14: 5.1.01 | B14: Belanja Pegawai | C14: =C17+C31 -> 15998989760 | D14: =D17+D31 -> 0 | E14: =E17+E31 -> 15998989760 | F14: =F17+F31 -> 9475449106 | G14: =G17+G31 -> 0 | H14: =H17+H31 -> 9475449106 | I14: =I17+I31 -> 1093111580 | J14: =J17+J31 -> 0 | ... N14: =N17+N31 -> 10568560686 | O14: =L14/C14*100 -> 66.057675 | P14: 0 | Q14: =N14/E14*100 -> 66.057675 | R14: =E14-N14 -> 5430429074
A15: Program (3.27.01) | B15: PROGRAM PENUNJANG URUSAN PEMERINTAHAN DAERAH PROVINSI | C15: =C16 -> 15998989760 | D15: =D16 -> 0 | E15: =E16 -> 15998989760 | F15: =F16 -> 9475449106 | G15: =G16 -> 0 | H15: =H16 -> 9475449106 | I15: =I16 -> 1093111580 | J15: =J16 -> 0 | ... N15: =N16 -> 10568560686 | O15: =L15/C15*100 -> 66.057675 | P15: 0 | Q15: =N15/E15*100 -> 66.057675 | R15: =E15-N15 -> 5430429074
A16: Kegiatan (3.27.01.1.02) | B16: Administrasi Keuangan Perangkat Daerah | C16: =C17+C31 -> 15998989760 | D16: =D17+D31 -> 0 | E16: =E17+E31 -> 15998989760 | F16: =F17+F31 -> 9475449106 | G16: =G17+G31 -> 0 | H16: =H17+H31 -> 9475449106 | I16: =I17+I31 -> 1093111580 | J16: =J17+J31 -> 0 | ... N16: =N17+N31 -> 10568560686 | O16: =L16/C16*100 -> 66.057675 | P16: 0 | Q16: =N16/E16*100 -> 66.057675 | R16: =E16-N16 -> 5430429074
A17: 3.27.01.1.02.01 | B17: Penyediaan Gaji dan Tunjangan ASN | C17: =SUM(C18:C30) -> 15567349760 | D17: =SUM(D18:D30) -> 0 | E17: =SUM(E18:E30) -> 15567349760 | F17: =SUM(F18:F30) -> 9214919106 | G17: =SUM(G18:G30) -> 0 | H17: =SUM(H18:H30) -> 9214919106 | I17: =SUM(I18:I30) -> 1093111580 | J17: =SUM(J18:J30) -> 0 | ... N17: =SUM(N18:N30) -> 10308030686 | O17: =L17/C17*100 -> 66.215707 | P17: 0 | Q17: =N17/E17*100 -> 66.215707 | R17: =E17-N17 -> 5259319074
A18: 5.1.01.01.01.0001 | B18: Belanja Gaji Pokok PNS | C18: 4400893000 | D18: 0 | E18: =C18+D18 -> 4400893000 | F18: 2884252717 | G18: 0 | H18: =F18+G18 -> 2884252717 | I18: 289729000 | J18: 0 | K18: =I18+J18 -> 289729000 | L18: =F18+I18 -> 3173981717 | M18: =G18+J18 -> 0 | N18: =L18+M18 -> 3173981717 | O18: =L18/C18*100 -> 72.121311 | P18: 0 | Q18: =N18/E18*100 -> 72.121311 | R18: =E18-N18 -> 1226911283
A19: 5.1.01.01.02.0001 | B19: Belanja Tunjangan Keluarga PNS | C19: 394935002 | D19: 0 | E19: =C19+D19 -> 394935002 | F19: 267310368 | G19: 0 | H19: =F19+G19 -> 267310368 | I19: 26658842 | J19: 0 | K19: =I19+J19 -> 26658842 | L19: =F19+I19 -> 293969210 | M19: =G19+J19 -> 0 | N19: =L19+M19 -> 293969210 | O19: =L19/C19*100 -> 74.434833 | P19: 0 | Q19: =N19/E19*100 -> 74.434833 | R19: =E19-N19 -> 100965792
A20: 5.1.01.01.03.0001 | B20: Belanja Tunjangan Jabatan PNS | C20: 349710004 | D20: 0 | E20: =C20+D20 -> 349710004 | F20: 229980000 | G20: 0 | H20: =F20+G20 -> 229980000 | I20: 24370000 | J20: 0 | K20: =I20+J20 -> 24370000 | L20: =F20+I20 -> 254350000 | M20: =G20+J20 -> 0 | N20: =L20+M20 -> 254350000 | O20: =L20/C20*100 -> 72.731691 | P20: 0 | Q20: =N20/E20*100 -> 72.731691 | R20: =E20-N20 -> 95360004
A21: 5.1.01.01.04.0001 | B21: Belanja Tunjangan Fungsional PNS | C21: 58800000 | D21: 0 | E21: =C21+D21 -> 58800000 | F21: 38520000 | G21: 0 | H21: =F21+G21 -> 38520000 | I21: 4270000 | J21: 0 | K21: =I21+J21 -> 4270000 | L21: =F21+I21 -> 42790000 | M21: =G21+J21 -> 0 | N21: =L21+M21 -> 42790000 | O21: =L21/C21*100 -> 72.772109 | P21: 0 | Q21: =N21/E21*100 -> 72.772109 | R21: =E21-N21 -> 16010000
A22: 5.1.01.01.05.0001 | B22: Belanja Tunjangan Fungsional Umum PNS | C22: 121330006 | D22: 0 | E22: =C22+D22 -> 121330006 | F22: 69840000 | G22: 0 | H22: =F22+G22 -> 69840000 | I22: 6995000 | J22: 0 | K22: =I22+J22 -> 6995000 | L22: =F22+I22 -> 76835000 | M22: =G22+J22 -> 0 | N22: =L22+M22 -> 76835000 | O22: =L22/C22*100 -> 63.327286 | P22: 0 | Q22: =N22/E22*100 -> 63.327286 | R22: =E22-N22 -> 44495006
A23: 5.1.01.01.06.0001 | B23: Belanja Tunjangan Beras PNS | C23: 234866002 | D23: 0 | E23: =C23+D23 -> 234866002 | F23: 155920260 | G23: 0 | H23: =F23+G23 -> 155920260 | I23: 15715140 | J23: 0 | K23: =I23+J23 -> 15715140 | L23: =F23+I23 -> 171635400 | M23: =G23+J23 -> 0 | N23: =L23+M23 -> 171635400 | O23: =L23/C23*100 -> 73.07801 | P23: 0 | Q23: =N23/E23*100 -> 73.07801 | R23: =E23-N23 -> 63230602
A24: 5.1.01.01.07.0001 | B24: Belanja Tunjangan PPh/Tunjangan Khusus PNS | C24: 20146908 | D24: 0 | E24: =C24+D24 -> 20146908 | F24: 14375878 | G24: 0 | H24: =F24+G24 -> 14375878 | I24: 490036 | J24: 0 | K24: =I24+J24 -> 490036 | L24: =F24+I24 -> 14865914 | M24: =G24+J24 -> 0 | N24: =L24+M24 -> 14865914 | O24: =L24/C24*100 -> 73.787571 | P24: 0 | Q24: =N24/E24*100 -> 73.787571 | R24: =E24-N24 -> 5280994
A25: 5.1.01.01.08.0001 | B25: Belanja Pembulatan Gaji PNS | C25: 311110 | D25: 0 | E25: =C25+D25 -> 311110 | F25: 41456 | G25: 0 | H25: =F25+G25 -> 41456 | I25: 3575 | J25: 0 | K25: =I25+J25 -> 3575 | L25: =F25+I25 -> 45031 | M25: =G25+J25 -> 0 | N25: =L25+M25 -> 45031 | O25: =L25/C25*100 -> 14.474302 | P25: 0 | Q25: =N25/E25*100 -> 14.474302 | R25: =E25-N25 -> 266079
A26: 5.1.01.01.09.0001 | B26: Belanja Iuran Jaminan Kesehatan PNS | C26: 394560000 | D26: 0 | E26: =C26+D26 -> 394560000 | F26: 241665525 | G26: 0 | H26: =F26+G26 -> 241665525 | I26: =14080916+19167672 -> 33248588 | J26: 0 | K26: =I26+J26 -> 33248588 | L26: =F26+I26 -> 274914113 | M26: =G26+J26 -> 0 | N26: =L26+M26 -> 274914113 | O26: =L26/C26*100 -> 69.676124 | P26: 0 | Q26: =N26/E26*100 -> 69.676124 | R26: =E26-N26 -> 119645887
A27: 5.1.01.01.10.0001 | B27: Belanja Iuran Jaminan Kecelakaan Kerja PNS | C27: 8874432 | D27: 0 | E27: =C27+D27 -> 8874432 | F27: 5479475 | G27: 0 | H27: =F27+G27 -> 5479475 | I27: 695350 | J27: 0 | K27: =I27+J27 -> 695350 | L27: =F27+I27 -> 6174825 | M27: =G27+J27 -> 0 | N27: =L27+M27 -> 6174825 | O27: =L27/C27*100 -> 69.579946 | P27: 0 | Q27: =N27/E27*100 -> 69.579946 | R27: =E27-N27 -> 2699607
A28: 5.1.01.01.11.0001 | B28: Belanja Iuran Jaminan Kematian PNS | C28: 26623296 | D28: 0 | E28: =C28+D28 -> 26623296 | F28: 16438427 | G28: 0 | H28: =F28+G28 -> 16438427 | I28: 2086049 | J28: 0 | K28: =I28+J28 -> 2086049 | L28: =F28+I28 -> 18524476 | M28: =G28+J28 -> 0 | N28: =L28+M28 -> 18524476 | O28: =L28/C28*100 -> 69.57995 | P28: 0 | Q28: =N28/E28*100 -> 69.57995 | R28: =E28-N28 -> 8098820
A29: 5.1.01.02.01.0001 | B29: Tambahan Penghasilan berdasarkan Beban Kerja PNS | C29: 8573500000 | D29: 0 | E29: =C29+D29 -> 8573500000 | F29: 5054800000 | G29: 0 | H29: =F29+G29 -> 5054800000 | I29: 651500000 | J29: 0 | K29: =I29+J29 -> 651500000 | L29: =F29+I29 -> 5706300000 | M29: =G29+J29 -> 0 | N29: =L29+M29 -> 5706300000 | O29: =L29/C29*100 -> 66.557415 | P29: 0 | Q29: =N29/E29*100 -> 66.557415 | R29: =E29-N29 -> 2867200000
A30: 5.1.01.02.05.0001 | B30: Tambahan Penghasilan berdasarkan Prestasi Kerja PNS | C30: 982800000 | D30: 0 | E30: =C30+D30 -> 982800000 | F30: 236295000 | G30: 0 | H30: =F30+G30 -> 236295000 | I30: 37350000 | J30: 0 | K30: =I30+J30 -> 37350000 | L30: =F30+I30 -> 273645000 | M30: =G30+J30 -> 0 | N30: =L30+M30 -> 273645000 | O30: =L30/C30*100 -> 27.843407 | P30: 0 | Q30: =N30/E30*100 -> 27.843407 | R30: =E30-N30 -> 709155000
A31: 3.27.01.1.02.02 | B31: Penyediaan Administrasi Pelaksanaan Tugas ASN | C31: =SUM(C32:C33) -> 431640000 | D31: =SUM(D32:D33) -> 0 | E31: =SUM(E32:E33) -> 431640000 | F31: =SUM(F32:F33) -> 260530000 | G31: =SUM(G32:G33) -> 0 | H31: =SUM(H32:H33) -> 260530000 | I31: =SUM(I32:I33) -> 0 | J31: =SUM(J32:J33) -> 0 | ... N31: =SUM(N32:N33) -> 260530000 | O31: =L31/C31*100 -> 60.358169 | P31: 0 | Q31: =N31/E31*100 -> 60.358169 | R31: =E31-N31 -> 171110000
A32: 5.1.01.03.07.0001 | B32: Belanja Honorarium Penanggungjawaban Pengelola Keuangan | C32: 374520000 | D32: 0 | E32: =C32+D32 -> 374520000 | F32: 231970000 | G32: 0 | H32: =F32+G32 -> 231970000 | I32: 0 | J32: 0 | K32: =I32+J32 -> 0 | L32: =F32+I32 -> 231970000 | M32: =G32+J32 -> 0 | N32: =L32+M32 -> 231970000 | O32: =L32/C32*100 -> 61.937947 | P32: 0 | Q32: =N32/E32*100 -> 61.937947 | R32: =E32-N32 -> 142550000
A33: 5.1.01.03.07.0002 | B33: Belanja Honorarium Pengadaan Barang/Jasa | C33: 57120000 | D33: 0 | E33: =C33+D33 -> 57120000 | F33: 28560000 | G33: 0 | H33: =F33+G33 -> 28560000 | I33: 0 | J33: 0 | K33: =I33+J33 -> 0 | L33: =F33+I33 -> 28560000 | M33: =G33+J33 -> 0 | N33: =L33+M33 -> 28560000 | O33: =L33/C33*100 -> 50 | P33: 0 | Q33: =N33/E33*100 -> 50 | R33: =E33-N33 -> 28560000
A34: 5.1 | B34: Belanja Operasi Dinas dan UPTD | C34: =C35+C287+C369+C455 -> 43053370570 | D34: =D35+D287+D369+D455 -> 5212500000 | E34: =E35+E287+E369+E455 -> 48265870570 | F34: =F35+F287+F369+F455 -> 22289175953 | G34: =G35+G287+G369+G455 -> 1549468153 | H34: =H35+H287+H369+H455 -> 23838644106 | I34: =I35+I287+I369+I455 -> 1548907852 | J34: =J35+J287+J369+J455 -> 285248528 | ... N34: =N35+N287+N369+N455 -> 25672800486 | O34: =L34/C34*100 -> 55.368682 | P34: =M34/D34*100 -> 35.198402 | Q34: =N34/E34*100 -> 53.190381 | R34: =E34-N34 -> 22593070084
A35: 5.1.02 | B35: Belanja Operasi Dinas | C35: =C36+C135+C188+C225+C245 -> 32951725000 | D35: =D36+D135+D188+D225+D245 -> 4691509800 | E35: =E36+E135+E188+E225+E245 -> 37643234800 | F35: =F36+F135+F188+F225+F245 -> 15297265564 | G35: =G36+G135+G188+G225+G245 -> 1536838153 | H35: =H36+H135+H188+H225+H245 -> 16834103717 | I35: =I36+I135+I188+I225+I245 -> 1279412879 | J35: =J36+J135+J188+J225+J245 -> 261128528 | ... N35: =N36+N135+N188+N225+N245 -> 18374645124 | O35: =L35/C35*100 -> 50.30595 | P35: =M35/D35*100 -> 38.323839 | Q35: =N35/E35*100 -> 48.812609 | R35: =E35-N35 -> 19268589676
B36: SEKRETARIAT | C36: =C37+C117 -> 10117886800 | D36: =D37+D117 -> 1017688300 | E36: =E37+E117 -> 11135575100 | F36: =F37+F117 -> 6336478588 | G36: =G37+G117 -> 159772483 | H36: =H37+H117 -> 6496251071 | I36: =I37+I117 -> 344708456 | J36: =J37+J117 -> 29961120 | ... N36: =N37+N117 -> 6870920647 | O36: =L36/C36*100 -> 66.033424 | P36: =M36/D36*100 -> 18.643587 | Q36: =N36/E36*100 -> 61.702432 | R36: =E36-N36 -> 4264654453
B37: SUB BAGIAN UMUM DAN KEPEGAWAIAN | C37: =C38 -> 8890643500 | D37: =D38 -> 726500000 | E37: =E38 -> 9617143500 | F37: =F38 -> 5537113831 | G37: =G38 -> 150000000 | H37: =H38 -> 5687113831 | I37: =I38 -> 272901755 | J37: =J38 -> 0 | ... N37: =N38 -> 5960015586 | O37: =L37/C37*100 -> 65.349776 | P37: =M37/D37*100 -> 20.646937 | Q37: =N37/E37*100 -> 61.972826 | R37: =E37-N37 -> 3657127914
A38: Program (3.27.01) | B38: PROGRAM PENUNJANG URUSAN PEMERINTAHAN DAERAH PROVINSI | C38: =C39+C45+C70+C86+C101 -> 8890643500 | D38: =D39+D45+D70+D86+D101 -> 726500000 | E38: =E39+E45+E70+E86+E101 -> 9617143500 | F38: =F39+F45+F70+F86+F101 -> 5537113831 | G38: =G39+G45+G70+G86+G101 -> 150000000 | H38: =H39+H45+H70+H86+H101 -> 5687113831 | I38: =I39+I45+I70+I86+I101 -> 272901755 | J38: =J39+J45+J70+J86+J101 -> 0 | ... N38: =N39+N45+N70+N86+N101 -> 5960015586 | O38: =L38/C38*100 -> 65.349776 | P38: =M38/D38*100 -> 20.646937 | Q38: =N38/E38*100 -> 61.972826 | R38: =E38-N38 -> 3657127914
A39: Kegiatan (3.27.01.1.05) | B39: Administrasi Kepegawaian Perangkat Daerah | C39: =C40+C42 -> 318408000 | D39: =D40+D42 -> 726500000 | E39: =E40+E42 -> 1044908000 | F39: =F40+F42 -> 237623398 | G39: =G40+G42 -> 150000000 | H39: =H40+H42 -> 387623398 | I39: =I40+I42 -> 0 | J39: =J40+J42 -> 0 | ... N39: =N40+N42 -> 387623398 | O39: =L39/C39*100 -> 74.628589 | P39: =M39/D39*100 -> 20.646937 | Q39: =N39/E39*100 -> 37.096414 | R39: =E39-N39 -> 657284602
A40: 3.27.01.1.05.02 | B40: Pengadaan Pakaian Dinas Beserta Atribut Kelengkapannya | C40: =SUM(C41:C41) -> 171408000 | D40: =SUM(D41:D41) -> 0 | E40: =SUM(E41:E41) -> 171408000 | F40: =SUM(F41:F41) -> 170710000 | G40: =SUM(G41:G41) -> 0 | H40: =SUM(H41:H41) -> 170710000 | I40: =SUM(I41:I41) -> 0 | J40: =SUM(J41:J41) -> 0 | ... N40: =SUM(N41:N41) -> 170710000 | O40: =L40/C40*100 -> 99.592784 | P40: 0 | Q40: =N40/E40*100 -> 99.592784 | R40: =E40-N40 -> 698000
A41: 5.1.02.01.01.0063 | B41: Belanja Pakaian Dinas Harian (PDH) | C41: 171408000 | D41: 0 | E41: =C41+D41 -> 171408000 | F41: 170710000 | G41: 0 | H41: =F41+G41 -> 170710000 | I41: 0 | J41: 0 | K41: =I41+J41 -> 0 | L41: =F41+I41 -> 170710000 | M41: =G41+J41 -> 0 | N41: =L41+M41 -> 170710000 | O41: =L41/C41*100 -> 99.592784 | P41: 0 | Q41: =N41/E41*100 -> 99.592784 | R41: =E41-N41 -> 698000
A42: 3.27.01.1.05.09 | B42: Pendidikan dan Pelatihan Pegawai Berdasarkan Tugas dan Fungsi | C42: =SUM(C43:C44) -> 147000000 | D42: =SUM(D43:D44) -> 726500000 | E42: =SUM(E43:E44) -> 873500000 | F42: =SUM(F43:F44) -> 66913398 | G42: =SUM(G43:G44) -> 150000000 | H42: =SUM(H43:H44) -> 216913398 | I42: =SUM(I43:I44) -> 0 | J42: =SUM(J43:J44) -> 0 | ... N42: =SUM(N43:N44) -> 216913398 | O42: =L42/C42*100 -> 45.519318 | P42: =M42/D42*100 -> 20.646937 | Q42: =N42/E42*100 -> 24.832673 | R42: =E42-N42 -> 656586602
A43: 5.1.02.02.12.0003 | B43: Belanja Bimbingan Teknis | C43: 48000000 | D43: 429500000 | E43: =C43+D43 -> 477500000 | F43: 34410000 | G43: 150000000 | H43: =F43+G43 -> 184410000 | I43: 0 | J43: 0 | K43: =I43+J43 -> 0 | L43: =F43+I43 -> 34410000 | M43: =G43+J43 -> 150000000 | N43: =L43+M43 -> 184410000 | O43: =L43/C43*100 -> 71.6875 | P43: =M43/D43*100 -> 34.924331 | Q43: =N43/E43*100 -> 38.619895 | R43: =E43-N43 -> 293090000
A44: 5.1.02.04.01.0001 | B44: Belanja Perjalanan Dinas Biasa | C44: 99000000 | D44: 297000000 | E44: =C44+D44 -> 396000000 | F44: 32503398 | G44: 0 | H44: =F44+G44 -> 32503398 | I44: 0 | J44: 0 | K44: =I44+J44 -> 0 | L44: =F44+I44 -> 32503398 | M44: =G44+J44 -> 0 | N44: =L44+M44 -> 32503398 | O44: =L44/C44*100 -> 32.831715 | P44: =M44/D44*100 -> 0 | Q44: =N44/E44*100 -> 8.2079288 | R44: =E44-N44 -> 363496602
A45: Kegiatan (3.27.01.1.06) | B45: Administrasi Umum Perangkat Daerah | C45: =C46+C48+C59+C61+C64+C66 -> 1898822900 | D45: =D46+D48+D59+D61+D64+D66 -> 0 | E45: =E46+E48+E59+E61+E64+E66 -> 1898822900 | F45: =F46+F48+F59+F61+F64+F66 -> 1128580889 | G45: =G46+G48+G59+G61+G64+G66 -> 0 | H45: =H46+H48+H59+H61+H64+H66 -> 1128580889 | I45: =I46+I48+I59+I61+I64+I66 -> 163571864 | J45: =J46+J48+J59+J61+J64+J66 -> 0 | ... N45: =N46+N48+N59+N61+N64+N66 -> 1292152753 | O45: =L45/C45*100 -> 68.050199 | P45: 0 | Q45: =N45/E45*100 -> 68.050199 | R45: =E45-N45 -> 606670147
A46: 3.27.01.1.06.01 | B46: Penyediaan Komponen Instalasi Listrik/Penerangan Bangunan Kantor | C46: =C47 -> 35900400 | D46: =D47 -> 0 | E46: =E47 -> 35900400 | F46: =F47 -> 9173484 | G46: =G47 -> 0 | H46: =H47 -> 9173484 | I46: =I47 -> 0 | J46: =J47 -> 0 | ... N46: =N47 -> 9173484 | O46: =L46/C46*100 -> 25.552596 | P46: 0 | Q46: =N46/E46*100 -> 25.552596 | R46: =E46-N46 -> 26726916
A47: 5.1.02.01.01.0031 | B47: Belanja Alat/Bahan untuk Kegiatan Kantor- Alat Listrik | C47: 35900400 | D47: 0 | E47: =C47+D47 -> 35900400 | F47: 9173484 | G47: 0 | H47: =F47+G47 -> 9173484 | I47: 0 | J47: 0 | K47: =I47+J47 -> 0 | L47: =F47+I47 -> 9173484 | M47: =G47+J47 -> 0 | N47: =L47+M47 -> 9173484 | O47: =L47/C47*100 -> 25.552596 | P47: 0 | Q47: =N47/E47*100 -> 25.552596 | R47: =E47-N47 -> 26726916
A48: 3.27.01.1.06.02 | B48: Penyediaan Peralatan dan Perlengkapan Kantor | C48: =SUM(C49:C58) -> 209403500 | D48: =SUM(D49:D58) -> 0 | E48: =SUM(E49:E58) -> 209403500 | F48: =SUM(F49:F58) -> 98743278 | G48: =SUM(G49:G58) -> 0 | H48: =SUM(H49:H58) -> 98743278 | I48: =SUM(I49:I58) -> 9240750 | J48: =SUM(J49:J58) -> 0 | ... N48: =SUM(N49:N58) -> 107984028 | O48: =L48/C48*100 -> 51.567442 | P48: 0 | Q48: =N48/E48*100 -> 51.567442 | R48: =E48-N48 -> 101419472
A49: 5.1.02.01.01.0015 | B49: Belanja Suku Cadang-Suku Cadang Alat Kedokteran | C49: 664000 | D49: 0 | E49: =C49+D49 -> 664000 | F49: 640000 | G49: 0 | H49: =F49+G49 -> 640000 | I49: 0 | J49: 0 | K49: =I49+J49 -> 0 | L49: =F49+I49 -> 640000 | M49: =G49+J49 -> 0 | N49: =L49+M49 -> 640000 | O49: =L49/C49*100 -> 96.385542 | P49: 0 | Q49: =N49/E49*100 -> 96.385542 | R49: =E49-N49 -> 24000
A50: 5.1.02.01.01.0024 | B50: Belanja Alat/Bahan untuk Kegiatan Kantor-Alat Tulis Kantor | C50: 63380000 | D50: 0 | E50: =C50+D50 -> 63380000 | F50: 41144370 | G50: 0 | H50: =F50+G50 -> 41144370 | I50: 0 | J50: 0 | K50: =I50+J50 -> 0 | L50: =F50+I50 -> 41144370 | M50: =G50+J50 -> 0 | N50: =L50+M50 -> 41144370 | O50: =L50/C50*100 -> 64.916961 | P50: 0 | Q50: =N50/E50*100 -> 64.916961 | R50: =E50-N50 -> 22235630
A51: 5.1.02.01.01.0026 | B51: Belanja Alat/Bahan untuk Kegiatan Kantor- Bahan Cetak | C51: 46374400 | D51: 0 | E51: =C51+D51 -> 46374400 | F51: 7045800 | G51: 0 | H51: =F51+G51 -> 7045800 | I51: 0 | J51: 0 | K51: =I51+J51 -> 0 | L51: =F51+I51 -> 7045800 | M51: =G51+J51 -> 0 | N51: =L51+M51 -> 7045800 | O51: =L51/C51*100 -> 15.193296 | P51: 0 | Q51: =N51/E51*100 -> 15.193296 | R51: =E51-N51 -> 39328600
A52: 5.1.02.01.01.0029 | B52: Belanja Alat/Bahan untuk Kegiatan Kantor-Bahan Komputer | C52: 27311000 | D52: 0 | E52: =C52+D52 -> 27311000 | F52: 11893428 | G52: 0 | H52: =F52+G52 -> 11893428 | I52: 0 | J52: 0 | K52: =I52+J52 -> 0 | L52: =F52+I52 -> 11893428 | M52: =G52+J52 -> 0 | N52: =L52+M52 -> 11893428 | O52: =L52/C52*100 -> 43.548123 | P52: 0 | Q52: =N52/E52*100 -> 43.548123 | R52: =E52-N52 -> 15417572
A53: 5.1.02.01.01.0030 | B53: Belanja Alat/Bahan untuk Kegiatan Kantor-Perabot Kantor | C53: 733200 | D53: 0 | E53: =C53+D53 -> 733200 | F53: 732000 | G53: 0 | H53: =F53+G53 -> 732000 | I53: 0 | J53: 0 | K53: =I53+J53 -> 0 | L53: =F53+I53 -> 732000 | M53: =G53+J53 -> 0 | N53: =L53+M53 -> 732000 | O53: =L53/C53*100 -> 99.836334 | P53: 0 | Q53: =N53/E53*100 -> 99.836334 | R53: =E53-N53 -> 1200
A54: 5.1.02.01.01.0035 | B54: Belanja Alat/Bahan untuk Kegiatan Kantor- Suvenir/Cendera Mata | C54: 22660000 | D54: 0 | E54: =C54+D54 -> 22660000 | F54: 0 | G54: 0 | H54: =F54+G54 -> 0 | I54: 9240750 | J54: 0 | K54: =I54+J54 -> 9240750 | L54: =F54+I54 -> 9240750 | M54: =G54+J54 -> 0 | N54: =L54+M54 -> 9240750 | O54: =L54/C54*100 -> 40.780009 | P54: 0 | Q54: =N54/E54*100 -> 40.780009 | R54: =E54-N54 -> 13419250
A55: 5.1.02.01.01.0036 | B55: Belanja Alat/Bahan untuk Kegiatan Kantor-Alat/Bahan untuk Kegiatan Kantor Lainnya | C55: 7512000 | D55: 0 | E55: =C55+D55 -> 7512000 | F55: 3567680 | G55: 0 | H55: =F55+G55 -> 3567680 | I55: 0 | J55: 0 | K55: =I55+J55 -> 0 | L55: =F55+I55 -> 3567680 | M55: =G55+J55 -> 0 | N55: =L55+M55 -> 3567680 | O55: =L55/C55*100 -> 47.493078 | P55: 0 | Q55: =N55/E55*100 -> 47.493078 | R55: =E55-N55 -> 3944320
A56: 5.1.02.01.01.0037 | B56: Belanja Obat-Obatan-Obat | C56: 1522500 | D56: 0 | E56: =C56+D56 -> 1522500 | F56: 1400000 | G56: 0 | H56: =F56+G56 -> 1400000 | I56: 0 | J56: 0 | K56: =I56+J56 -> 0 | L56: =F56+I56 -> 1400000 | M56: =G56+J56 -> 0 | N56: =L56+M56 -> 1400000 | O56: =L56/C56*100 -> 91.954023 | P56: 0 | Q56: =N56/E56*100 -> 91.954023 | R56: =E56-N56 -> 122500
A57: 5.1.02.01.01.0063 | B57: Belanja Pakaian Dinas Harian (PDH) | C57: 32320000 | D57: 0 | E57: =C57+D57 -> 32320000 | F57: 32320000 | G57: 0 | H57: =F57+G57 -> 32320000 | I57: 0 | J57: 0 | K57: =I57+J57 -> 0 | L57: =F57+I57 -> 32320000 | M57: =G57+J57 -> 0 | N57: =L57+M57 -> 32320000 | O57: =L57/C57*100 -> 100 | P57: 0 | Q57: =N57/E57*100 -> 100 | R57: =E57-N57 -> 0
A58: 5.1.02.02.04.0117 | B58: Belanja Sewa Alat Kantor Lainnya | C58: 6926400 | D58: 0 | E58: =C58+D58 -> 6926400 | F58: 0 | G58: 0 | H58: =F58+G58 -> 0 | I58: 0 | J58: 0 | K58: =I58+J58 -> 0 | L58: =F58+I58 -> 0 | M58: =G58+J58 -> 0 | N58: =L58+M58 -> 0 | O58: =L58/C58*100 -> 0 | P58: 0 | Q58: =N58/E58*100 -> 0 | R58: =E58-N58 -> 6926400
A59: 3.27.01.1.06.04 | B59: Penyediaan Bahan Logistik Kantor | C59: =SUM(C60:C60) -> 357470000 | D59: =SUM(D60:D60) -> 0 | E59: =SUM(E60:E60) -> 357470000 | F59: =SUM(F60:F60) -> 130531000 | G59: =SUM(G60:G60) -> 0 | H59: =SUM(H60:H60) -> 130531000 | I59: =SUM(I60:I60) -> 24917000 | J59: =SUM(J60:J60) -> 0 | ... N59: =SUM(N60:N60) -> 155448000 | O59: =L59/C59*100 -> 43.485607 | P59: 0 | Q59: =N59/E59*100 -> 43.485607 | R59: =E59-N59 -> 202022000
A60: 5.1.02.01.01.0052 | B60: Belanja Makanan dan Minuman Rapat | C60: 357470000 | D60: 0 | E60: =C60+D60 -> 357470000 | F60: 130531000 | G60: 0 | H60: =F60+G60 -> 130531000 | I60: 24917000 | J60: 0 | K60: =I60+J60 -> 24917000 | L60: =F60+I60 -> 155448000 | M60: =G60+J60 -> 0 | N60: =L60+M60 -> 155448000 | O60: =L60/C60*100 -> 43.485607 | P60: 0 | Q60: =N60/E60*100 -> 43.485607 | R60: =E60-N60 -> 202022000
A61: 3.27.01.1.06.05 | B61: Penyediaan Barang Cetakan dan Penggandaan | C61: =SUM(C62:C63) -> 49203000 | D61: =SUM(D62:D63) -> 0 | E61: =SUM(E62:E63) -> 49203000 | F61: =SUM(F62:F63) -> 26585500 | G61: =SUM(G62:G63) -> 0 | H61: =SUM(H62:H63) -> 26585500 | I61: =SUM(I62:I63) -> 5650000 | J61: =SUM(J62:J63) -> 0 | ... N61: =SUM(N62:N63) -> 32235500 | O61: =L61/C61*100 -> 65.515314 | P61: 0 | Q61: =N61/E61*100 -> 65.515314 | R61: =E61-N61 -> 16967500
A62: 5.1.02.01.01.0024 | B62: Belanja Alat/Bahan untuk Kegiatan Kantor-Alat Tulis Kantor | C62: 12300000 | D62: 0 | E62: =C62+D62 -> 12300000 | F62: 0 | G62: 0 | H62: =F62+G62 -> 0 | I62: 0 | J62: 0 | K62: =I62+J62 -> 0 | L62: =F62+I62 -> 0 | M62: =G62+J62 -> 0 | N62: =L62+M62 -> 0 | O62: =L62/C62*100 -> 0 | P62: 0 | Q62: =N62/E62*100 -> 0 | R62: =E62-N62 -> 12300000
A63: 5.1.02.01.01.0026 | B63: Belanja Alat/Bahan untuk Kegiatan Kantor- Bahan Cetak | C63: 36903000 | D63: 0 | E63: =C63+D63 -> 36903000 | F63: 26585500 | G63: 0 | H63: =F63+G63 -> 26585500 | I63: 5650000 | J63: 0 | K63: =I63+J63 -> 5650000 | L63: =F63+I63 -> 32235500 | M63: =G63+J63 -> 0 | N63: =L63+M63 -> 32235500 | O63: =L63/C63*100 -> 87.351977 | P63: 0 | Q63: =N63/E63*100 -> 87.351977 | R63: =E63-N63 -> 4667500
A64: 3.27.01.1.06.06 | B64: Penyediaan Bahan Bacaan dan Peraturan Perundang-Undangan | C64: =C65 -> 9696000 | D64: =D65 -> 0 | E64: =E65 -> 9696000 | F64: =F65 -> 4800000 | G64: =G65 -> 0 | H64: =H65 -> 4800000 | I64: =I65 -> 0 | J64: =J65 -> 0 | ... N64: =N65 -> 4800000 | O64: =L64/C64*100 -> 49.50495 | P64: 0 | Q64: =N64/E64*100 -> 49.50495 | R64: =E64-N64 -> 4896000
A65: 5.1.02.02.01.0062 | B65: Belanja Langganan Jurnal/Surat Kabar/Majalah | C65: 9696000 | D65: 0 | E65: =C65+D65 -> 9696000 | F65: 4800000 | G65: 0 | H65: =F65+G65 -> 4800000 | I65: 0 | J65: 0 | K65: =I65+J65 -> 0 | L65: =F65+I65 -> 4800000 | M65: =G65+J65 -> 0 | N65: =L65+M65 -> 4800000 | O65: =L65/C65*100 -> 49.50495 | P65: 0 | Q65: =N65/E65*100 -> 49.50495 | R65: =E65-N65 -> 4896000
A66: 3.27.01.1.06.09 | B66: Penyelenggaraan Rapat Koordinasi dan Konsultasi SKPD | C66: =SUM(C67:C69) -> 1237150000 | D66: =SUM(D67:D69) -> 0 | E66: =SUM(E67:E69) -> 1237150000 | F66: =SUM(F67:F69) -> 858747627 | G66: =SUM(G67:G69) -> 0 | H66: =SUM(H67:H69) -> 858747627 | I66: =SUM(I67:I69) -> 123764114 | J66: =SUM(J67:J69) -> 0 | ... N66: =SUM(N67:N69) -> 982511741 | O66: =L66/C66*100 -> 79.41735 | P66: 0 | Q66: =N66/E66*100 -> 79.41735 | R66: =E66-N66 -> 254638259
A67: 5.1.02.02.01.0003 | B67: Honorarium Narasumber atau Pembahas, Moderator, Pembawa Acara, dan Panitia | C67: 16200000 | D67: 0 | E67: =C67+D67 -> 16200000 | F67: 5400000 | G67: 0 | H67: =F67+G67 -> 5400000 | I67: 0 | J67: 0 | K67: =I67+J67 -> 0 | L67: =F67+I67 -> 5400000 | M67: =G67+J67 -> 0 | N67: =L67+M67 -> 5400000 | O67: =L67/C67*100 -> 33.333333 | P67: 0 | Q67: =N67/E67*100 -> 33.333333 | R67: =E67-N67 -> 10800000
A68: 5.1.02.02.01.0004 | B68: Honorarium Tim Pelaksana Kegiatan dan Sekretariat Tim Pelaksana Kegiatan | C68: 10750000 | D68: 0 | E68: =C68+D68 -> 10750000 | F68: 0 | G68: 0 | H68: =F68+G68 -> 0 | I68: 0 | J68: 0 | K68: =I68+J68 -> 0 | L68: =F68+I68 -> 0 | M68: =G68+J68 -> 0 | N68: =L68+M68 -> 0 | O68: =L68/C68*100 -> 0 | P68: 0 | Q68: =N68/E68*100 -> 0 | R68: =E68-N68 -> 10750000
A69: 5.1.02.04.01.0001 | B69: Belanja Perjalanan Dinas Biasa | C69: 1210200000 | D69: 0 | E69: =C69+D69 -> 1210200000 | F69: 853347627 | G69: 0 | H69: =F69+G69 -> 853347627 | I69: 123764114 | J69: 0 | K69: =I69+J69 -> 123764114 | L69: =F69+I69 -> 977111741 | M69: =G69+J69 -> 0 | N69: =L69+M69 -> 977111741 | O69: =L69/C69*100 -> 80.739691 | P69: 0 | Q69: =N69/E69*100 -> 80.739691 | R69: =E69-N69 -> 233088259
A70: Kegiatan (3.27.01.1.07) | B70: Pengadaan Barang Milik Daerah Penunjang Urusan Pemerintah Daerah | C70: =C71+C73 -> 1723434000 | D70: =D71+D73 -> 0 | E70: =E71+E73 -> 1723434000 | F70: =F71+F73 -> 1565442670 | G70: =G71+G73 -> 0 | H70: =H71+H73 -> 1565442670 | I70: =I71+I73 -> 0 | J70: =J71+J73 -> 0 | ... N70: =N71+N73 -> 1565442670 | O70: =L70/C70*100 -> 90.83276 | P70: 0 | Q70: =N70/E70*100 -> 90.83276 | R70: =E70-N70 -> 157991330
A71: 3.27.01.1.07.02 | B71: Pengadaan Kendaraan Dinas Operasional atau Lapangan | C71: =C72 -> 985220000 | D71: =D72 -> 0 | E71: =E72 -> 985220000 | F71: =F72 -> 850800000 | G71: =G72 -> 0 | H71: =H72 -> 850800000 | I71: =I72 -> 0 | J71: =J72 -> 0 | ... N71: =N72 -> 850800000 | O71: =L71/C71*100 -> 86.356347 | P71: 0 | Q71: =N71/E71*100 -> 86.356347 | R71: =E71-N71 -> 134420000
A72: 5.2.02.02.01.0001 | B72: Belanja Modal Kendaraan Dinas Bermotor Perorangan | C72: 985220000 | D72: 0 | E72: =C72+D72 -> 985220000 | F72: 850800000 | G72: 0 | H72: =F72+G72 -> 850800000 | I72: 0 | J72: 0 | K72: =I72+J72 -> 0 | L72: =F72+I72 -> 850800000 | M72: =G72+J72 -> 0 | N72: =L72+M72 -> 850800000 | O72: =L72/C72*100 -> 86.356347 | P72: 0 | Q72: =N72/E72*100 -> 86.356347 | R72: =E72-N72 -> 134420000
A73: 3.27.01.1.07.10 | B73: Pengadaan Sarana dan Prasarana Gedung Kantor atau Bangunan Lainnya | C73: =SUM(C74:C85) -> 738214000 | D73: =SUM(D74:D85) -> 0 | E73: =SUM(E74:E85) -> 738214000 | F73: =SUM(F74:F85) -> 714642670 | G73: =SUM(G74:G85) -> 0 | H73: =SUM(H74:H85) -> 714642670 | I73: =SUM(I74:I85) -> 0 | J73: =SUM(J74:J85) -> 0 | ... N73: =SUM(N74:N85) -> 714642670 | O73: =L73/C73*100 -> 96.806979 | P73: 0 | Q73: =N73/E73*100 -> 96.806979 | R73: =E73-N73 -> 23571330
A74: 5.2.02.05.01.0001 | B74: Belanja Modal Mesin Ketik | C74: 3152400 | D74: 0 | E74: =C74+D74 -> 3152400 | F74: 3100000 | G74: 0 | H74: =F74+G74 -> 3100000 | I74: 0 | J74: 0 | K74: =I74+J74 -> 0 | L74: =F74+I74 -> 3100000 | M74: =G74+J74 -> 0 | N74: =L74+M74 -> 3100000 | O74: =L74/C74*100 -> 98.337774 | P74: 0 | Q74: =N74/E74*100 -> 98.337774 | R74: =E74-N74 -> 52400
A75: 5.2.02.05.01.0004 | B75: Belanja Modal Alat Penyimpan Perlengkapan Kantor | C75: 46081100 | D75: 0 | E75: =C75+D75 -> 46081100 | F75: 39434420 | G75: 0 | H75: =F75+G75 -> 39434420 | I75: 0 | J75: 0 | K75: =I75+J75 -> 0 | L75: =F75+I75 -> 39434420 | M75: =G75+J75 -> 0 | N75: =L75+M75 -> 39434420 | O75: =L75/C75*100 -> 85.576126 | P75: 0 | Q75: =N75/E75*100 -> 85.576126 | R75: =E75-N75 -> 6646680
A76: 5.2.02.05.01.0005 | B76: Belanja Modal Alat Kantor Lainnya | C76: 9356200 | D76: 0 | E76: =C76+D76 -> 9356200 | F76: 9250000 | G76: 0 | H76: =F76+G76 -> 9250000 | I76: 0 | J76: 0 | K76: =I76+J76 -> 0 | L76: =F76+I76 -> 9250000 | M76: =G76+J76 -> 0 | N76: =L76+M76 -> 9250000 | O76: =L76/C76*100 -> 98.864924 | P76: 0 | Q76: =N76/E76*100 -> 98.864924 | R76: =E76-N76 -> 106200
A77: 5.2.02.05.02.0001 | B77: Belanja Modal Mebel | C77: 90549600 | D77: 0 | E77: =C77+D77 -> 90549600 | F77: 90215250 | G77: 0 | H77: =F77+G77 -> 90215250 | I77: 0 | J77: 0 | K77: =I77+J77 -> 0 | L77: =F77+I77 -> 90215250 | M77: =G77+J77 -> 0 | N77: =L77+M77 -> 90215250 | O77: =L77/C77*100 -> 99.630755 | P77: 0 | Q77: =N77/E77*100 -> 99.630755 | R77: =E77-N77 -> 334350
A78: 5.2.02.05.02.0005 | B78: Belanja Modal Alat Dapur | C78: 11297000 | D78: 0 | E78: =C78+D78 -> 11297000 | F78: 11000000 | G78: 0 | H78: =F78+G78 -> 11000000 | I78: 0 | J78: 0 | K78: =I78+J78 -> 0 | L78: =F78+I78 -> 11000000 | M78: =G78+J78 -> 0 | N78: =L78+M78 -> 11000000 | O78: =L78/C78*100 -> 97.370983 | P78: 0 | Q78: =N78/E78*100 -> 97.370983 | R78: =E78-N78 -> 297000
A79: 5.2.02.05.02.0006 | B79: Belanja Modal Alat Rumah Tangga Lainnya (Home Use) | C79: 154089500 | D79: 0 | E79: =C79+D79 -> 154089500 | F79: 153168000 | G79: 0 | H79: =F79+G79 -> 153168000 | I79: 0 | J79: 0 | K79: =I79+J79 -> 0 | L79: =F79+I79 -> 153168000 | M79: =G79+J79 -> 0 | N79: =L79+M79 -> 153168000 | O79: =L79/C79*100 -> 99.401971 | P79: 0 | Q79: =N79/E79*100 -> 99.401971 | R79: =E79-N79 -> 921500
A80: 5.2.02.06.01.0001 | B80: Belanja Modal Peralatan Studio Audio | C80: 20788200 | D80: 0 | E80: =C80+D80 -> 20788200 | F80: 20025000 | G80: 0 | H80: =F80+G80 -> 20025000 | I80: 0 | J80: 0 | K80: =I80+J80 -> 0 | L80: =F80+I80 -> 20025000 | M80: =G80+J80 -> 0 | N80: =L80+M80 -> 20025000 | O80: =L80/C80*100 -> 96.328686 | P80: 0 | Q80: =N80/E80*100 -> 96.328686 | R80: =E80-N80 -> 763200
A81: 5.2.02.06.01.0002 | B81: Belanja Modal Peralatan Studio Video dan Film | C81: 25695500 | D81: 0 | E81: =C81+D81 -> 25695500 | F81: 25450000 | G81: 0 | H81: =F81+G81 -> 25450000 | I81: 0 | J81: 0 | K81: =I81+J81 -> 0 | L81: =F81+I81 -> 25450000 | M81: =G81+J81 -> 0 | N81: =L81+M81 -> 25450000 | O81: =L81/C81*100 -> 99.04458 | P81: 0 | Q81: =N81/E81*100 -> 99.04458 | R81: =E81-N81 -> 245500
A82: 5.2.02.06.02.0001 | B82: Belanja Modal Alat Komunikasi Telephone | C82: 19623700 | D82: 0 | E82: =C82+D82 -> 19623700 | F82: 18950000 | G82: 0 | H82: =F82+G82 -> 18950000 | I82: 0 | J82: 0 | K82: =I82+J82 -> 0 | L82: =F82+I82 -> 18950000 | M82: =G82+J82 -> 0 | N82: =L82+M82 -> 18950000 | O82: =L82/C82*100 -> 96.566906 | P82: 0 | Q82: =N82/E82*100 -> 96.566906 | R82: =E82-N82 -> 673700
A83: 5.2.02.10.01.0002 | B83: Belanja Modal Personal Computer | C83: 301778200 | D83: 0 | E83: =C83+D83 -> 301778200 | F83: 296700000 | G83: 0 | H83: =F83+G83 -> 296700000 | I83: 0 | J83: 0 | K83: =I83+J83 -> 0 | L83: =F83+I83 -> 296700000 | M83: =G83+J83 -> 0 | N83: =L83+M83 -> 296700000 | O83: =L83/C83*100 -> 98.317241 | P83: 0 | Q83: =N83/E83*100 -> 98.317241 | R83: =E83-N83 -> 5078200
A84: 5.2.02.10.02.0003 | B84: Belanja Modal Peralatan Personal Computer | C84: 33334000 | D84: 0 | E84: =C84+D84 -> 33334000 | F84: 29800000 | G84: 0 | H84: =F84+G84 -> 29800000 | I84: 0 | J84: 0 | K84: =I84+J84 -> 0 | L84: =F84+I84 -> 29800000 | M84: =G84+J84 -> 0 | N84: =L84+M84 -> 29800000 | O84: =L84/C84*100 -> 89.398212 | P84: 0 | Q84: =N84/E84*100 -> 89.398212 | R84: =E84-N84 -> 3534000
A85: 5.2.02.10.02.0005 | B85: Belanja Modal Peralatan Komputer Lainnya | C85: 22468600 | D85: 0 | E85: =C85+D85 -> 22468600 | F85: 17550000 | G85: 0 | H85: =F85+G85 -> 17550000 | I85: 0 | J85: 0 | K85: =I85+J85 -> 0 | L85: =F85+I85 -> 17550000 | M85: =G85+J85 -> 0 | N85: =L85+M85 -> 17550000 | O85: =L85/C85*100 -> 78.109005 | P85: 0 | Q85: =N85/E85*100 -> 78.109005 | R85: =E85-N85 -> 4918600
A86: Kegiatan (3.27.01.1.08) | B86: Penyediaan Jasa Penunjang Urusan Pemerintahan Daerah | C86: =C87+C89+C95+C97 -> 3572693200 | D86: =D87+D89+D95+D97 -> 0 | E86: =E87+E89+E95+E97 -> 3572693200 | F86: =F87+F89+F95+F97 -> 2221920585 | G86: =G87+G89+G95+G97 -> 0 | H86: =H87+H89+H95+H97 -> 2221920585 | I86: =I87+I89+I95+I97 -> 13820351 | J86: =J87+J89+J95+J97 -> 0 | ... N86: =N87+N89+N95+N97 -> 2235740936 | O86: =L86/C86*100 -> 62.578587 | P86: 0 | Q86: =N86/E86*100 -> 62.578587 | R86: =E86-N86 -> 1336952264
A87: 3.27.01.1.08.01 | B87: Penyediaan Jasa Surat Menyurat | C87: =C88 -> 31210000 | D87: =D88 -> 0 | E87: =E88 -> 31210000 | F87: =F88 -> 15000000 | G87: =G88 -> 0 | H87: =H88 -> 15000000 | I87: =I88 -> 0 | J87: =J88 -> 0 | ... N87: =N88 -> 15000000 | O87: =L87/C87*100 -> 48.061519 | P87: 0 | Q87: =N87/E87*100 -> 48.061519 | R87: =E87-N87 -> 16210000
A88: 5.1.02.01.01.0027 | B88: Belanja Alat/Bahan untuk Kegiatan Kantor-Benda Pos | C88: 31210000 | D88: 0 | E88: =C88+D88 -> 31210000 | F88: 15000000 | G88: 0 | H88: =F88+G88 -> 15000000 | I88: 0 | J88: 0 | K88: =I88+J88 -> 0 | L88: =F88+I88 -> 15000000 | M88: =G88+J88 -> 0 | N88: =L88+M88 -> 15000000 | O88: =L88/C88*100 -> 48.061519 | P88: 0 | Q88: =N88/E88*100 -> 48.061519 | R88: =E88-N88 -> 16210000
A89: 3.27.01.1.08.02 | B89: Penyediaan Jasa Komunikasi, Sumber Daya Air dan Listrik | C89: =SUM(C90:C94) -> 519730000 | D89: =SUM(D90:D94) -> 0 | E89: =SUM(E90:E94) -> 519730000 | F89: =SUM(F90:F94) -> 219233865 | G89: =SUM(G90:G94) -> 0 | H89: =SUM(H90:H94) -> 219233865 | I89: =SUM(I90:I94) -> 13820351 | J89: =SUM(J90:J94) -> 0 | ... N89: =SUM(N90:N94) -> 233054216 | O89: =L89/C89*100 -> 44.841401 | P89: 0 | Q89: =N89/E89*100 -> 44.841401 | R89: =E89-N89 -> 286675784
A90: 5.1.02.02.01.0041 | B90: Belanja Jasa Pemasangan Instalasi Telepon, Air, dan Listrik | C90: 2500000 | D90: 0 | E90: =C90+D90 -> 2500000 | F90: 0 | G90: 0 | H90: =F90+G90 -> 0 | I90: 0 | J90: 0 | K90: =I90+J90 -> 0 | L90: =F90+I90 -> 0 | M90: =G90+J90 -> 0 | N90: =L90+M90 -> 0 | O90: =L90/C90*100 -> 0 | P90: 0 | Q90: =N90/E90*100 -> 0 | R90: =E90-N90 -> 2500000
A91: 5.1.02.02.01.0059 | B91: Belanja Tagihan Telepon | C91: 1872000 | D91: 0 | E91: =C91+D91 -> 1872000 | F91: 308980 | G91: 0 | H91: =F91+G91 -> 308980 | I91: 0 | J91: 0 | K91: =I91+J91 -> 0 | L91: =F91+I91 -> 308980 | M91: =G91+J91 -> 0 | N91: =L91+M91 -> 308980 | O91: =L91/C91*100 -> 16.505342 | P91: 0 | Q91: =N91/E91*100 -> 16.505342 | R91: =E91-N91 -> 1563020
A92: 5.1.02.02.01.0060 | B92: Belanja Tagihan Air | C92: 33660000 | D92: 0 | E92: =C92+D92 -> 33660000 | F92: 22721881 | G92: 0 | H92: =F92+G92 -> 22721881 | I92: 0 | J92: 0 | K92: =I92+J92 -> 0 | L92: =F92+I92 -> 22721881 | M92: =G92+J92 -> 0 | N92: =L92+M92 -> 22721881 | O92: =L92/C92*100 -> 67.504103 | P92: 0 | Q92: =N92/E92*100 -> 67.504103 | R92: =E92-N92 -> 10938119
A93: 5.1.02.02.01.0061 | B93: Belanja Tagihan Listrik | C93: 163224000 | D93: 0 | E93: =C93+D93 -> 163224000 | F93: 86321363 | G93: 0 | H93: =F93+G93 -> 86321363 | I93: 13393001 | J93: 0 | K93: =I93+J93 -> 13393001 | L93: =F93+I93 -> 99714364 | M93: =G93+J93 -> 0 | N93: =L93+M93 -> 99714364 | O93: =L93/C93*100 -> 61.090504 | P93: 0 | Q93: =N93/E93*100 -> 61.090504 | R93: =E93-N93 -> 63509636
A94: 5.1.02.02.01.0063 | B94: Belanja Kawat/Faksimili/Internet/TV Berlangganan | C94: 318474000 | D94: 0 | E94: =C94+D94 -> 318474000 | F94: 109881641 | G94: 0 | H94: =F94+G94 -> 109881641 | I94: 427350 | J94: 0 | K94: =I94+J94 -> 427350 | L94: =F94+I94 -> 110308991 | M94: =G94+J94 -> 0 | N94: =L94+M94 -> 110308991 | O94: =L94/C94*100 -> 34.636734 | P94: 0 | Q94: =N94/E94*100 -> 34.636734 | R94: =E94-N94 -> 208165009
A95: 3.27.01.1.08.03 | B95: Penyediaan Jasa Peralatan dan Perlengkapan Kantor | C95: =SUM(C96:C96) -> 421440000 | D95: =SUM(D96:D96) -> 0 | E95: =SUM(E96:E96) -> 421440000 | F95: =SUM(F96:F96) -> 208620000 | G95: =SUM(G96:G96) -> 0 | H95: =SUM(H96:H96) -> 208620000 | I95: =SUM(I96:I96) -> 0 | J95: =SUM(J96:J96) -> 0 | ... N95: =SUM(N96:N96) -> 208620000 | O95: =L95/C95*100 -> 49.501708 | P95: 0 | Q95: =N95/E95*100 -> 49.501708 | R95: =E95-N95 -> 212820000
A96: 5.1.02.02.01.0030 | B96: Belanja Jasa Tenaga Kebersihan | C96: 421440000 | D96: 0 | E96: =C96+D96 -> 421440000 | F96: 208620000 | G96: 0 | H96: =F96+G96 -> 208620000 | I96: 0 | J96: 0 | K96: =I96+J96 -> 0 | L96: =F96+I96 -> 208620000 | M96: =G96+J96 -> 0 | N96: =L96+M96 -> 208620000 | O96: =L96/C96*100 -> 49.501708 | P96: 0 | Q96: =N96/E96*100 -> 49.501708 | R96: =E96-N96 -> 212820000
A97: 3.27.01.1.08.04 | B97: Penyediaan Jasa Pelayanan Umum Kantor | C97: =SUM(C98:C100) -> 2600313200 | D97: =SUM(D98:D100) -> 0 | E97: =SUM(E98:E100) -> 2600313200 | F97: =SUM(F98:F100) -> 1779066720 | G97: =SUM(G98:G100) -> 0 | H97: =SUM(H98:H100) -> 1779066720 | I97: =SUM(I98:I100) -> 0 | J97: =SUM(J98:J100) -> 0 | ... N97: =SUM(N98:N100) -> 1779066720 | O97: =L97/C97*100 -> 68.417401 | P97: 0 | Q97: =N97/E97*100 -> 68.417401 | R97: =E97-N97 -> 821246480
A98: 5.1.02.02.01.0026 | B98: Belanja Jasa Tenaga Administrasi | C98: 2375750000 | D98: 0 | E98: =C98+D98 -> 2375750000 | F98: 1633500000 | G98: 0 | H98: =F98+G98 -> 1633500000 | I98: 0 | J98: 0 | K98: =I98+J98 -> 0 | L98: =F98+I98 -> 1633500000 | M98: =G98+J98 -> 0 | N98: =L98+M98 -> 1633500000 | O98: =L98/C98*100 -> 68.757235 | P98: 0 | Q98: =N98/E98*100 -> 68.757235 | R98: =E98-N98 -> 742250000
A99: 5.1.02.02.02.0005 | B99: Belanja Iuran Jaminan Kesehatan bagi Non ASN | C99: 87720000 | D99: 0 | E99: =C99+D99 -> 87720000 | F99: 56862000 | G99: 0 | H99: =F99+G99 -> 56862000 | I99: 0 | J99: 0 | K99: =I99+J99 -> 0 | L99: =F99+I99 -> 56862000 | M99: =G99+J99 -> 0 | N99: =L99+M99 -> 56862000 | O99: =L99/C99*100 -> 64.822161 | P99: 0 | Q99: =N99/E99*100 -> 64.822161 | R99: =E99-N99 -> 30858000
A100: 5.1.02.02.02.0006 | B100: Belanja Iuran Jaminan Kecelakaan Kerja bagi Non ASN | C100: 136843200 | D100: 0 | E100: =C100+D100 -> 136843200 | F100: 88704720 | G100: 0 | H100: =F100+G100 -> 88704720 | I100: 0 | J100: 0 | K100: =I100+J100 -> 0 | L100: =F100+I100 -> 88704720 | M100: =G100+J100 -> 0 | N100: =L100+M100 -> 88704720 | O100: =L100/C100*100 -> 64.822161 | P100: 0 | Q100: =N100/E100*100 -> 64.822161 | R100: =E100-N100 -> 48138480
A101: Kegiatan (3.27.01.1.09) | B101: Pemeliharaan Barang Milik Daerah Penunjang Urusan Pemerintahan Daerah | C101: =C102+C106+C112 -> 1377285400 | D101: =D102+D106+D112 -> 0 | E101: =E102+E106+E112 -> 1377285400 | F101: =F102+F106+F112 -> 383546289 | G101: =G102+G106+G112 -> 0 | H101: =H102+H106+H112 -> 383546289 | I101: =I102+I106+I112 -> 95509540 | J101: =J102+J106+J112 -> 0 | ... N101: =N102+N106+N112 -> 479055829 | O101: =L101/C101*100 -> 34.782611 | P101: 0 | Q101: =N101/E101*100 -> 34.782611 | R101: =E101-N101 -> 898229571
A102: 3.27.01.1.09.02 | B102: Penyediaan Jasa Pemeliharaan, Biaya Pemeliharaan, Pajak dan Perizinan Kendaraan Dinas Operasional atau Lapangan | C102: =SUM(C103:C105) -> 309266600 | D102: =SUM(D103:D105) -> 0 | E102: =SUM(E103:E105) -> 309266600 | F102: =SUM(F103:F105) -> 135037429 | G102: =SUM(G103:G105) -> 0 | H102: =SUM(H103:H105) -> 135037429 | I102: =SUM(I103:I105) -> 12571450 | J102: =SUM(J103:J105) -> 0 | ... N102: =SUM(N103:N105) -> 147608879 | O102: =L102/C102*100 -> 47.728684 | P102: 0 | Q102: =N102/E102*100 -> 47.728684 | R102: =E102-N102 -> 161657721
A103: 5.1.02.01.01.0004 | B103: Belanja Bahan-Bahan Bakar dan Pelumas | C103: 113097600 | D103: 0 | E103: =C103+D103 -> 113097600 | F103: 46541800 | G103: 0 | H103: =F103+G103 -> 46541800 | I103: 0 | J103: 0 | K103: =I103+J103 -> 0 | L103: =F103+I103 -> 46541800 | M103: =G103+J103 -> 0 | N103: =L103+M103 -> 46541800 | O103: =L103/C103*100 -> 41.15189 | P103: 0 | Q103: =N103/E103*100 -> 41.15189 | R103: =E103-N103 -> 66555800
...
